PDS_VERSION_ID = PDS3
/* FILE DATA ELEMENTS */
RECORD_TYPE = STREAM
/* POINTERS TO DATA OBJECTS */
^COMPRESSED_FILE = "H1571_0004_SR3.JP2"
/* IDENTIFICATION DATA ELEMENTS */
DATA_SET_ID = "MEX-M-HRSC-5-REFDR-MAPPROJECTED-V3.0"
DATA_SET_NAME = "MARS EXPRESS HRSC MAP PROJECTED REFDR V3.0"
DETECTOR_ID = MEX_HRSC_SRC
EVENT_TYPE = "MARS-REGIONAL-MAPPING-Te-Fl-Eo"
INSTRUMENT_HOST_ID = MEX
INSTRUMENT_HOST_NAME = "MARS EXPRESS"
INSTRUMENT_ID = HRSC
INSTRUMENT_NAME = "HIGH RESOLUTION STEREO CAMERA"
MISSION_NAME = "MARS EXPRESS"
MISSION_PHASE_NAME = MR_Phase_6
PROCESSING_LEVEL_ID = 3
PRODUCT_CREATION_TIME = 2016-03-08T06:50:01.000Z
PRODUCT_ID = "H1571_0004_SR3.JP2"
RELEASE_ID = 0020
REVISION_ID = 0000
/* QUALITY DATA ELEMENTS */
DATA_QUALITY_ID = 1
DATA_QUALITY_DESC = "Data calculated based on original SPICE kernels"
/* TIME DATA ELEMENTS */
SPACECRAFT_CLOCK_START_COUNT = "1/0060969077.57286"
SPACECRAFT_CLOCK_STOP_COUNT = "1/0060969977.11390"
IMAGE_TIME = 2005-04-07T15:56:02.473Z
START_TIME = 2005-04-07T15:56:02.470Z
STOP_TIME = 2005-04-07T15:56:02.475Z
/* ORBITAL DATA ELEMENTS */
ASCENDING_NODE_LONGITUDE = 195.55
MAXIMUM_RESOLUTION = 5.064
FOOTPRINT_POINT_LATITUDE = (63.5897,63.5866,63.5841,63.5811,63.578 ,63.575,63.5727,63.5696,63.5637,63.5599 ,63.555,63.5511,63.5486,63.5451,63.541, 63.5368,63.5338,63.531,63.5275,63.5249, 63.5215,63.5189,63.5158,63.5119,63.5077 ,63.5051,63.5048,63.5045,63.5042, 63.5039,63.5036,63.5033,63.503,63.5028, 63.5025,63.5022,63.5019,63.5016,63.5013 ,63.501,63.5007,63.5004,63.5001,63.4998 ,63.4995,63.4992,63.4989,63.4986, 63.4983,63.498,63.4977,63.5023,63.5053, 63.5076,63.5116,63.5144,63.5171,63.5213 ,63.5245,63.5277,63.5326,63.5372,63.541 ,63.5437,63.547,63.5494,63.5531,63.5575 ,63.5613,63.5648,63.5685,63.5713, 63.5757,63.581,63.5841,63.5844,63.5847, 63.585,63.5853,63.5856,63.5859,63.5862, 63.5865,63.5867,63.587,63.5873,63.5875, 63.5878,63.5881,63.5884,63.5887,63.589, 63.5893,63.5896,63.5899,63.5902,63.5905 ,63.5908,63.5911,63.5897)
FOOTPRINT_POINT_LONGITUDE = (10.2483,10.2489,10.2493,10.2499, 10.2505,10.2511,10.2515,10.2521,10.2532 ,10.2539,10.2549,10.2556,10.2561, 10.2567,10.2575,10.2583,10.2589,10.2594 ,10.26,10.2605,10.2612,10.2617,10.2623, 10.263,10.2638,10.2641,10.2564,10.2487, 10.241,10.2333,10.2256,10.2179,10.2102, 10.2025,10.1948,10.1871,10.1794,10.1717 ,10.1641,10.1564,10.1487,10.141,10.1333 ,10.1256,10.1162,10.1085,10.1008, 10.0932,10.0855,10.0778,10.0701,10.068, 10.0674,10.067,10.0662,10.0657,10.0651, 10.0643,10.0637,10.0631,10.0621,10.0612 ,10.0605,10.0599,10.0593,10.0588, 10.0581,10.0572,10.0565,10.0558,10.0551 ,10.0545,10.0537,10.0526,10.058,10.0658 ,10.0735,10.0812,10.0889,10.0966, 10.1043,10.112,10.1197,10.1253,10.133, 10.1407,10.1484,10.1561,10.1639,10.1716 ,10.1793,10.187,10.1947,10.2024,10.2102 ,10.2179,10.2256,10.2333,10.241, 10.2483)
ORBIT_NUMBER = 1571
ORBITAL_ECCENTRICITY = 0.566
ORBITAL_INCLINATION = 86.59
ORBITAL_SEMIMAJOR_AXIS = 8532.74
PERIAPSIS_ALTITUDE = 328.45
PERIAPSIS_ARGUMENT_ANGLE = 83.68
PERIAPSIS_TIME = 2005-04-07T15:47:27.000Z
SPACECRAFT_ORIENTATION = (0.0,1.0,0.0)
^MEX_ORIENTATION_DESC = "MEX_ORIENTATION_DESC.TXT"
SPACECRAFT_POINTING_MODE = ACROSSTRACK
^MEX_POINTING_DESC = "MEX_POINTING_DESC.TXT"
RIGHT_ASCENSION = -1e+32
DECLINATION = -1e+32
OFFSET_ANGLE = 0.5
SPACECRAFT_SOLAR_DISTANCE = 2.16474e+08
TARGET_NAME = MARS
/* CAMERA DATA ELEMENTS */
BUFFER_MODE_ID = BUFFER_8
EXPOSURE_DURATION = 5.04
INST_CMPRS_NAME = NONE
INST_CMPRS_RATIO = 1.0
INST_CMPRS_QUALITY = -2147483648
INST_CMPRS_QUANTZ_TBL_ID = -2147483648
INSTRUMENT_TEMPERATURE = 11.2121
MISSING_FRAMES = 0
START_BIT = 0
/* RADIOMETRIC DATA ELEMENTS */
BANDWIDTH = 250.0
CENTER_FILTER_WAVELENGTH = 600.0
RADIANCE_OFFSET = -9.99e+31
RADIANCE_SCALING_FACTOR = -9.99e+31
REFLECTANCE_SCALING_FACTOR = -9.99e+31
MEX:REFLECTANCE_OFFSET = -9.99e+31
/* IMAGE OBJECT DEFINITIONS */
OBJECT = IMAGE
  INTERCHANGE_FORMAT = BINARY
  LINES = 1183
  LINE_SAMPLES = 1197
  SAMPLE_TYPE = UNSIGNED_INTEGER
  SAMPLE_BITS = 8
  BANDS = 1
  BAND_STORAGE_TYPE = BAND_SEQUENTIAL
  MAXIMUM = 4235
  MEAN = 3871.71
  MINIMUM = 3302
  STANDARD_DEVIATION = 85.1354
END_OBJECT = IMAGE
/* MAP OBJECT DEFINITIONS */
OBJECT = IMAGE_MAP_PROJECTION
  ^DATA_SET_MAP_PROJECTION_CATALOG= "DSMAP.CAT"
  A_AXIS_RADIUS = 3396.19
  B_AXIS_RADIUS = 3396.19
  C_AXIS_RADIUS = 3396.19
  CENTER_LATITUDE = 0.0
  CENTER_LONGITUDE = 10.0
  COORDINATE_SYSTEM_NAME = PLANETOGRAPHIC
  COORDINATE_SYSTEM_TYPE = "BODY-FIXED ROTATING"
  EASTERNMOST_LONGITUDE = 10.2641
  FIRST_STANDARD_PARALLEL = "N/A"
  LINE_FIRST_PIXEL = 1
  LINE_LAST_PIXEL = 1183
  LINE_PROJECTION_OFFSET = 752494.0
  MAP_PROJECTION_ROTATION = 0.0
  MAP_PROJECTION_TYPE = SINUSOIDAL
  MAP_RESOLUTION = 11854.9393024378
  MAP_SCALE = 0.005
  MAXIMUM_LATITUDE = 63.5911
  MINIMUM_LATITUDE = 63.4977
  POSITIVE_LONGITUDE_DIRECTION = EAST
  REFERENCE_LATITUDE = "N/A"
  REFERENCE_LONGITUDE = "N/A"
  SAMPLE_FIRST_PIXEL = 1
  SAMPLE_LAST_PIXEL = 1197
  SAMPLE_PROJECTION_OFFSET = -440.0
  SECOND_STANDARD_PARALLEL = "N/A"
  WESTERNMOST_LONGITUDE = 10.0526
END_OBJECT = IMAGE_MAP_PROJECTION
/* The JPEG2000 image data file associated with this label. */
OBJECT = COMPRESSED_FILE
  FILE_NAME = "H1571_0004_SR3.JP2"
  RECORD_TYPE = UNDEFINED
  FILE_RECORDS = UNK
  ENCODING_TYPE = "JP2"
  INTERCHANGE_FORMAT = BINARY
  UNCOMPRESSED_FILE_NAME = "H1571_0004_SR3.IMG"
  REQUIRED_STORAGE_BYTES = "1435203"
  ^DESCRIPTION = "JP2INFO.TXT"
END_OBJECT = COMPRESSED_FILE
END
