PDS_VERSION_ID = PDS3
/* FILE DATA ELEMENTS */
RECORD_TYPE = STREAM
/* POINTERS TO DATA OBJECTS */
^COMPRESSED_FILE = "H1571_0006_SR3.JP2"
/* IDENTIFICATION DATA ELEMENTS */
DATA_SET_ID = "MEX-M-HRSC-5-REFDR-MAPPROJECTED-V3.0"
DATA_SET_NAME = "MARS EXPRESS HRSC MAP PROJECTED REFDR V3.0"
DETECTOR_ID = MEX_HRSC_SRC
EVENT_TYPE = "MARS-REGIONAL-MAPPING-Te-Fl-Eo"
INSTRUMENT_HOST_ID = MEX
INSTRUMENT_HOST_NAME = "MARS EXPRESS"
INSTRUMENT_ID = HRSC
INSTRUMENT_NAME = "HIGH RESOLUTION STEREO CAMERA"
MISSION_NAME = "MARS EXPRESS"
MISSION_PHASE_NAME = MR_Phase_6
PROCESSING_LEVEL_ID = 3
PRODUCT_CREATION_TIME = 2016-03-08T06:50:01.000Z
PRODUCT_ID = "H1571_0006_SR3.JP2"
RELEASE_ID = 0020
REVISION_ID = 0000
/* QUALITY DATA ELEMENTS */
DATA_QUALITY_ID = 1
DATA_QUALITY_DESC = "Data calculated based on original SPICE kernels"
/* TIME DATA ELEMENTS */
SPACECRAFT_CLOCK_START_COUNT = "1/0060969077.57286"
SPACECRAFT_CLOCK_STOP_COUNT = "1/0060969977.11390"
IMAGE_TIME = 2005-04-07T15:56:05.198Z
START_TIME = 2005-04-07T15:56:05.195Z
STOP_TIME = 2005-04-07T15:56:05.200Z
/* ORBITAL DATA ELEMENTS */
ASCENDING_NODE_LONGITUDE = 195.55
MAXIMUM_RESOLUTION = 5.084
FOOTPRINT_POINT_LATITUDE = (63.4308,63.4269,63.4213,63.4168, 63.4124,63.4097,63.4058,63.4033,63.4008 ,63.3972,63.3948,63.3925,63.3895, 63.3861,63.3826,63.3785,63.376,63.3734, 63.3704,63.3666,63.3637,63.3604,63.3562 ,63.3515,63.3464,63.3461,63.3458, 63.3455,63.3452,63.345,63.3447,63.3444, 63.3441,63.3438,63.3435,63.3432,63.3429 ,63.3427,63.3424,63.3421,63.3418, 63.3415,63.3412,63.3409,63.3406,63.3403 ,63.34,63.3397,63.3394,63.3391,63.3418, 63.3462,63.3487,63.3526,63.3567,63.3619 ,63.3665,63.3699,63.3735,63.3758, 63.3785,63.3825,63.3854,63.39,63.3925, 63.3966,63.3995,63.4036,63.4073,63.4106 ,63.4134,63.4169,63.4196,63.4244, 63.4258,63.4261,63.4264,63.4267,63.427, 63.4273,63.4276,63.4279,63.4282,63.4285 ,63.4288,63.4291,63.4294,63.4297,63.43, 63.4303,63.4306,63.4309,63.4312,63.4315 ,63.4317,63.432,63.4323,63.4326,63.4329 ,63.4308)
FOOTPRINT_POINT_LONGITUDE = (10.278,10.2788,10.2798,10.2807,10.2815 ,10.282,10.2827,10.2832,10.2836,10.2843 ,10.2848,10.2852,10.2857,10.2864,10.287 ,10.2878,10.2883,10.2887,10.2893,10.29, 10.2905,10.2911,10.2919,10.2928,10.2916 ,10.2839,10.2762,10.2686,10.2609, 10.2532,10.2455,10.2378,10.2301,10.2225 ,10.2148,10.2071,10.1992,10.1915, 10.1838,10.1762,10.1685,10.1608,10.1531 ,10.1455,10.1378,10.1301,10.1227,10.115 ,10.1074,10.0997,10.0982,10.0975,10.097 ,10.0963,10.0955,10.0945,10.0936, 10.0929,10.0922,10.0918,10.0913,10.0905 ,10.0899,10.0891,10.0886,10.0878, 10.0872,10.0864,10.0857,10.0851,10.0845 ,10.0839,10.0833,10.0824,10.0862, 10.0939,10.1016,10.1093,10.117,10.1264, 10.1341,10.1418,10.1495,10.1572,10.1649 ,10.1726,10.1803,10.188,10.1957,10.2034 ,10.2111,10.2189,10.2266,10.2343,10.242 ,10.2497,10.2574,10.2651,10.2728, 10.278)
ORBIT_NUMBER = 1571
ORBITAL_ECCENTRICITY = 0.566
ORBITAL_INCLINATION = 86.59
ORBITAL_SEMIMAJOR_AXIS = 8532.74
PERIAPSIS_ALTITUDE = 328.45
PERIAPSIS_ARGUMENT_ANGLE = 83.68
PERIAPSIS_TIME = 2005-04-07T15:47:27.000Z
SPACECRAFT_ORIENTATION = (0.0,1.0,0.0)
^MEX_ORIENTATION_DESC = "MEX_ORIENTATION_DESC.TXT"
SPACECRAFT_POINTING_MODE = ACROSSTRACK
^MEX_POINTING_DESC = "MEX_POINTING_DESC.TXT"
RIGHT_ASCENSION = -1e+32
DECLINATION = -1e+32
OFFSET_ANGLE = 0.5
SPACECRAFT_SOLAR_DISTANCE = 2.16474e+08
TARGET_NAME = MARS
/* CAMERA DATA ELEMENTS */
BUFFER_MODE_ID = BUFFER_8
EXPOSURE_DURATION = 5.04
INST_CMPRS_NAME = NONE
INST_CMPRS_RATIO = 1.0
INST_CMPRS_QUALITY = -2147483648
INST_CMPRS_QUANTZ_TBL_ID = -2147483648
INSTRUMENT_TEMPERATURE = 11.2121
MISSING_FRAMES = 0
START_BIT = 0
/* RADIOMETRIC DATA ELEMENTS */
BANDWIDTH = 250.0
CENTER_FILTER_WAVELENGTH = 600.0
RADIANCE_OFFSET = -9.99e+31
RADIANCE_SCALING_FACTOR = -9.99e+31
REFLECTANCE_SCALING_FACTOR = -9.99e+31
MEX:REFLECTANCE_OFFSET = -9.99e+31
/* IMAGE OBJECT DEFINITIONS */
OBJECT = IMAGE
  INTERCHANGE_FORMAT = BINARY
  LINES = 1187
  LINE_SAMPLES = 1201
  SAMPLE_TYPE = UNSIGNED_INTEGER
  SAMPLE_BITS = 8
  BANDS = 1
  BAND_STORAGE_TYPE = BAND_SEQUENTIAL
  MAXIMUM = 4201
  MEAN = 3873.05
  MINIMUM = 3265
  STANDARD_DEVIATION = 72.5978
END_OBJECT = IMAGE
/* MAP OBJECT DEFINITIONS */
OBJECT = IMAGE_MAP_PROJECTION
  ^DATA_SET_MAP_PROJECTION_CATALOG= "DSMAP.CAT"
  A_AXIS_RADIUS = 3396.19
  B_AXIS_RADIUS = 3396.19
  C_AXIS_RADIUS = 3396.19
  CENTER_LATITUDE = 0.0
  CENTER_LONGITUDE = 10.0
  COORDINATE_SYSTEM_NAME = PLANETOGRAPHIC
  COORDINATE_SYSTEM_TYPE = "BODY-FIXED ROTATING"
  EASTERNMOST_LONGITUDE = 10.2928
  FIRST_STANDARD_PARALLEL = "N/A"
  LINE_FIRST_PIXEL = 1
  LINE_LAST_PIXEL = 1187
  LINE_PROJECTION_OFFSET = 750627.0
  MAP_PROJECTION_ROTATION = 0.0
  MAP_PROJECTION_TYPE = SINUSOIDAL
  MAP_RESOLUTION = 11854.9393024378
  MAP_SCALE = 0.005
  MAXIMUM_LATITUDE = 63.4329
  MINIMUM_LATITUDE = 63.3391
  POSITIVE_LONGITUDE_DIRECTION = EAST
  REFERENCE_LATITUDE = "N/A"
  REFERENCE_LONGITUDE = "N/A"
  SAMPLE_FIRST_PIXEL = 1
  SAMPLE_LAST_PIXEL = 1201
  SAMPLE_PROJECTION_OFFSET = -598.0
  SECOND_STANDARD_PARALLEL = "N/A"
  WESTERNMOST_LONGITUDE = 10.0824
END_OBJECT = IMAGE_MAP_PROJECTION
/* The JPEG2000 image data file associated with this label. */
OBJECT = COMPRESSED_FILE
  FILE_NAME = "H1571_0006_SR3.JP2"
  RECORD_TYPE = UNDEFINED
  FILE_RECORDS = UNK
  ENCODING_TYPE = "JP2"
  INTERCHANGE_FORMAT = BINARY
  UNCOMPRESSED_FILE_NAME = "H1571_0006_SR3.IMG"
  REQUIRED_STORAGE_BYTES = "1444803"
  ^DESCRIPTION = "JP2INFO.TXT"
END_OBJECT = COMPRESSED_FILE
END
