PDS_VERSION_ID = PDS3
/* FILE DATA ELEMENTS */
RECORD_TYPE = STREAM
/* POINTERS TO DATA OBJECTS */
^COMPRESSED_FILE = "H1571_0007_SR3.JP2"
/* IDENTIFICATION DATA ELEMENTS */
DATA_SET_ID = "MEX-M-HRSC-5-REFDR-MAPPROJECTED-V3.0"
DATA_SET_NAME = "MARS EXPRESS HRSC MAP PROJECTED REFDR V3.0"
DETECTOR_ID = MEX_HRSC_SRC
EVENT_TYPE = "MARS-REGIONAL-MAPPING-Te-Fl-Eo"
INSTRUMENT_HOST_ID = MEX
INSTRUMENT_HOST_NAME = "MARS EXPRESS"
INSTRUMENT_ID = HRSC
INSTRUMENT_NAME = "HIGH RESOLUTION STEREO CAMERA"
MISSION_NAME = "MARS EXPRESS"
MISSION_PHASE_NAME = MR_Phase_6
PROCESSING_LEVEL_ID = 3
PRODUCT_CREATION_TIME = 2016-03-08T06:50:01.000Z
PRODUCT_ID = "H1571_0007_SR3.JP2"
RELEASE_ID = 0020
REVISION_ID = 0000
/* QUALITY DATA ELEMENTS */
DATA_QUALITY_ID = 1
DATA_QUALITY_DESC = "Data calculated based on original SPICE kernels"
/* TIME DATA ELEMENTS */
SPACECRAFT_CLOCK_START_COUNT = "1/0060969077.57286"
SPACECRAFT_CLOCK_STOP_COUNT = "1/0060969977.11390"
IMAGE_TIME = 2005-04-07T15:56:06.288Z
START_TIME = 2005-04-07T15:56:06.285Z
STOP_TIME = 2005-04-07T15:56:06.290Z
/* ORBITAL DATA ELEMENTS */
ASCENDING_NODE_LONGITUDE = 195.55
MAXIMUM_RESOLUTION = 5.092
FOOTPRINT_POINT_LATITUDE = (63.367,63.3626,63.3572,63.3534,63.3484 ,63.3444,63.3397,63.337,63.3336,63.3307 ,63.3267,63.3239,63.3195,63.3162, 63.3112,63.3087,63.3062,63.3022,63.3, 63.2972,63.2928,63.2882,63.2851,63.283, 63.2827,63.2824,63.2821,63.2819,63.2816 ,63.2813,63.281,63.2807,63.2804,63.2801 ,63.2798,63.2796,63.2793,63.279,63.2787 ,63.2784,63.2781,63.2778,63.2775, 63.2772,63.2769,63.2766,63.2763,63.276, 63.2764,63.2792,63.282,63.2865,63.2903, 63.293,63.2973,63.3022,63.3053,63.3076, 63.311,63.3137,63.3188,63.322,63.3252, 63.3279,63.3302,63.3337,63.336,63.3399, 63.3432,63.3457,63.3493,63.3531,63.3558 ,63.3588,63.3626,63.3629,63.3632, 63.3635,63.3638,63.364,63.3643,63.3646, 63.3649,63.3652,63.3655,63.3658,63.3661 ,63.3664,63.3667,63.367,63.3673,63.3676 ,63.3679,63.3681,63.3684,63.3687,63.369 ,63.3693,63.3696,63.367)
FOOTPRINT_POINT_LONGITUDE = (10.2899,10.2907,10.2917,10.2924, 10.2933,10.2941,10.2947,10.2952,10.2958 ,10.2964,10.2971,10.2976,10.2984, 10.2991,10.3,10.3004,10.3009,10.3016, 10.302,10.3026,10.3034,10.3042,10.3048, 10.3031,10.2954,10.2877,10.28,10.2723, 10.2646,10.257,10.2493,10.2416,10.2339, 10.2263,10.2186,10.2109,10.2032,10.1956 ,10.1879,10.1802,10.1725,10.1649, 10.1572,10.1495,10.1418,10.1342,10.1265 ,10.1172,10.1105,10.11,10.1095,10.1086, 10.1079,10.1074,10.1066,10.1056,10.105, 10.1046,10.1039,10.1034,10.1024,10.1018 ,10.1012,10.1007,10.1002,10.0996, 10.0991,10.0984,10.0979,10.0974,10.0967 ,10.096,10.0955,10.0949,10.0982,10.1059 ,10.1136,10.1213,10.1288,10.1365, 10.1442,10.1519,10.1596,10.1673,10.175, 10.1827,10.1904,10.1981,10.2058,10.2135 ,10.2212,10.2289,10.2366,10.2443,10.252 ,10.2597,10.2674,10.2751,10.2828, 10.2899)
ORBIT_NUMBER = 1571
ORBITAL_ECCENTRICITY = 0.566
ORBITAL_INCLINATION = 86.59
ORBITAL_SEMIMAJOR_AXIS = 8532.74
PERIAPSIS_ALTITUDE = 328.45
PERIAPSIS_ARGUMENT_ANGLE = 83.68
PERIAPSIS_TIME = 2005-04-07T15:47:27.000Z
SPACECRAFT_ORIENTATION = (0.0,1.0,0.0)
^MEX_ORIENTATION_DESC = "MEX_ORIENTATION_DESC.TXT"
SPACECRAFT_POINTING_MODE = ACROSSTRACK
^MEX_POINTING_DESC = "MEX_POINTING_DESC.TXT"
RIGHT_ASCENSION = -1e+32
DECLINATION = -1e+32
OFFSET_ANGLE = 0.5
SPACECRAFT_SOLAR_DISTANCE = 2.16474e+08
TARGET_NAME = MARS
/* CAMERA DATA ELEMENTS */
BUFFER_MODE_ID = BUFFER_8
EXPOSURE_DURATION = 5.04
INST_CMPRS_NAME = NONE
INST_CMPRS_RATIO = 1.0
INST_CMPRS_QUALITY = -2147483648
INST_CMPRS_QUANTZ_TBL_ID = -2147483648
INSTRUMENT_TEMPERATURE = 11.2121
MISSING_FRAMES = 0
START_BIT = 0
/* RADIOMETRIC DATA ELEMENTS */
BANDWIDTH = 250.0
CENTER_FILTER_WAVELENGTH = 600.0
RADIANCE_OFFSET = -9.99e+31
RADIANCE_SCALING_FACTOR = -9.99e+31
REFLECTANCE_SCALING_FACTOR = -9.99e+31
MEX:REFLECTANCE_OFFSET = -9.99e+31
/* IMAGE OBJECT DEFINITIONS */
OBJECT = IMAGE
  INTERCHANGE_FORMAT = BINARY
  LINES = 1187
  LINE_SAMPLES = 1201
  SAMPLE_TYPE = UNSIGNED_INTEGER
  SAMPLE_BITS = 8
  BANDS = 1
  BAND_STORAGE_TYPE = BAND_SEQUENTIAL
  MAXIMUM = 4192
  MEAN = 3873.56
  MINIMUM = 3311
  STANDARD_DEVIATION = 71.0424
END_OBJECT = IMAGE
/* MAP OBJECT DEFINITIONS */
OBJECT = IMAGE_MAP_PROJECTION
  ^DATA_SET_MAP_PROJECTION_CATALOG= "DSMAP.CAT"
  A_AXIS_RADIUS = 3396.19
  B_AXIS_RADIUS = 3396.19
  C_AXIS_RADIUS = 3396.19
  CENTER_LATITUDE = 0.0
  CENTER_LONGITUDE = 10.0
  COORDINATE_SYSTEM_NAME = PLANETOGRAPHIC
  COORDINATE_SYSTEM_TYPE = "BODY-FIXED ROTATING"
  EASTERNMOST_LONGITUDE = 10.3048
  FIRST_STANDARD_PARALLEL = "N/A"
  LINE_FIRST_PIXEL = 1
  LINE_LAST_PIXEL = 1187
  LINE_PROJECTION_OFFSET = 749880.0
  MAP_PROJECTION_ROTATION = 0.0
  MAP_PROJECTION_TYPE = SINUSOIDAL
  MAP_RESOLUTION = 11854.9393024378
  MAP_SCALE = 0.005
  MAXIMUM_LATITUDE = 63.3696
  MINIMUM_LATITUDE = 63.276
  POSITIVE_LONGITUDE_DIRECTION = EAST
  REFERENCE_LATITUDE = "N/A"
  REFERENCE_LONGITUDE = "N/A"
  SAMPLE_FIRST_PIXEL = 1
  SAMPLE_LAST_PIXEL = 1201
  SAMPLE_PROJECTION_OFFSET = -662.0
  SECOND_STANDARD_PARALLEL = "N/A"
  WESTERNMOST_LONGITUDE = 10.0949
END_OBJECT = IMAGE_MAP_PROJECTION
/* The JPEG2000 image data file associated with this label. */
OBJECT = COMPRESSED_FILE
  FILE_NAME = "H1571_0007_SR3.JP2"
  RECORD_TYPE = UNDEFINED
  FILE_RECORDS = UNK
  ENCODING_TYPE = "JP2"
  INTERCHANGE_FORMAT = BINARY
  UNCOMPRESSED_FILE_NAME = "H1571_0007_SR3.IMG"
  REQUIRED_STORAGE_BYTES = "1444803"
  ^DESCRIPTION = "JP2INFO.TXT"
END_OBJECT = COMPRESSED_FILE
END
