PDS_VERSION_ID = PDS3
/* FILE DATA ELEMENTS */
RECORD_TYPE = STREAM
/* POINTERS TO DATA OBJECTS */
^COMPRESSED_FILE = "H1572_0000_S23.JP2"
/* IDENTIFICATION DATA ELEMENTS */
DATA_SET_ID = "MEX-M-HRSC-5-REFDR-MAPPROJECTED-V3.0"
DATA_SET_NAME = "MARS EXPRESS HRSC MAP PROJECTED REFDR V3.0"
DETECTOR_ID = MEX_HRSC_S2
EVENT_TYPE = "MARS-REGIONAL-MAPPING-Vo-Te"
INSTRUMENT_HOST_ID = MEX
INSTRUMENT_HOST_NAME = "MARS EXPRESS"
INSTRUMENT_ID = HRSC
INSTRUMENT_NAME = "HIGH RESOLUTION STEREO CAMERA"
MISSION_NAME = "MARS EXPRESS"
MISSION_PHASE_NAME = MR_Phase_6
PROCESSING_LEVEL_ID = 3
PRODUCT_CREATION_TIME = 2016-03-08T06:50:01.000Z
PRODUCT_ID = "H1572_0000_S23.JP2"
RELEASE_ID = 0020
REVISION_ID = 0000
/* QUALITY DATA ELEMENTS */
DATA_QUALITY_ID = 1
DATA_QUALITY_DESC = "Data calculated based on original SPICE kernels"
/* TIME DATA ELEMENTS */
SPACECRAFT_CLOCK_START_COUNT = "1/0060993277.57270"
SPACECRAFT_CLOCK_STOP_COUNT = "1/0060994158.35958"
START_TIME = 2005-04-07T22:34:45.317Z
STOP_TIME = 2005-04-07T22:49:17.499Z
/* ORBITAL DATA ELEMENTS */
ASCENDING_NODE_LONGITUDE = 195.53
MAXIMUM_RESOLUTION = 32.3
FOOTPRINT_POINT_LATITUDE = (78.6556,76.9164,75.5778,74.2348,72.862 ,71.4452,69.981,68.4729,66.9077,66.1051 ,65.2878,64.4553,63.6067,62.7414, 61.8592,60.9589,60.0396,59.0987,58.1397 ,57.158,56.1557,55.1269,54.0746,52.997, 51.8928,50.7588,49.5968,48.4033,47.1732 ,45.9081,44.6119,43.2834,41.9125, 40.4868,39.0315,37.5095,35.94,35.1409, 34.3237,33.4953,32.6546,31.7951,30.9275 ,30.0653,29.2105,28.3609,27.5167, 26.6783,26.67,26.6441,26.6146,27.444, 28.2786,29.1196,29.9664,30.8189,31.6777 ,32.5288,33.3679,34.194,34.9997,35.7963 ,37.3493,38.8516,40.3093,41.722,43.0922 ,44.4165,45.7074,46.965,48.1906,49.3817 ,50.5406,51.6675,52.7664,53.84,54.8883, 55.9118,56.9099,57.8863,58.8398,59.774, 60.6882,61.5833,62.4606,63.3209,64.164, 64.991,65.8025,66.5991,67.3813,68.9045, 70.3741,71.7951,73.1706,74.5023,75.4892 ,76.7941,77.7636,78.6556)
FOOTPRINT_POINT_LONGITUDE = (261.183,264.549,265.9,267.012,267.96, 268.782,269.503,270.135,270.697,270.954 ,271.198,271.428,271.645,271.852, 272.047,272.233,272.409,272.577,272.736 ,272.887,273.03,273.167,273.296,273.419 ,273.536,273.646,273.751,273.85,273.944 ,274.033,274.115,274.19,274.261,274.33, 274.39,274.449,274.503,274.527,274.55, 274.571,274.591,274.61,274.627,274.642, 274.656,274.668,274.678,274.687,273.048 ,270.792,269.829,269.875,269.918, 269.958,269.996,270.031,270.063,270.092 ,270.118,270.14,270.157,270.172,270.191 ,270.197,270.193,270.177,270.149, 270.109,270.06,270.002,269.934,269.856, 269.768,269.668,269.558,269.439,269.309 ,269.168,269.017,268.853,268.678,268.49 ,268.29,268.077,267.85,267.608,267.35, 267.075,266.782,266.471,266.138,265.406 ,264.57,263.614,262.511,261.233,260.118 ,258.35,256.763,261.183)
ORBIT_NUMBER = 1572
ORBITAL_ECCENTRICITY = 0.566
ORBITAL_INCLINATION = 86.59
ORBITAL_SEMIMAJOR_AXIS = 8534.04
PERIAPSIS_ALTITUDE = 328.01
PERIAPSIS_ARGUMENT_ANGLE = 83.53
PERIAPSIS_TIME = 2005-04-07T22:30:53.000Z
SPACECRAFT_ORIENTATION = (0.0,1.0,0.0)
^MEX_ORIENTATION_DESC = "MEX_ORIENTATION_DESC.TXT"
SPACECRAFT_POINTING_MODE = ACROSSTRACK
^MEX_POINTING_DESC = "MEX_POINTING_DESC.TXT"
RIGHT_ASCENSION = -1e+32
DECLINATION = -1e+32
OFFSET_ANGLE = -0.45
SPACECRAFT_SOLAR_DISTANCE = 2.16426e+08
TARGET_NAME = MARS
/* CAMERA DATA ELEMENTS */
DETECTOR_TEMPERATURE = 18.5744
FOCAL_PLANE_TEMPERATURE = 8.1755
INST_CMPRS_NAME = "DISCRETE COSINE TRANSFORMATION (DCT)"
INST_CMPRS_RATIO = 11.1015
INST_CMPRS_QUALITY = 0
INST_CMPRS_QUANTZ_TBL_ID = 0
INSTRUMENT_TEMPERATURE = 10.4184
LENS_TEMPERATURE = 8.5833
MACROPIXEL_SIZE = 2
MISSING_FRAMES = 0
PIXEL_SUBSAMPLING_FLAG = N
SIGNAL_CHAIN_ID = 1
/* RADIOMETRIC DATA ELEMENTS */
BANDWIDTH = 178.0
CENTER_FILTER_WAVELENGTH = 679.0
RADIANCE_OFFSET = 0.744154
RADIANCE_SCALING_FACTOR = 0.0417841
REFLECTANCE_SCALING_FACTOR = 0.00103647
MEX:REFLECTANCE_OFFSET = 0.0184591
/* IMAGE OBJECT DEFINITIONS */
OBJECT = IMAGE
  INTERCHANGE_FORMAT = BINARY
  LINES = 123242
  LINE_SAMPLES = 15863
  SAMPLE_TYPE = UNSIGNED_INTEGER
  SAMPLE_BITS = 8
  BANDS = 1
  BAND_STORAGE_TYPE = BAND_SEQUENTIAL
  MAXIMUM = 358
  MEAN = 142.493
  MINIMUM = 19
  STANDARD_DEVIATION = 70.1341
END_OBJECT = IMAGE
/* MAP OBJECT DEFINITIONS */
OBJECT = IMAGE_MAP_PROJECTION
  ^DATA_SET_MAP_PROJECTION_CATALOG= "DSMAP.CAT"
  A_AXIS_RADIUS = 3396.0
  B_AXIS_RADIUS = 3396.0
  C_AXIS_RADIUS = 3396.0
  CENTER_LATITUDE = 0.0
  CENTER_LONGITUDE = 271.0
  COORDINATE_SYSTEM_NAME = PLANETOGRAPHIC
  COORDINATE_SYSTEM_TYPE = "BODY-FIXED ROTATING"
  EASTERNMOST_LONGITUDE = 274.687
  FIRST_STANDARD_PARALLEL = "N/A"
  LINE_FIRST_PIXEL = 1
  LINE_LAST_PIXEL = 123242
  LINE_PROJECTION_OFFSET = 186312.25
  MAP_PROJECTION_ROTATION = 0.0
  MAP_PROJECTION_TYPE = SINUSOIDAL
  MAP_RESOLUTION = 2370.85521546667
  MAP_SCALE = 0.025
  MAXIMUM_LATITUDE = 78.65560000000001
  MINIMUM_LATITUDE = 26.6146
  POSITIVE_LONGITUDE_DIRECTION = EAST
  REFERENCE_LATITUDE = "N/A"
  REFERENCE_LONGITUDE = "N/A"
  SAMPLE_FIRST_PIXEL = 1
  SAMPLE_LAST_PIXEL = 15863
  SAMPLE_PROJECTION_OFFSET = 7266.25
  SECOND_STANDARD_PARALLEL = "N/A"
  WESTERNMOST_LONGITUDE = 256.763
END_OBJECT = IMAGE_MAP_PROJECTION
/* The JPEG2000 image data file associated with this label. */
OBJECT = COMPRESSED_FILE
  FILE_NAME = "H1572_0000_S23.JP2"
  RECORD_TYPE = UNDEFINED
  FILE_RECORDS = UNK
  ENCODING_TYPE = "JP2"
  INTERCHANGE_FORMAT = BINARY
  UNCOMPRESSED_FILE_NAME = "H1572_0000_S23.IMG"
  REQUIRED_STORAGE_BYTES = "1955035435"
  ^DESCRIPTION = "JP2INFO.TXT"
END_OBJECT = COMPRESSED_FILE
END
