PDS_VERSION_ID = PDS3
/* FILE DATA ELEMENTS */
RECORD_TYPE = STREAM
/* POINTERS TO DATA OBJECTS */
^COMPRESSED_FILE = "H1572_0022_SR3.JP2"
/* IDENTIFICATION DATA ELEMENTS */
DATA_SET_ID = "MEX-M-HRSC-5-REFDR-MAPPROJECTED-V3.0"
DATA_SET_NAME = "MARS EXPRESS HRSC MAP PROJECTED REFDR V3.0"
DETECTOR_ID = MEX_HRSC_SRC
EVENT_TYPE = "MARS-REGIONAL-MAPPING-Vo-Te"
INSTRUMENT_HOST_ID = MEX
INSTRUMENT_HOST_NAME = "MARS EXPRESS"
INSTRUMENT_ID = HRSC
INSTRUMENT_NAME = "HIGH RESOLUTION STEREO CAMERA"
MISSION_NAME = "MARS EXPRESS"
MISSION_PHASE_NAME = MR_Phase_6
PROCESSING_LEVEL_ID = 3
PRODUCT_CREATION_TIME = 2016-03-08T06:50:01.000Z
PRODUCT_ID = "H1572_0022_SR3.JP2"
RELEASE_ID = 0020
REVISION_ID = 0000
/* QUALITY DATA ELEMENTS */
DATA_QUALITY_ID = 1
DATA_QUALITY_DESC = "Data calculated based on original SPICE kernels"
/* TIME DATA ELEMENTS */
SPACECRAFT_CLOCK_START_COUNT = "1/0060993277.57270"
SPACECRAFT_CLOCK_STOP_COUNT = "1/0060994158.35958"
IMAGE_TIME = 2005-04-07T22:39:20.833Z
START_TIME = 2005-04-07T22:39:20.831Z
STOP_TIME = 2005-04-07T22:39:20.836Z
/* ORBITAL DATA ELEMENTS */
ASCENDING_NODE_LONGITUDE = 195.53
MAXIMUM_RESOLUTION = 4.997
FOOTPRINT_POINT_LATITUDE = (64.0763,64.074,64.0704,64.0672,64.0644 ,64.0602,64.0578,64.0542,64.0517, 64.0482,64.0437,64.0398,64.0356,64.0309 ,64.0278,64.0255,64.0222,64.0198, 64.0173,64.0135,64.0112,64.0078,64.0031 ,64.0002,63.9957,63.993,63.9926,63.9922 ,63.9918,63.9914,63.9909,63.9905, 63.9901,63.9897,63.9893,63.9888,63.9884 ,63.988,63.9876,63.9872,63.9867,63.9863 ,63.9859,63.9855,63.9851,63.9846, 63.9842,63.9838,63.9834,63.9829,63.9825 ,63.9866,63.9896,63.9934,63.9957, 63.9981,64.0026,64.0053,64.0087,64.0131 ,64.0171,64.0195,64.0233,64.0269, 64.0314,64.0361,64.0389,64.0431,64.0457 ,64.0487,64.0523,64.0556,64.0592, 64.0644,64.0674,64.0678,64.0682,64.0687 ,64.0691,64.0695,64.0699,64.0704, 64.0708,64.0712,64.0716,64.072,64.0725, 64.0729,64.0733,64.0737,64.0741,64.0746 ,64.075,64.0754,64.0758,64.0762,64.0766 ,64.0771,64.0775,64.0763)
FOOTPRINT_POINT_LONGITUDE = (269.535,269.535,269.536,269.537, 269.538,269.539,269.54,269.541,269.542, 269.543,269.544,269.545,269.546,269.548 ,269.548,269.549,269.55,269.551,269.552 ,269.553,269.553,269.554,269.556, 269.557,269.558,269.558,269.551,269.543 ,269.535,269.528,269.52,269.512,269.505 ,269.497,269.489,269.481,269.474, 269.466,269.458,269.451,269.443,269.435 ,269.428,269.42,269.412,269.405,269.397 ,269.389,269.382,269.374,269.366, 269.362,269.361,269.36,269.359,269.359, 269.357,269.356,269.355,269.354,269.353 ,269.352,269.351,269.35,269.349,269.347 ,269.346,269.345,269.345,269.344, 269.343,269.342,269.341,269.339,269.344 ,269.352,269.36,269.367,269.375,269.383 ,269.391,269.398,269.406,269.414, 269.421,269.429,269.437,269.445,269.452 ,269.46,269.468,269.475,269.483,269.491 ,269.499,269.506,269.514,269.522, 269.529,269.535)
ORBIT_NUMBER = 1572
ORBITAL_ECCENTRICITY = 0.566
ORBITAL_INCLINATION = 86.59
ORBITAL_SEMIMAJOR_AXIS = 8534.04
PERIAPSIS_ALTITUDE = 328.01
PERIAPSIS_ARGUMENT_ANGLE = 83.53
PERIAPSIS_TIME = 2005-04-07T22:30:53.000Z
SPACECRAFT_ORIENTATION = (0.0,1.0,0.0)
^MEX_ORIENTATION_DESC = "MEX_ORIENTATION_DESC.TXT"
SPACECRAFT_POINTING_MODE = ACROSSTRACK
^MEX_POINTING_DESC = "MEX_POINTING_DESC.TXT"
RIGHT_ASCENSION = -1e+32
DECLINATION = -1e+32
OFFSET_ANGLE = -0.45
SPACECRAFT_SOLAR_DISTANCE = 2.16426e+08
TARGET_NAME = MARS
/* CAMERA DATA ELEMENTS */
BUFFER_MODE_ID = DIRECT
EXPOSURE_DURATION = 5.04
INST_CMPRS_NAME = NONE
INST_CMPRS_RATIO = 1.0
INST_CMPRS_QUALITY = -2147483648
INST_CMPRS_QUANTZ_TBL_ID = -2147483648
INSTRUMENT_TEMPERATURE = 11.2121
MISSING_FRAMES = 0
START_BIT = 0
/* RADIOMETRIC DATA ELEMENTS */
BANDWIDTH = 250.0
CENTER_FILTER_WAVELENGTH = 600.0
RADIANCE_OFFSET = -9.99e+31
RADIANCE_SCALING_FACTOR = -9.99e+31
REFLECTANCE_SCALING_FACTOR = -9.99e+31
MEX:REFLECTANCE_OFFSET = -9.99e+31
/* IMAGE OBJECT DEFINITIONS */
OBJECT = IMAGE
  INTERCHANGE_FORMAT = BINARY
  LINES = 1206
  LINE_SAMPLES = 1222
  SAMPLE_TYPE = UNSIGNED_INTEGER
  SAMPLE_BITS = 8
  BANDS = 1
  BAND_STORAGE_TYPE = BAND_SEQUENTIAL
  MAXIMUM = 3819
  MEAN = 3488.92
  MINIMUM = 0
  STANDARD_DEVIATION = 127.386
END_OBJECT = IMAGE
/* MAP OBJECT DEFINITIONS */
OBJECT = IMAGE_MAP_PROJECTION
  ^DATA_SET_MAP_PROJECTION_CATALOG= "DSMAP.CAT"
  A_AXIS_RADIUS = 3396.19
  B_AXIS_RADIUS = 3396.19
  C_AXIS_RADIUS = 3396.19
  CENTER_LATITUDE = 0.0
  CENTER_LONGITUDE = 269.0
  COORDINATE_SYSTEM_NAME = PLANETOGRAPHIC
  COORDINATE_SYSTEM_TYPE = "BODY-FIXED ROTATING"
  EASTERNMOST_LONGITUDE = 269.558
  FIRST_STANDARD_PARALLEL = "N/A"
  LINE_FIRST_PIXEL = 1
  LINE_LAST_PIXEL = 1206
  LINE_PROJECTION_OFFSET = 758194.0
  MAP_PROJECTION_ROTATION = 0.0
  MAP_PROJECTION_TYPE = SINUSOIDAL
  MAP_RESOLUTION = 11854.9393024378
  MAP_SCALE = 0.005
  MAXIMUM_LATITUDE = 64.0775
  MINIMUM_LATITUDE = 63.9825
  POSITIVE_LONGITUDE_DIRECTION = EAST
  REFERENCE_LATITUDE = "N/A"
  REFERENCE_LONGITUDE = "N/A"
  SAMPLE_FIRST_PIXEL = 1
  SAMPLE_LAST_PIXEL = 1222
  SAMPLE_PROJECTION_OFFSET = -1519.0
  SECOND_STANDARD_PARALLEL = "N/A"
  WESTERNMOST_LONGITUDE = 269.339
END_OBJECT = IMAGE_MAP_PROJECTION
/* The JPEG2000 image data file associated with this label. */
OBJECT = COMPRESSED_FILE
  FILE_NAME = "H1572_0022_SR3.JP2"
  RECORD_TYPE = UNDEFINED
  FILE_RECORDS = UNK
  ENCODING_TYPE = "JP2"
  INTERCHANGE_FORMAT = BINARY
  UNCOMPRESSED_FILE_NAME = "H1572_0022_SR3.IMG"
  REQUIRED_STORAGE_BYTES = "1493284"
  ^DESCRIPTION = "JP2INFO.TXT"
END_OBJECT = COMPRESSED_FILE
END
