PDS_VERSION_ID = PDS3
/* FILE DATA ELEMENTS */
RECORD_TYPE = STREAM
/* POINTERS TO DATA OBJECTS */
^COMPRESSED_FILE = "H1572_0025_SR3.JP2"
/* IDENTIFICATION DATA ELEMENTS */
DATA_SET_ID = "MEX-M-HRSC-5-REFDR-MAPPROJECTED-V3.0"
DATA_SET_NAME = "MARS EXPRESS HRSC MAP PROJECTED REFDR V3.0"
DETECTOR_ID = MEX_HRSC_SRC
EVENT_TYPE = "MARS-REGIONAL-MAPPING-Vo-Te"
INSTRUMENT_HOST_ID = MEX
INSTRUMENT_HOST_NAME = "MARS EXPRESS"
INSTRUMENT_ID = HRSC
INSTRUMENT_NAME = "HIGH RESOLUTION STEREO CAMERA"
MISSION_NAME = "MARS EXPRESS"
MISSION_PHASE_NAME = MR_Phase_6
PROCESSING_LEVEL_ID = 3
PRODUCT_CREATION_TIME = 2016-03-08T06:50:01.000Z
PRODUCT_ID = "H1572_0025_SR3.JP2"
RELEASE_ID = 0020
REVISION_ID = 0000
/* QUALITY DATA ELEMENTS */
DATA_QUALITY_ID = 1
DATA_QUALITY_DESC = "Data calculated based on original SPICE kernels"
/* TIME DATA ELEMENTS */
SPACECRAFT_CLOCK_START_COUNT = "1/0060993277.57270"
SPACECRAFT_CLOCK_STOP_COUNT = "1/0060994158.35958"
IMAGE_TIME = 2005-04-07T22:39:24.648Z
START_TIME = 2005-04-07T22:39:24.646Z
STOP_TIME = 2005-04-07T22:39:24.651Z
/* ORBITAL DATA ELEMENTS */
ASCENDING_NODE_LONGITUDE = 195.53
MAXIMUM_RESOLUTION = 5.026
FOOTPRINT_POINT_LATITUDE = (63.8537,63.8486,63.8438,63.841,63.8379 ,63.834,63.8316,63.8283,63.8233,63.8197 ,63.8171,63.813,63.8102,63.8059,63.8032 ,63.7992,63.7947,63.7919,63.788,63.7856 ,63.7826,63.7791,63.7741,63.7717, 63.7713,63.771,63.7706,63.7702,63.7698, 63.7693,63.7689,63.7685,63.7681,63.7677 ,63.7673,63.7668,63.7664,63.766,63.7656 ,63.7652,63.7648,63.7643,63.7639, 63.7635,63.7631,63.7626,63.7622,63.7618 ,63.7614,63.7635,63.7665,63.7692, 63.7725,63.7771,63.7801,63.7845,63.7868 ,63.7894,63.7937,63.7967,63.8013, 63.8055,63.8083,63.8126,63.8181,63.8215 ,63.8242,63.8282,63.8316,63.8342, 63.8368,63.8398,63.8437,63.8465,63.8469 ,63.8473,63.8477,63.8481,63.8486,63.849 ,63.8494,63.8498,63.8502,63.8507, 63.8511,63.8515,63.8519,63.8523,63.8527 ,63.8532,63.8536,63.854,63.8544,63.8548 ,63.8552,63.8557,63.8561,63.8565, 63.8569,63.8537)
FOOTPRINT_POINT_LONGITUDE = (269.598,269.599,269.6,269.601,269.602, 269.603,269.604,269.605,269.606,269.607 ,269.608,269.609,269.61,269.611,269.612 ,269.613,269.614,269.615,269.616, 269.616,269.617,269.618,269.62,269.62, 269.612,269.607,269.599,269.591,269.584 ,269.576,269.568,269.561,269.553, 269.545,269.538,269.53,269.522,269.514, 269.507,269.499,269.491,269.484,269.476 ,269.468,269.461,269.453,269.445, 269.438,269.43,269.424,269.424,269.423, 269.422,269.421,269.42,269.419,269.418, 269.417,269.416,269.415,269.414,269.413 ,269.412,269.411,269.409,269.408, 269.407,269.406,269.405,269.405,269.404 ,269.403,269.402,269.403,269.411, 269.419,269.426,269.434,269.442,269.449 ,269.457,269.465,269.472,269.48,269.488 ,269.496,269.503,269.511,269.519, 269.526,269.534,269.542,269.549,269.557 ,269.565,269.572,269.58,269.588,269.596 ,269.598)
ORBIT_NUMBER = 1572
ORBITAL_ECCENTRICITY = 0.566
ORBITAL_INCLINATION = 86.59
ORBITAL_SEMIMAJOR_AXIS = 8534.04
PERIAPSIS_ALTITUDE = 328.01
PERIAPSIS_ARGUMENT_ANGLE = 83.53
PERIAPSIS_TIME = 2005-04-07T22:30:53.000Z
SPACECRAFT_ORIENTATION = (0.0,1.0,0.0)
^MEX_ORIENTATION_DESC = "MEX_ORIENTATION_DESC.TXT"
SPACECRAFT_POINTING_MODE = ACROSSTRACK
^MEX_POINTING_DESC = "MEX_POINTING_DESC.TXT"
RIGHT_ASCENSION = -1e+32
DECLINATION = -1e+32
OFFSET_ANGLE = -0.45
SPACECRAFT_SOLAR_DISTANCE = 2.16426e+08
TARGET_NAME = MARS
/* CAMERA DATA ELEMENTS */
BUFFER_MODE_ID = DIRECT
EXPOSURE_DURATION = 5.04
INST_CMPRS_NAME = NONE
INST_CMPRS_RATIO = 1.0
INST_CMPRS_QUALITY = -2147483648
INST_CMPRS_QUANTZ_TBL_ID = -2147483648
INSTRUMENT_TEMPERATURE = 11.2121
MISSING_FRAMES = 0
START_BIT = 0
/* RADIOMETRIC DATA ELEMENTS */
BANDWIDTH = 250.0
CENTER_FILTER_WAVELENGTH = 600.0
RADIANCE_OFFSET = -9.99e+31
RADIANCE_SCALING_FACTOR = -9.99e+31
REFLECTANCE_SCALING_FACTOR = -9.99e+31
MEX:REFLECTANCE_OFFSET = -9.99e+31
/* IMAGE OBJECT DEFINITIONS */
OBJECT = IMAGE
  INTERCHANGE_FORMAT = BINARY
  LINES = 1211
  LINE_SAMPLES = 1214
  SAMPLE_TYPE = UNSIGNED_INTEGER
  SAMPLE_BITS = 8
  BANDS = 1
  BAND_STORAGE_TYPE = BAND_SEQUENTIAL
  MAXIMUM = 3843
  MEAN = 3519.38
  MINIMUM = 0
  STANDARD_DEVIATION = 128.035
END_OBJECT = IMAGE
/* MAP OBJECT DEFINITIONS */
OBJECT = IMAGE_MAP_PROJECTION
  ^DATA_SET_MAP_PROJECTION_CATALOG= "DSMAP.CAT"
  A_AXIS_RADIUS = 3396.19
  B_AXIS_RADIUS = 3396.19
  C_AXIS_RADIUS = 3396.19
  CENTER_LATITUDE = 0.0
  CENTER_LONGITUDE = 270.0
  COORDINATE_SYSTEM_NAME = PLANETOGRAPHIC
  COORDINATE_SYSTEM_TYPE = "BODY-FIXED ROTATING"
  EASTERNMOST_LONGITUDE = 269.62
  FIRST_STANDARD_PARALLEL = "N/A"
  LINE_FIRST_PIXEL = 1
  LINE_LAST_PIXEL = 1211
  LINE_PROJECTION_OFFSET = 755590.0
  MAP_PROJECTION_ROTATION = 0.0
  MAP_PROJECTION_TYPE = SINUSOIDAL
  MAP_RESOLUTION = 11854.9393024378
  MAP_SCALE = 0.005
  MAXIMUM_LATITUDE = 63.8569
  MINIMUM_LATITUDE = 63.7614
  POSITIVE_LONGITUDE_DIRECTION = EAST
  REFERENCE_LATITUDE = "N/A"
  REFERENCE_LONGITUDE = "N/A"
  SAMPLE_FIRST_PIXEL = 1
  SAMPLE_LAST_PIXEL = 1214
  SAMPLE_PROJECTION_OFFSET = 3342.0
  SECOND_STANDARD_PARALLEL = "N/A"
  WESTERNMOST_LONGITUDE = 269.402
END_OBJECT = IMAGE_MAP_PROJECTION
/* The JPEG2000 image data file associated with this label. */
OBJECT = COMPRESSED_FILE
  FILE_NAME = "H1572_0025_SR3.JP2"
  RECORD_TYPE = UNDEFINED
  FILE_RECORDS = UNK
  ENCODING_TYPE = "JP2"
  INTERCHANGE_FORMAT = BINARY
  UNCOMPRESSED_FILE_NAME = "H1572_0025_SR3.IMG"
  REQUIRED_STORAGE_BYTES = "1489578"
  ^DESCRIPTION = "JP2INFO.TXT"
END_OBJECT = COMPRESSED_FILE
END
