PDS_VERSION_ID = PDS3
/* FILE DATA ELEMENTS */
RECORD_TYPE = STREAM
/* POINTERS TO DATA OBJECTS */
^COMPRESSED_FILE = "H1572_0042_SR3.JP2"
/* IDENTIFICATION DATA ELEMENTS */
DATA_SET_ID = "MEX-M-HRSC-5-REFDR-MAPPROJECTED-V3.0"
DATA_SET_NAME = "MARS EXPRESS HRSC MAP PROJECTED REFDR V3.0"
DETECTOR_ID = MEX_HRSC_SRC
EVENT_TYPE = "MARS-REGIONAL-MAPPING-Vo-Te"
INSTRUMENT_HOST_ID = MEX
INSTRUMENT_HOST_NAME = "MARS EXPRESS"
INSTRUMENT_ID = HRSC
INSTRUMENT_NAME = "HIGH RESOLUTION STEREO CAMERA"
MISSION_NAME = "MARS EXPRESS"
MISSION_PHASE_NAME = MR_Phase_6
PROCESSING_LEVEL_ID = 3
PRODUCT_CREATION_TIME = 2016-03-08T06:50:01.000Z
PRODUCT_ID = "H1572_0042_SR3.JP2"
RELEASE_ID = 0020
REVISION_ID = 0000
/* QUALITY DATA ELEMENTS */
DATA_QUALITY_ID = 1
DATA_QUALITY_DESC = "Data calculated based on original SPICE kernels"
/* TIME DATA ELEMENTS */
SPACECRAFT_CLOCK_START_COUNT = "1/0060993277.57270"
SPACECRAFT_CLOCK_STOP_COUNT = "1/0060994158.35958"
IMAGE_TIME = 2005-04-07T22:40:08.795Z
START_TIME = 2005-04-07T22:40:08.793Z
STOP_TIME = 2005-04-07T22:40:08.798Z
/* ORBITAL DATA ELEMENTS */
ASCENDING_NODE_LONGITUDE = 195.53
MAXIMUM_RESOLUTION = 5.361
FOOTPRINT_POINT_LATITUDE = (61.3239,61.3198,61.3157,61.3112, 61.3081,61.3051,61.3027,61.2999,61.2972 ,61.2931,61.2901,61.2855,61.2814,61.278 ,61.2748,61.2702,61.2663,61.2632, 61.2608,61.2572,61.2525,61.2485,61.2459 ,61.2411,61.2382,61.2343,61.2339, 61.2335,61.2331,61.2327,61.2323,61.232, 61.2316,61.2312,61.2308,61.2304,61.23, 61.2296,61.2293,61.2289,61.2285,61.2281 ,61.2277,61.2273,61.2269,61.2265, 61.2262,61.2258,61.2254,61.225,61.2257, 61.2307,61.2346,61.2375,61.2414,61.2444 ,61.247,61.2509,61.2539,61.2578,61.2626 ,61.2654,61.2693,61.2727,61.2778, 61.2835,61.2871,61.2905,61.2932,61.297, 61.3011,61.3041,61.3075,61.3121,61.3157 ,61.3163,61.3167,61.3171,61.3175, 61.3178,61.3182,61.3186,61.319,61.3194, 61.3198,61.3202,61.3206,61.3209,61.3213 ,61.3217,61.3221,61.3225,61.3229, 61.3232,61.3236,61.324,61.3244,61.3248, 61.3252,61.3239)
FOOTPRINT_POINT_LONGITUDE = (270.227,270.228,270.229,270.23,270.231 ,270.232,270.232,270.233,270.233, 270.234,270.235,270.236,270.237,270.238 ,270.238,270.239,270.24,270.241,270.241 ,270.242,270.243,270.244,270.245, 270.246,270.246,270.245,270.237,270.23, 270.222,270.215,270.207,270.2,270.192, 270.185,270.177,270.17,270.162,270.155, 270.147,270.14,270.132,270.125,270.117, 270.109,270.102,270.094,270.087,270.079 ,270.072,270.064,270.055,270.054, 270.053,270.053,270.052,270.051,270.051 ,270.05,270.049,270.048,270.047,270.047 ,270.046,270.045,270.044,270.042, 270.042,270.041,270.04,270.039,270.038, 270.038,270.037,270.036,270.037,270.049 ,270.056,270.064,270.071,270.079, 270.086,270.094,270.101,270.109,270.116 ,270.124,270.131,270.139,270.146, 270.154,270.162,270.169,270.177,270.184 ,270.192,270.199,270.207,270.214, 270.222,270.227)
ORBIT_NUMBER = 1572
ORBITAL_ECCENTRICITY = 0.566
ORBITAL_INCLINATION = 86.59
ORBITAL_SEMIMAJOR_AXIS = 8534.04
PERIAPSIS_ALTITUDE = 328.01
PERIAPSIS_ARGUMENT_ANGLE = 83.53
PERIAPSIS_TIME = 2005-04-07T22:30:53.000Z
SPACECRAFT_ORIENTATION = (0.0,1.0,0.0)
^MEX_ORIENTATION_DESC = "MEX_ORIENTATION_DESC.TXT"
SPACECRAFT_POINTING_MODE = ACROSSTRACK
^MEX_POINTING_DESC = "MEX_POINTING_DESC.TXT"
RIGHT_ASCENSION = -1e+32
DECLINATION = -1e+32
OFFSET_ANGLE = -0.45
SPACECRAFT_SOLAR_DISTANCE = 2.16426e+08
TARGET_NAME = MARS
/* CAMERA DATA ELEMENTS */
BUFFER_MODE_ID = DIRECT
EXPOSURE_DURATION = 5.04
INST_CMPRS_NAME = NONE
INST_CMPRS_RATIO = 1.0
INST_CMPRS_QUALITY = -2147483648
INST_CMPRS_QUANTZ_TBL_ID = -2147483648
INSTRUMENT_TEMPERATURE = 11.2121
MISSING_FRAMES = 0
START_BIT = 0
/* RADIOMETRIC DATA ELEMENTS */
BANDWIDTH = 250.0
CENTER_FILTER_WAVELENGTH = 600.0
RADIANCE_OFFSET = -9.99e+31
RADIANCE_SCALING_FACTOR = -9.99e+31
REFLECTANCE_SCALING_FACTOR = -9.99e+31
MEX:REFLECTANCE_OFFSET = -9.99e+31
/* IMAGE OBJECT DEFINITIONS */
OBJECT = IMAGE
  INTERCHANGE_FORMAT = BINARY
  LINES = 1268
  LINE_SAMPLES = 1282
  SAMPLE_TYPE = UNSIGNED_INTEGER
  SAMPLE_BITS = 8
  BANDS = 1
  BAND_STORAGE_TYPE = BAND_SEQUENTIAL
  MAXIMUM = 3948
  MEAN = 3627.13
  MINIMUM = 0
  STANDARD_DEVIATION = 133.788
END_OBJECT = IMAGE
/* MAP OBJECT DEFINITIONS */
OBJECT = IMAGE_MAP_PROJECTION
  ^DATA_SET_MAP_PROJECTION_CATALOG= "DSMAP.CAT"
  A_AXIS_RADIUS = 3396.19
  B_AXIS_RADIUS = 3396.19
  C_AXIS_RADIUS = 3396.19
  CENTER_LATITUDE = 0.0
  CENTER_LONGITUDE = 270.0
  COORDINATE_SYSTEM_NAME = PLANETOGRAPHIC
  COORDINATE_SYSTEM_TYPE = "BODY-FIXED ROTATING"
  EASTERNMOST_LONGITUDE = 270.246
  FIRST_STANDARD_PARALLEL = "N/A"
  LINE_FIRST_PIXEL = 1
  LINE_LAST_PIXEL = 1268
  LINE_PROJECTION_OFFSET = 725722.0
  MAP_PROJECTION_ROTATION = 0.0
  MAP_PROJECTION_TYPE = SINUSOIDAL
  MAP_RESOLUTION = 11854.9393024378
  MAP_SCALE = 0.005
  MAXIMUM_LATITUDE = 61.3252
  MINIMUM_LATITUDE = 61.225
  POSITIVE_LONGITUDE_DIRECTION = EAST
  REFERENCE_LATITUDE = "N/A"
  REFERENCE_LONGITUDE = "N/A"
  SAMPLE_FIRST_PIXEL = 1
  SAMPLE_LAST_PIXEL = 1282
  SAMPLE_PROJECTION_OFFSET = 8.0
  SECOND_STANDARD_PARALLEL = "N/A"
  WESTERNMOST_LONGITUDE = 270.036
END_OBJECT = IMAGE_MAP_PROJECTION
/* The JPEG2000 image data file associated with this label. */
OBJECT = COMPRESSED_FILE
  FILE_NAME = "H1572_0042_SR3.JP2"
  RECORD_TYPE = UNDEFINED
  FILE_RECORDS = UNK
  ENCODING_TYPE = "JP2"
  INTERCHANGE_FORMAT = BINARY
  UNCOMPRESSED_FILE_NAME = "H1572_0042_SR3.IMG"
  REQUIRED_STORAGE_BYTES = "1644806"
  ^DESCRIPTION = "JP2INFO.TXT"
END_OBJECT = COMPRESSED_FILE
END
