PDS_VERSION_ID = PDS3
/* FILE DATA ELEMENTS */
RECORD_TYPE = STREAM
/* POINTERS TO DATA OBJECTS */
^COMPRESSED_FILE = "H1572_0055_SR3.JP2"
/* IDENTIFICATION DATA ELEMENTS */
DATA_SET_ID = "MEX-M-HRSC-5-REFDR-MAPPROJECTED-V3.0"
DATA_SET_NAME = "MARS EXPRESS HRSC MAP PROJECTED REFDR V3.0"
DETECTOR_ID = MEX_HRSC_SRC
EVENT_TYPE = "MARS-REGIONAL-MAPPING-Vo-Te"
INSTRUMENT_HOST_ID = MEX
INSTRUMENT_HOST_NAME = "MARS EXPRESS"
INSTRUMENT_ID = HRSC
INSTRUMENT_NAME = "HIGH RESOLUTION STEREO CAMERA"
MISSION_NAME = "MARS EXPRESS"
MISSION_PHASE_NAME = MR_Phase_6
PROCESSING_LEVEL_ID = 3
PRODUCT_CREATION_TIME = 2016-03-08T06:50:01.000Z
PRODUCT_ID = "H1572_0055_SR3.JP2"
RELEASE_ID = 0020
REVISION_ID = 0000
/* QUALITY DATA ELEMENTS */
DATA_QUALITY_ID = 1
DATA_QUALITY_DESC = "Data calculated based on original SPICE kernels"
/* TIME DATA ELEMENTS */
SPACECRAFT_CLOCK_START_COUNT = "1/0060993277.57270"
SPACECRAFT_CLOCK_STOP_COUNT = "1/0060994158.35958"
IMAGE_TIME = 2005-04-07T22:43:13.558Z
START_TIME = 2005-04-07T22:43:13.555Z
STOP_TIME = 2005-04-07T22:43:13.560Z
/* ORBITAL DATA ELEMENTS */
ASCENDING_NODE_LONGITUDE = 195.53
MAXIMUM_RESOLUTION = 6.997
FOOTPRINT_POINT_LATITUDE = (51.2466,51.2416,51.2361,51.2327,51.229 ,51.226,51.2221,51.2164,51.2114,51.2047 ,51.201,51.1962,51.1932,51.1889,51.1848 ,51.1788,51.1734,51.1668,51.1629, 51.1572,51.15,51.144,51.1401,51.1346, 51.1317,51.1301,51.1299,51.1296,51.1293 ,51.129,51.1288,51.1285,51.1282,51.128, 51.1277,51.1274,51.1272,51.1268,51.1265 ,51.1263,51.126,51.1257,51.1254,51.1252 ,51.1249,51.1246,51.1243,51.1241, 51.1238,51.1235,51.1267,51.1309,51.1361 ,51.1393,51.1439,51.1498,51.1576,51.164 ,51.1693,51.1754,51.179,51.1831,51.1864 ,51.1912,51.1947,51.1997,51.2045,51.21, 51.2141,51.2199,51.2247,51.2283,51.2337 ,51.2386,51.2426,51.2429,51.2432, 51.2435,51.2437,51.244,51.2443,51.2446, 51.2448,51.2451,51.2454,51.2457,51.2459 ,51.2462,51.2466,51.2469,51.2471, 51.2474,51.2477,51.248,51.2482,51.2485, 51.2488,51.249,51.2493,51.2466)
FOOTPRINT_POINT_LONGITUDE = (271.716,271.716,271.717,271.717, 271.717,271.718,271.718,271.718,271.719 ,271.719,271.72,271.72,271.721,271.721, 271.721,271.722,271.722,271.723,271.723 ,271.724,271.725,271.725,271.725, 271.726,271.726,271.722,271.715,271.707 ,271.7,271.692,271.685,271.677,271.67, 271.662,271.654,271.647,271.639,271.63, 271.622,271.615,271.607,271.6,271.592, 271.585,271.577,271.57,271.562,271.555, 271.547,271.539,271.534,271.534,271.533 ,271.533,271.533,271.532,271.531, 271.531,271.53,271.53,271.529,271.529, 271.529,271.528,271.528,271.527,271.527 ,271.526,271.526,271.525,271.525, 271.524,271.524,271.523,271.527,271.535 ,271.542,271.55,271.557,271.565,271.572 ,271.58,271.588,271.595,271.603,271.61, 271.618,271.625,271.637,271.644,271.652 ,271.659,271.667,271.675,271.682,271.69 ,271.697,271.705,271.712,271.716)
ORBIT_NUMBER = 1572
ORBITAL_ECCENTRICITY = 0.566
ORBITAL_INCLINATION = 86.59
ORBITAL_SEMIMAJOR_AXIS = 8534.04
PERIAPSIS_ALTITUDE = 328.01
PERIAPSIS_ARGUMENT_ANGLE = 83.53
PERIAPSIS_TIME = 2005-04-07T22:30:53.000Z
SPACECRAFT_ORIENTATION = (0.0,1.0,0.0)
^MEX_ORIENTATION_DESC = "MEX_ORIENTATION_DESC.TXT"
SPACECRAFT_POINTING_MODE = ACROSSTRACK
^MEX_POINTING_DESC = "MEX_POINTING_DESC.TXT"
RIGHT_ASCENSION = -1e+32
DECLINATION = -1e+32
OFFSET_ANGLE = -0.45
SPACECRAFT_SOLAR_DISTANCE = 2.16426e+08
TARGET_NAME = MARS
/* CAMERA DATA ELEMENTS */
BUFFER_MODE_ID = DIRECT
EXPOSURE_DURATION = 5.04
INST_CMPRS_NAME = NONE
INST_CMPRS_RATIO = 1.0
INST_CMPRS_QUALITY = -2147483648
INST_CMPRS_QUANTZ_TBL_ID = -2147483648
INSTRUMENT_TEMPERATURE = 14.2424
MISSING_FRAMES = 0
START_BIT = 0
/* RADIOMETRIC DATA ELEMENTS */
BANDWIDTH = 250.0
CENTER_FILTER_WAVELENGTH = 600.0
RADIANCE_OFFSET = -9.99e+31
RADIANCE_SCALING_FACTOR = -9.99e+31
REFLECTANCE_SCALING_FACTOR = -9.99e+31
MEX:REFLECTANCE_OFFSET = -9.99e+31
/* IMAGE OBJECT DEFINITIONS */
OBJECT = IMAGE
  INTERCHANGE_FORMAT = BINARY
  LINES = 1559
  LINE_SAMPLES = 1567
  SAMPLE_TYPE = UNSIGNED_INTEGER
  SAMPLE_BITS = 8
  BANDS = 1
  BAND_STORAGE_TYPE = BAND_SEQUENTIAL
  MAXIMUM = 5499
  MEAN = 4573.2
  MINIMUM = 0
  STANDARD_DEVIATION = 214.736
END_OBJECT = IMAGE
/* MAP OBJECT DEFINITIONS */
OBJECT = IMAGE_MAP_PROJECTION
  ^DATA_SET_MAP_PROJECTION_CATALOG= "DSMAP.CAT"
  A_AXIS_RADIUS = 3396.19
  B_AXIS_RADIUS = 3396.19
  C_AXIS_RADIUS = 3396.19
  CENTER_LATITUDE = 0.0
  CENTER_LONGITUDE = 272.0
  COORDINATE_SYSTEM_NAME = PLANETOGRAPHIC
  COORDINATE_SYSTEM_TYPE = "BODY-FIXED ROTATING"
  EASTERNMOST_LONGITUDE = 271.726
  FIRST_STANDARD_PARALLEL = "N/A"
  LINE_FIRST_PIXEL = 1
  LINE_LAST_PIXEL = 1559
  LINE_PROJECTION_OFFSET = 606768.0
  MAP_PROJECTION_ROTATION = 0.0
  MAP_PROJECTION_TYPE = SINUSOIDAL
  MAP_RESOLUTION = 11854.9393024378
  MAP_SCALE = 0.005
  MAXIMUM_LATITUDE = 51.2493
  MINIMUM_LATITUDE = 51.1235
  POSITIVE_LONGITUDE_DIRECTION = EAST
  REFERENCE_LATITUDE = "N/A"
  REFERENCE_LONGITUDE = "N/A"
  SAMPLE_FIRST_PIXEL = 1
  SAMPLE_LAST_PIXEL = 1567
  SAMPLE_PROJECTION_OFFSET = 3665.0
  SECOND_STANDARD_PARALLEL = "N/A"
  WESTERNMOST_LONGITUDE = 271.523
END_OBJECT = IMAGE_MAP_PROJECTION
/* The JPEG2000 image data file associated with this label. */
OBJECT = COMPRESSED_FILE
  FILE_NAME = "H1572_0055_SR3.JP2"
  RECORD_TYPE = UNDEFINED
  FILE_RECORDS = UNK
  ENCODING_TYPE = "JP2"
  INTERCHANGE_FORMAT = BINARY
  UNCOMPRESSED_FILE_NAME = "H1572_0055_SR3.IMG"
  REQUIRED_STORAGE_BYTES = "2461757"
  ^DESCRIPTION = "JP2INFO.TXT"
END_OBJECT = COMPRESSED_FILE
END
