PDS_VERSION_ID = PDS3
/* FILE DATA ELEMENTS */
RECORD_TYPE = STREAM
/* POINTERS TO DATA OBJECTS */
^COMPRESSED_FILE = "H1572_0062_SR3.JP2"
/* IDENTIFICATION DATA ELEMENTS */
DATA_SET_ID = "MEX-M-HRSC-5-REFDR-MAPPROJECTED-V3.0"
DATA_SET_NAME = "MARS EXPRESS HRSC MAP PROJECTED REFDR V3.0"
DETECTOR_ID = MEX_HRSC_SRC
EVENT_TYPE = "MARS-REGIONAL-MAPPING-Vo-Te"
INSTRUMENT_HOST_ID = MEX
INSTRUMENT_HOST_NAME = "MARS EXPRESS"
INSTRUMENT_ID = HRSC
INSTRUMENT_NAME = "HIGH RESOLUTION STEREO CAMERA"
MISSION_NAME = "MARS EXPRESS"
MISSION_PHASE_NAME = MR_Phase_6
PROCESSING_LEVEL_ID = 3
PRODUCT_CREATION_TIME = 2016-03-08T06:50:01.000Z
PRODUCT_ID = "H1572_0062_SR3.JP2"
RELEASE_ID = 0020
REVISION_ID = 0000
/* QUALITY DATA ELEMENTS */
DATA_QUALITY_ID = 1
DATA_QUALITY_DESC = "Data calculated based on original SPICE kernels"
/* TIME DATA ELEMENTS */
SPACECRAFT_CLOCK_START_COUNT = "1/0060993277.57270"
SPACECRAFT_CLOCK_STOP_COUNT = "1/0060994158.35958"
IMAGE_TIME = 2005-04-07T22:43:28.273Z
START_TIME = 2005-04-07T22:43:28.271Z
STOP_TIME = 2005-04-07T22:43:28.276Z
/* ORBITAL DATA ELEMENTS */
ASCENDING_NODE_LONGITUDE = 195.53
MAXIMUM_RESOLUTION = 7.142
FOOTPRINT_POINT_LATITUDE = (50.4848,50.4796,50.4761,50.4711, 50.4649,50.4614,50.4566,50.4507,50.4469 ,50.4416,50.4352,50.429,50.4247,50.4214 ,50.417,50.4135,50.4089,50.4021,50.3964 ,50.3927,50.3854,50.3807,50.3748, 50.3713,50.3662,50.3634,50.3632,50.3629 ,50.3627,50.3624,50.3621,50.3619, 50.3616,50.3613,50.3611,50.3608,50.3606 ,50.3603,50.36,50.3598,50.3595,50.3592, 50.359,50.3587,50.3584,50.3582,50.358, 50.3577,50.3575,50.3572,50.3585,50.3618 ,50.3661,50.3693,50.3727,50.3772, 50.3838,50.3917,50.3953,50.401,50.406, 50.4121,50.4198,50.4263,50.4307,50.4374 ,50.4421,50.4455,50.4503,50.4547, 50.4598,50.4636,50.4692,50.474,50.4787, 50.479,50.4793,50.4795,50.4798,50.4801, 50.4804,50.4806,50.4809,50.4812,50.4814 ,50.4817,50.482,50.4822,50.4825,50.4828 ,50.483,50.4833,50.4835,50.4838,50.4841 ,50.4843,50.4846,50.4848,50.4851, 50.4848)
FOOTPRINT_POINT_LONGITUDE = (271.783,271.784,271.784,271.785, 271.785,271.785,271.786,271.786,271.787 ,271.787,271.788,271.788,271.788, 271.789,271.789,271.789,271.79,271.79, 271.791,271.791,271.792,271.792,271.793 ,271.793,271.793,271.786,271.778, 271.771,271.763,271.755,271.748,271.74, 271.733,271.725,271.718,271.71,271.702, 271.695,271.687,271.68,271.672,271.664, 271.657,271.649,271.642,271.634,271.629 ,271.622,271.614,271.606,271.601, 271.601,271.601,271.6,271.6,271.6, 271.599,271.598,271.598,271.598,271.597 ,271.597,271.596,271.595,271.595, 271.594,271.594,271.594,271.593,271.593 ,271.592,271.592,271.592,271.591, 271.595,271.602,271.61,271.618,271.625, 271.632,271.64,271.647,271.655,271.663, 271.67,271.678,271.685,271.693,271.701, 271.708,271.716,271.723,271.731,271.739 ,271.746,271.754,271.761,271.769, 271.777,271.783)
ORBIT_NUMBER = 1572
ORBITAL_ECCENTRICITY = 0.566
ORBITAL_INCLINATION = 86.59
ORBITAL_SEMIMAJOR_AXIS = 8534.04
PERIAPSIS_ALTITUDE = 328.01
PERIAPSIS_ARGUMENT_ANGLE = 83.53
PERIAPSIS_TIME = 2005-04-07T22:30:53.000Z
SPACECRAFT_ORIENTATION = (0.0,1.0,0.0)
^MEX_ORIENTATION_DESC = "MEX_ORIENTATION_DESC.TXT"
SPACECRAFT_POINTING_MODE = ACROSSTRACK
^MEX_POINTING_DESC = "MEX_POINTING_DESC.TXT"
RIGHT_ASCENSION = -1e+32
DECLINATION = -1e+32
OFFSET_ANGLE = -0.45
SPACECRAFT_SOLAR_DISTANCE = 2.16426e+08
TARGET_NAME = MARS
/* CAMERA DATA ELEMENTS */
BUFFER_MODE_ID = DIRECT
EXPOSURE_DURATION = 5.04
INST_CMPRS_NAME = NONE
INST_CMPRS_RATIO = 1.0
INST_CMPRS_QUALITY = -2147483648
INST_CMPRS_QUANTZ_TBL_ID = -2147483648
INSTRUMENT_TEMPERATURE = 14.4129
MISSING_FRAMES = 0
START_BIT = 0
/* RADIOMETRIC DATA ELEMENTS */
BANDWIDTH = 250.0
CENTER_FILTER_WAVELENGTH = 600.0
RADIANCE_OFFSET = -9.99e+31
RADIANCE_SCALING_FACTOR = -9.99e+31
REFLECTANCE_SCALING_FACTOR = -9.99e+31
MEX:REFLECTANCE_OFFSET = -9.99e+31
/* IMAGE OBJECT DEFINITIONS */
OBJECT = IMAGE
  INTERCHANGE_FORMAT = BINARY
  LINES = 1585
  LINE_SAMPLES = 1594
  SAMPLE_TYPE = UNSIGNED_INTEGER
  SAMPLE_BITS = 8
  BANDS = 1
  BAND_STORAGE_TYPE = BAND_SEQUENTIAL
  MAXIMUM = 5386
  MEAN = 4722.36
  MINIMUM = 0
  STANDARD_DEVIATION = 208.868
END_OBJECT = IMAGE
/* MAP OBJECT DEFINITIONS */
OBJECT = IMAGE_MAP_PROJECTION
  ^DATA_SET_MAP_PROJECTION_CATALOG= "DSMAP.CAT"
  A_AXIS_RADIUS = 3396.19
  B_AXIS_RADIUS = 3396.19
  C_AXIS_RADIUS = 3396.19
  CENTER_LATITUDE = 0.0
  CENTER_LONGITUDE = 272.0
  COORDINATE_SYSTEM_NAME = PLANETOGRAPHIC
  COORDINATE_SYSTEM_TYPE = "BODY-FIXED ROTATING"
  EASTERNMOST_LONGITUDE = 271.793
  FIRST_STANDARD_PARALLEL = "N/A"
  LINE_FIRST_PIXEL = 1
  LINE_LAST_PIXEL = 1585
  LINE_PROJECTION_OFFSET = 597743.0
  MAP_PROJECTION_ROTATION = 0.0
  MAP_PROJECTION_TYPE = SINUSOIDAL
  MAP_RESOLUTION = 11854.9393024378
  MAP_SCALE = 0.005
  MAXIMUM_LATITUDE = 50.4851
  MINIMUM_LATITUDE = 50.3572
  POSITIVE_LONGITUDE_DIRECTION = EAST
  REFERENCE_LATITUDE = "N/A"
  REFERENCE_LONGITUDE = "N/A"
  SAMPLE_FIRST_PIXEL = 1
  SAMPLE_LAST_PIXEL = 1594
  SAMPLE_PROJECTION_OFFSET = 3212.0
  SECOND_STANDARD_PARALLEL = "N/A"
  WESTERNMOST_LONGITUDE = 271.591
END_OBJECT = IMAGE_MAP_PROJECTION
/* The JPEG2000 image data file associated with this label. */
OBJECT = COMPRESSED_FILE
  FILE_NAME = "H1572_0062_SR3.JP2"
  RECORD_TYPE = UNDEFINED
  FILE_RECORDS = UNK
  ENCODING_TYPE = "JP2"
  INTERCHANGE_FORMAT = BINARY
  UNCOMPRESSED_FILE_NAME = "H1572_0062_SR3.IMG"
  REQUIRED_STORAGE_BYTES = "2545618"
  ^DESCRIPTION = "JP2INFO.TXT"
END_OBJECT = COMPRESSED_FILE
END
