PDS_VERSION_ID = PDS3
/* FILE DATA ELEMENTS */
RECORD_TYPE = STREAM
/* POINTERS TO DATA OBJECTS */
^COMPRESSED_FILE = "H1574_0010_SR3.JP2"
/* IDENTIFICATION DATA ELEMENTS */
DATA_SET_ID = "MEX-M-HRSC-5-REFDR-MAPPROJECTED-V3.0"
DATA_SET_NAME = "MARS EXPRESS HRSC MAP PROJECTED REFDR V3.0"
DETECTOR_ID = MEX_HRSC_SRC
EVENT_TYPE = "MARS-REGIONAL-MAPPING-Te-Lc-Eo"
INSTRUMENT_HOST_ID = MEX
INSTRUMENT_HOST_NAME = "MARS EXPRESS"
INSTRUMENT_ID = HRSC
INSTRUMENT_NAME = "HIGH RESOLUTION STEREO CAMERA"
MISSION_NAME = "MARS EXPRESS"
MISSION_PHASE_NAME = MR_Phase_6
PROCESSING_LEVEL_ID = 3
PRODUCT_CREATION_TIME = 2016-03-08T06:50:01.000Z
PRODUCT_ID = "H1574_0010_SR3.JP2"
RELEASE_ID = 0020
REVISION_ID = 0000
/* QUALITY DATA ELEMENTS */
DATA_QUALITY_ID = 1
DATA_QUALITY_DESC = "Data calculated based on original SPICE kernels"
/* TIME DATA ELEMENTS */
SPACECRAFT_CLOCK_START_COUNT = "1/0061041674.57159"
SPACECRAFT_CLOCK_STOP_COUNT = "1/0061042537.17143"
IMAGE_TIME = 2005-04-08T12:05:21.310Z
START_TIME = 2005-04-08T12:05:21.307Z
STOP_TIME = 2005-04-08T12:05:21.312Z
/* ORBITAL DATA ELEMENTS */
ASCENDING_NODE_LONGITUDE = 195.48
MAXIMUM_RESOLUTION = 4.683
FOOTPRINT_POINT_LATITUDE = (66.9338,66.9309,66.9274,66.9244, 66.9221,66.9196,66.9171,66.9137,66.9092 ,66.9059,66.903,66.8991,66.8963,66.892, 66.8889,66.8865,66.8844,66.8815,66.8795 ,66.8758,66.8733,66.8695,66.8659,66.863 ,66.8609,66.8584,66.858,66.8576,66.8572 ,66.8567,66.8563,66.8559,66.8555,66.855 ,66.8546,66.8542,66.8538,66.8534, 66.8529,66.8525,66.8521,66.8516,66.8512 ,66.8509,66.8505,66.85,66.8496,66.8492, 66.8488,66.8483,66.8479,66.8476,66.8499 ,66.854,66.8573,66.8596,66.8615,66.8642 ,66.868,66.8705,66.8749,66.8784,66.8825 ,66.8857,66.89,66.8928,66.8971,66.9002, 66.904,66.9069,66.9121,66.9156,66.9196, 66.9226,66.9271,66.9276,66.928,66.9284, 66.9288,66.9293,66.9297,66.9301,66.9306 ,66.931,66.9314,66.9321,66.9325,66.9329 ,66.9333,66.9338,66.9342,66.9346,66.935 ,66.9355,66.9359,66.9363,66.9367, 66.9372,66.9376,66.9338)
FOOTPRINT_POINT_LONGITUDE = (72.6611,72.6621,72.6633,72.6643, 72.6651,72.6659,72.6668,72.668,72.6695, 72.6706,72.6716,72.673,72.6739,72.6754, 72.6764,72.6772,72.6779,72.6789,72.6796 ,72.6809,72.6817,72.683,72.6842,72.6852 ,72.6859,72.6866,72.6786,72.6705, 72.6625,72.6545,72.6465,72.6385,72.6304 ,72.6224,72.6144,72.6064,72.5984, 72.5904,72.5823,72.5743,72.5663,72.5583 ,72.5503,72.5443,72.5363,72.5283, 72.5203,72.5122,72.5042,72.4962,72.4882 ,72.483,72.4822,72.4808,72.4796,72.4788 ,72.4781,72.4772,72.4759,72.475,72.4735 ,72.4723,72.4708,72.4697,72.4682, 72.4672,72.4657,72.4647,72.4633,72.4623 ,72.4605,72.4593,72.4579,72.4568, 72.4596,72.4676,72.4756,72.4837,72.4917 ,72.4998,72.5078,72.5158,72.5239, 72.5319,72.54,72.552,72.56,72.5681, 72.5761,72.5842,72.5922,72.6003,72.6083 ,72.6163,72.6244,72.6324,72.6405, 72.6485,72.6565,72.6611)
ORBIT_NUMBER = 1574
ORBITAL_ECCENTRICITY = 0.566
ORBITAL_INCLINATION = 86.61
ORBITAL_SEMIMAJOR_AXIS = 8532.16
PERIAPSIS_ALTITUDE = 327.07
PERIAPSIS_ARGUMENT_ANGLE = 83.17
PERIAPSIS_TIME = 2005-04-08T11:57:36.000Z
SPACECRAFT_ORIENTATION = (0.0,1.0,0.0)
^MEX_ORIENTATION_DESC = "MEX_ORIENTATION_DESC.TXT"
SPACECRAFT_POINTING_MODE = ACROSSTRACK
^MEX_POINTING_DESC = "MEX_POINTING_DESC.TXT"
RIGHT_ASCENSION = -1e+32
DECLINATION = -1e+32
OFFSET_ANGLE = -0.2
SPACECRAFT_SOLAR_DISTANCE = 2.1633e+08
TARGET_NAME = MARS
/* CAMERA DATA ELEMENTS */
BUFFER_MODE_ID = BUFFER_8
EXPOSURE_DURATION = 5.04
INST_CMPRS_NAME = NONE
INST_CMPRS_RATIO = 1.0
INST_CMPRS_QUALITY = -2147483648
INST_CMPRS_QUANTZ_TBL_ID = -2147483648
INSTRUMENT_TEMPERATURE = 11.2121
MISSING_FRAMES = 0
START_BIT = 0
/* RADIOMETRIC DATA ELEMENTS */
BANDWIDTH = 250.0
CENTER_FILTER_WAVELENGTH = 600.0
RADIANCE_OFFSET = -9.99e+31
RADIANCE_SCALING_FACTOR = -9.99e+31
REFLECTANCE_SCALING_FACTOR = -9.99e+31
MEX:REFLECTANCE_OFFSET = -9.99e+31
/* IMAGE OBJECT DEFINITIONS */
OBJECT = IMAGE
  INTERCHANGE_FORMAT = BINARY
  LINES = 1145
  LINE_SAMPLES = 1147
  SAMPLE_TYPE = UNSIGNED_INTEGER
  SAMPLE_BITS = 8
  BANDS = 1
  BAND_STORAGE_TYPE = BAND_SEQUENTIAL
  MAXIMUM = 2919
  MEAN = 2625.82
  MINIMUM = 2186
  STANDARD_DEVIATION = 60.8601
END_OBJECT = IMAGE
/* MAP OBJECT DEFINITIONS */
OBJECT = IMAGE_MAP_PROJECTION
  ^DATA_SET_MAP_PROJECTION_CATALOG= "DSMAP.CAT"
  A_AXIS_RADIUS = 3396.19
  B_AXIS_RADIUS = 3396.19
  C_AXIS_RADIUS = 3396.19
  CENTER_LATITUDE = 0.0
  CENTER_LONGITUDE = 73.0
  COORDINATE_SYSTEM_NAME = PLANETOGRAPHIC
  COORDINATE_SYSTEM_TYPE = "BODY-FIXED ROTATING"
  EASTERNMOST_LONGITUDE = 72.6866
  FIRST_STANDARD_PARALLEL = "N/A"
  LINE_FIRST_PIXEL = 1
  LINE_LAST_PIXEL = 1145
  LINE_PROJECTION_OFFSET = 791950.0
  MAP_PROJECTION_ROTATION = 0.0
  MAP_PROJECTION_TYPE = SINUSOIDAL
  MAP_RESOLUTION = 11854.9393024378
  MAP_SCALE = 0.005
  MAXIMUM_LATITUDE = 66.9376
  MINIMUM_LATITUDE = 66.8476
  POSITIVE_LONGITUDE_DIRECTION = EAST
  REFERENCE_LATITUDE = "N/A"
  REFERENCE_LONGITUDE = "N/A"
  SAMPLE_FIRST_PIXEL = 1
  SAMPLE_LAST_PIXEL = 1147
  SAMPLE_PROJECTION_OFFSET = 2652.0
  SECOND_STANDARD_PARALLEL = "N/A"
  WESTERNMOST_LONGITUDE = 72.4568
END_OBJECT = IMAGE_MAP_PROJECTION
/* The JPEG2000 image data file associated with this label. */
OBJECT = COMPRESSED_FILE
  FILE_NAME = "H1574_0010_SR3.JP2"
  RECORD_TYPE = UNDEFINED
  FILE_RECORDS = UNK
  ENCODING_TYPE = "JP2"
  INTERCHANGE_FORMAT = BINARY
  UNCOMPRESSED_FILE_NAME = "H1574_0010_SR3.IMG"
  REQUIRED_STORAGE_BYTES = "1331667"
  ^DESCRIPTION = "JP2INFO.TXT"
END_OBJECT = COMPRESSED_FILE
END
