PDS_VERSION_ID = PDS3
/* FILE DATA ELEMENTS */
RECORD_TYPE = STREAM
/* POINTERS TO DATA OBJECTS */
^COMPRESSED_FILE = "H1576_0000_RE3.JP2"
/* IDENTIFICATION DATA ELEMENTS */
DATA_SET_ID = "MEX-M-HRSC-5-REFDR-MAPPROJECTED-V3.0"
DATA_SET_NAME = "MARS EXPRESS HRSC MAP PROJECTED REFDR V3.0"
DETECTOR_ID = MEX_HRSC_RED
EVENT_TYPE = "MARS-LOCAL-MAPPING-Te-Im-Pf"
INSTRUMENT_HOST_ID = MEX
INSTRUMENT_HOST_NAME = "MARS EXPRESS"
INSTRUMENT_ID = HRSC
INSTRUMENT_NAME = "HIGH RESOLUTION STEREO CAMERA"
MISSION_NAME = "MARS EXPRESS"
MISSION_PHASE_NAME = MR_Phase_6
PROCESSING_LEVEL_ID = 3
PRODUCT_CREATION_TIME = 2016-03-08T06:50:01.000Z
PRODUCT_ID = "H1576_0000_RE3.JP2"
RELEASE_ID = 0020
REVISION_ID = 0000
/* QUALITY DATA ELEMENTS */
DATA_QUALITY_ID = 1
DATA_QUALITY_DESC = "Data calculated based on original SPICE kernels"
/* TIME DATA ELEMENTS */
SPACECRAFT_CLOCK_START_COUNT = "1/0061090027.56197"
SPACECRAFT_CLOCK_STOP_COUNT = "1/0061090549.11542"
START_TIME = 2005-04-09T01:27:20.658Z
STOP_TIME = 2005-04-09T01:33:45.633Z
/* ORBITAL DATA ELEMENTS */
ASCENDING_NODE_LONGITUDE = 195.45
MAXIMUM_RESOLUTION = 60.4
FOOTPRINT_POINT_LATITUDE = (82.4012,82.6174,82.7582,82.3111, 81.9565,81.4213,81.0627,80.6629,80.2317 ,79.7989,79.3651,78.9297,78.4945, 78.0591,77.621,76.966,76.3109,75.6548, 75.2168,74.7721,74.3227,73.8743,73.1836 ,72.7225,72.2519,71.7803,71.0602, 70.5784,70.0841,69.5906,69.0866,68.3256 ,67.8112,67.2882,66.4951,65.6869,65.142 ,64.5865,64.0258,63.4587,62.8841, 62.3005,61.7097,61.1115,60.5052,59.8902 ,59.2668,58.6342,58.2444,58.2278, 58.2008,58.1705,58.1215,58.414,59.0443, 59.6654,60.2783,60.8824,61.4784,62.0671 ,62.6479,63.2191,63.7839,64.342,64.8937 ,65.4363,65.9738,66.5053,67.0284, 67.5479,68.0578,68.8144,69.3158,69.8039 ,70.5325,71.0103,71.4851,71.951,72.418, 72.8723,73.3276,73.9976,74.4405,74.8779 ,75.5233,75.9519,76.3799,77.0241, 77.6639,78.2993,78.7215,79.3526,79.7707 ,80.1858,80.5755,80.9181,81.258,81.5949 ,82.0935,82.4012)
FOOTPRINT_POINT_LONGITUDE = (217.744,221.18,223.837,225.602,226.533 ,227.783,228.531,229.293,230.042, 230.727,231.354,231.934,232.465,232.954 ,233.415,234.038,234.598,235.105, 235.419,235.717,236.0,236.265,236.647, 236.884,237.111,237.326,237.633,237.824 ,238.012,238.189,238.36,238.601,238.755 ,238.903,239.114,239.313,239.439, 239.561,239.679,239.792,239.901,240.007 ,240.108,240.206,240.301,240.392,240.48 ,240.565,240.317,239.68,238.859,238.115 ,237.113,236.573,236.477,236.376,236.27 ,236.16,236.044,235.922,235.794,235.661 ,235.522,235.377,235.224,235.066,234.9, 234.726,234.546,234.356,234.158,233.845 ,233.623,233.392,233.024,232.764, 232.491,232.206,231.904,231.592,231.26, 230.733,230.357,229.959,229.326,228.869 ,228.38,227.582,226.696,225.706,224.982 ,223.781,222.894,221.93,220.937,219.984 ,218.954,217.839,215.985,217.744)
ORBIT_NUMBER = 1576
ORBITAL_ECCENTRICITY = 0.566
ORBITAL_INCLINATION = 86.61
ORBITAL_SEMIMAJOR_AXIS = 8533.69
PERIAPSIS_ALTITUDE = 327.17
PERIAPSIS_ARGUMENT_ANGLE = 82.81
PERIAPSIS_TIME = 2005-04-09T01:24:14.000Z
SPACECRAFT_ORIENTATION = (0.0,1.0,0.0)
^MEX_ORIENTATION_DESC = "MEX_ORIENTATION_DESC.TXT"
SPACECRAFT_POINTING_MODE = ACROSSTRACK
^MEX_POINTING_DESC = "MEX_POINTING_DESC.TXT"
RIGHT_ASCENSION = -1e+32
DECLINATION = -1e+32
OFFSET_ANGLE = 0.1
SPACECRAFT_SOLAR_DISTANCE = 2.16233e+08
TARGET_NAME = MARS
/* CAMERA DATA ELEMENTS */
DETECTOR_TEMPERATURE = 18.5744
FOCAL_PLANE_TEMPERATURE = 8.5833
INST_CMPRS_NAME = "DISCRETE COSINE TRANSFORMATION (DCT)"
INST_CMPRS_RATIO = 28.094
INST_CMPRS_QUALITY = 0
INST_CMPRS_QUANTZ_TBL_ID = 0
INSTRUMENT_TEMPERATURE = 11.234
LENS_TEMPERATURE = 8.9911
MACROPIXEL_SIZE = 4
MISSING_FRAMES = 0
PIXEL_SUBSAMPLING_FLAG = N
SIGNAL_CHAIN_ID = 2
/* RADIOMETRIC DATA ELEMENTS */
BANDWIDTH = 48.0
CENTER_FILTER_WAVELENGTH = 748.0
RADIANCE_OFFSET = 0.0392607
RADIANCE_SCALING_FACTOR = 0.00532274
REFLECTANCE_SCALING_FACTOR = 0.000567944
MEX:REFLECTANCE_OFFSET = 0.00418917
/* IMAGE OBJECT DEFINITIONS */
OBJECT = IMAGE
  INTERCHANGE_FORMAT = BINARY
  LINES = 29082
  LINE_SAMPLES = 6652
  SAMPLE_TYPE = UNSIGNED_INTEGER
  SAMPLE_BITS = 8
  BANDS = 1
  BAND_STORAGE_TYPE = BAND_SEQUENTIAL
  MAXIMUM = 253
  MEAN = 117.283
  MINIMUM = 6
  STANDARD_DEVIATION = 69.5634
END_OBJECT = IMAGE
/* MAP OBJECT DEFINITIONS */
OBJECT = IMAGE_MAP_PROJECTION
  ^DATA_SET_MAP_PROJECTION_CATALOG= "DSMAP.CAT"
  A_AXIS_RADIUS = 3396.0
  B_AXIS_RADIUS = 3396.0
  C_AXIS_RADIUS = 3396.0
  CENTER_LATITUDE = 0.0
  CENTER_LONGITUDE = 235.0
  COORDINATE_SYSTEM_NAME = PLANETOGRAPHIC
  COORDINATE_SYSTEM_TYPE = "BODY-FIXED ROTATING"
  EASTERNMOST_LONGITUDE = 240.565
  FIRST_STANDARD_PARALLEL = "N/A"
  LINE_FIRST_PIXEL = 1
  LINE_LAST_PIXEL = 29082
  LINE_PROJECTION_OFFSET = 97981.625
  MAP_PROJECTION_ROTATION = 0.0
  MAP_PROJECTION_TYPE = SINUSOIDAL
  MAP_RESOLUTION = 1185.42760773333
  MAP_SCALE = 0.05
  MAXIMUM_LATITUDE = 82.7582
  MINIMUM_LATITUDE = 58.1215
  POSITIVE_LONGITUDE_DIRECTION = EAST
  REFERENCE_LATITUDE = "N/A"
  REFERENCE_LONGITUDE = "N/A"
  SAMPLE_FIRST_PIXEL = 1
  SAMPLE_LAST_PIXEL = 6652
  SAMPLE_PROJECTION_OFFSET = 3097.125
  SECOND_STANDARD_PARALLEL = "N/A"
  WESTERNMOST_LONGITUDE = 215.985
END_OBJECT = IMAGE_MAP_PROJECTION
/* The JPEG2000 image data file associated with this label. */
OBJECT = COMPRESSED_FILE
  FILE_NAME = "H1576_0000_RE3.JP2"
  RECORD_TYPE = UNDEFINED
  FILE_RECORDS = UNK
  ENCODING_TYPE = "JP2"
  INTERCHANGE_FORMAT = BINARY
  UNCOMPRESSED_FILE_NAME = "H1576_0000_RE3.IMG"
  REQUIRED_STORAGE_BYTES = "193486724"
  ^DESCRIPTION = "JP2INFO.TXT"
END_OBJECT = COMPRESSED_FILE
END
