PDS_VERSION_ID = PDS3
/* FILE DATA ELEMENTS */
RECORD_TYPE = STREAM
/* POINTERS TO DATA OBJECTS */
^COMPRESSED_FILE = "H1576_0006_SR3.JP2"
/* IDENTIFICATION DATA ELEMENTS */
DATA_SET_ID = "MEX-M-HRSC-5-REFDR-MAPPROJECTED-V3.0"
DATA_SET_NAME = "MARS EXPRESS HRSC MAP PROJECTED REFDR V3.0"
DETECTOR_ID = MEX_HRSC_SRC
EVENT_TYPE = "MARS-LOCAL-MAPPING-Te-Im-Pf"
INSTRUMENT_HOST_ID = MEX
INSTRUMENT_HOST_NAME = "MARS EXPRESS"
INSTRUMENT_ID = HRSC
INSTRUMENT_NAME = "HIGH RESOLUTION STEREO CAMERA"
MISSION_NAME = "MARS EXPRESS"
MISSION_PHASE_NAME = MR_Phase_6
PROCESSING_LEVEL_ID = 3
PRODUCT_CREATION_TIME = 2016-03-08T06:50:01.000Z
PRODUCT_ID = "H1576_0006_SR3.JP2"
RELEASE_ID = 0020
REVISION_ID = 0000
/* QUALITY DATA ELEMENTS */
DATA_QUALITY_ID = 1
DATA_QUALITY_DESC = "Data calculated based on original SPICE kernels"
/* TIME DATA ELEMENTS */
SPACECRAFT_CLOCK_START_COUNT = "1/0061090027.56197"
SPACECRAFT_CLOCK_STOP_COUNT = "1/0061090549.11542"
IMAGE_TIME = 2005-04-09T01:33:31.650Z
START_TIME = 2005-04-09T01:33:31.648Z
STOP_TIME = 2005-04-09T01:33:31.653Z
/* ORBITAL DATA ELEMENTS */
ASCENDING_NODE_LONGITUDE = 195.45
MAXIMUM_RESOLUTION = 5.368
FOOTPRINT_POINT_LATITUDE = (61.983,61.9779,61.9745,61.9694,61.9659 ,61.9613,61.9564,61.9535,61.9509, 61.9472,61.9447,61.9417,61.937,61.9346, 61.9311,61.9285,61.9255,61.9216,61.9188 ,61.9156,61.9128,61.9094,61.9044, 61.9008,61.8969,61.894,61.8937,61.8934, 61.8931,61.8927,61.8924,61.8921,61.8918 ,61.8914,61.8911,61.8908,61.8904, 61.8901,61.8898,61.8895,61.8891,61.8888 ,61.8885,61.8881,61.8878,61.8875, 61.8871,61.8868,61.8865,61.8862,61.8859 ,61.8883,61.8922,61.8954,61.898,61.903, 61.9067,61.9099,61.9152,61.9177,61.9219 ,61.928,61.9306,61.9342,61.9387,61.9422 ,61.9462,61.9493,61.9539,61.9565, 61.9601,61.9646,61.9704,61.9732,61.9772 ,61.9775,61.9778,61.9783,61.9787,61.979 ,61.9793,61.9796,61.98,61.9803,61.9806, 61.981,61.9813,61.9816,61.982,61.9823, 61.9826,61.9829,61.9833,61.9836,61.9839 ,61.9843,61.9846,61.9849,61.9852, 61.983)
FOOTPRINT_POINT_LONGITUDE = (238.061,238.062,238.063,238.064, 238.065,238.065,238.066,238.067,238.067 ,238.068,238.069,238.069,238.07,238.07, 238.071,238.072,238.072,238.073,238.073 ,238.074,238.075,238.075,238.076, 238.077,238.078,238.074,238.066,238.059 ,238.051,238.043,238.036,238.028,238.02 ,238.012,238.005,237.997,237.989, 237.982,237.974,237.966,237.958,237.951 ,237.943,237.935,237.928,237.92,237.912 ,237.905,237.897,237.889,237.883, 237.882,237.881,237.88,237.88,237.879, 237.878,237.878,237.877,237.876,237.875 ,237.874,237.874,237.873,237.872, 237.871,237.87,237.87,237.869,237.868, 237.868,237.867,237.866,237.865,237.865 ,237.872,237.88,237.89,237.898,237.905, 237.913,237.921,237.928,237.936,237.944 ,237.952,237.959,237.967,237.975, 237.983,237.99,237.998,238.006,238.013, 238.021,238.029,238.037,238.044,238.052 ,238.061)
ORBIT_NUMBER = 1576
ORBITAL_ECCENTRICITY = 0.566
ORBITAL_INCLINATION = 86.61
ORBITAL_SEMIMAJOR_AXIS = 8533.69
PERIAPSIS_ALTITUDE = 327.17
PERIAPSIS_ARGUMENT_ANGLE = 82.81
PERIAPSIS_TIME = 2005-04-09T01:24:14.000Z
SPACECRAFT_ORIENTATION = (0.0,1.0,0.0)
^MEX_ORIENTATION_DESC = "MEX_ORIENTATION_DESC.TXT"
SPACECRAFT_POINTING_MODE = ACROSSTRACK
^MEX_POINTING_DESC = "MEX_POINTING_DESC.TXT"
RIGHT_ASCENSION = -1e+32
DECLINATION = -1e+32
OFFSET_ANGLE = 0.1
SPACECRAFT_SOLAR_DISTANCE = 2.16233e+08
TARGET_NAME = MARS
/* CAMERA DATA ELEMENTS */
BUFFER_MODE_ID = BUFFER_8
EXPOSURE_DURATION = 5.04
INST_CMPRS_NAME = NONE
INST_CMPRS_RATIO = 1.0
INST_CMPRS_QUALITY = -2147483648
INST_CMPRS_QUANTZ_TBL_ID = -2147483648
INSTRUMENT_TEMPERATURE = 3.13375
MISSING_FRAMES = 0
START_BIT = 0
/* RADIOMETRIC DATA ELEMENTS */
BANDWIDTH = 250.0
CENTER_FILTER_WAVELENGTH = 600.0
RADIANCE_OFFSET = -9.99e+31
RADIANCE_SCALING_FACTOR = -9.99e+31
REFLECTANCE_SCALING_FACTOR = -9.99e+31
MEX:REFLECTANCE_OFFSET = -9.99e+31
/* IMAGE OBJECT DEFINITIONS */
OBJECT = IMAGE
  INTERCHANGE_FORMAT = BINARY
  LINES = 1254
  LINE_SAMPLES = 1262
  SAMPLE_TYPE = UNSIGNED_INTEGER
  SAMPLE_BITS = 8
  BANDS = 1
  BAND_STORAGE_TYPE = BAND_SEQUENTIAL
  MAXIMUM = 4013
  MEAN = 3690.54
  MINIMUM = 3056
  STANDARD_DEVIATION = 72.6973
END_OBJECT = IMAGE
/* MAP OBJECT DEFINITIONS */
OBJECT = IMAGE_MAP_PROJECTION
  ^DATA_SET_MAP_PROJECTION_CATALOG= "DSMAP.CAT"
  A_AXIS_RADIUS = 3396.19
  B_AXIS_RADIUS = 3396.19
  C_AXIS_RADIUS = 3396.19
  CENTER_LATITUDE = 0.0
  CENTER_LONGITUDE = 238.0
  COORDINATE_SYSTEM_NAME = PLANETOGRAPHIC
  COORDINATE_SYSTEM_TYPE = "BODY-FIXED ROTATING"
  EASTERNMOST_LONGITUDE = 238.078
  FIRST_STANDARD_PARALLEL = "N/A"
  LINE_FIRST_PIXEL = 1
  LINE_LAST_PIXEL = 1254
  LINE_PROJECTION_OFFSET = 733537.0
  MAP_PROJECTION_ROTATION = 0.0
  MAP_PROJECTION_TYPE = SINUSOIDAL
  MAP_RESOLUTION = 11854.9393024378
  MAP_SCALE = 0.005
  MAXIMUM_LATITUDE = 61.9852
  MINIMUM_LATITUDE = 61.8859
  POSITIVE_LONGITUDE_DIRECTION = EAST
  REFERENCE_LATITUDE = "N/A"
  REFERENCE_LONGITUDE = "N/A"
  SAMPLE_FIRST_PIXEL = 1
  SAMPLE_LAST_PIXEL = 1262
  SAMPLE_PROJECTION_OFFSET = 754.0
  SECOND_STANDARD_PARALLEL = "N/A"
  WESTERNMOST_LONGITUDE = 237.865
END_OBJECT = IMAGE_MAP_PROJECTION
/* The JPEG2000 image data file associated with this label. */
OBJECT = COMPRESSED_FILE
  FILE_NAME = "H1576_0006_SR3.JP2"
  RECORD_TYPE = UNDEFINED
  FILE_RECORDS = UNK
  ENCODING_TYPE = "JP2"
  INTERCHANGE_FORMAT = BINARY
  UNCOMPRESSED_FILE_NAME = "H1576_0006_SR3.IMG"
  REQUIRED_STORAGE_BYTES = "1601478"
  ^DESCRIPTION = "JP2INFO.TXT"
END_OBJECT = COMPRESSED_FILE
END
