PDS_VERSION_ID = PDS3
/* FILE DATA ELEMENTS */
RECORD_TYPE = STREAM
/* POINTERS TO DATA OBJECTS */
^COMPRESSED_FILE = "H1578_0000_IR3.JP2"
/* IDENTIFICATION DATA ELEMENTS */
DATA_SET_ID = "MEX-M-HRSC-5-REFDR-MAPPROJECTED-V3.0"
DATA_SET_NAME = "MARS EXPRESS HRSC MAP PROJECTED REFDR V3.0"
DETECTOR_ID = MEX_HRSC_IR
EVENT_TYPE = "MARS-REGIONAL-MAPPING-Te-Im-Mw"
INSTRUMENT_HOST_ID = MEX
INSTRUMENT_HOST_NAME = "MARS EXPRESS"
INSTRUMENT_ID = HRSC
INSTRUMENT_NAME = "HIGH RESOLUTION STEREO CAMERA"
MISSION_NAME = "MARS EXPRESS"
MISSION_PHASE_NAME = MR_Phase_6
PROCESSING_LEVEL_ID = 3
PRODUCT_CREATION_TIME = 2016-03-08T06:50:01.000Z
PRODUCT_ID = "H1578_0000_IR3.JP2"
RELEASE_ID = 0020
REVISION_ID = 0000
/* QUALITY DATA ELEMENTS */
DATA_QUALITY_ID = 1
DATA_QUALITY_DESC = "Data calculated based on original SPICE kernels"
/* TIME DATA ELEMENTS */
SPACECRAFT_CLOCK_START_COUNT = "1/0061138576.57951"
SPACECRAFT_CLOCK_STOP_COUNT = "1/0061139839.29978"
START_TIME = 2005-04-09T14:57:41.904Z
STOP_TIME = 2005-04-09T15:16:02.918Z
/* ORBITAL DATA ELEMENTS */
ASCENDING_NODE_LONGITUDE = 195.39
MAXIMUM_RESOLUTION = 79.1
FOOTPRINT_POINT_LATITUDE = (73.2003,73.4274,72.1696,70.8773, 69.5488,68.8707,68.1826,67.484,66.7747, 66.0557,65.324,64.5809,63.8266,63.0585, 62.2796,61.485,60.678,59.8571,59.0214, 58.1703,57.3034,56.4209,55.5219,54.6046 ,53.6701,52.7174,51.7445,50.7539, 49.7424,48.7082,47.6561,46.5779,45.4769 ,44.3408,43.1991,42.0474,40.8351, 39.0529,37.8908,36.7669,35.6748,34.6117 ,33.5771,32.5683,31.5848,30.6245,29.69, 28.7777,28.3856,28.4615,28.5505,28.6237 ,29.1,29.9802,30.8847,31.8124,32.7644, 33.7567,34.7611,35.7977,36.867,37.9694, 39.0983,40.8529,42.0287,43.1752,44.3091 ,45.4023,46.5106,47.5751,48.617,49.6389 ,50.6401,51.6217,52.5849,53.5293, 54.4564,55.366,56.2578,57.1332,57.9931, 58.838,59.6674,60.4823,61.2832,62.0715, 62.8448,63.607,64.355,65.0924,65.818, 66.5308,67.2334,67.9255,68.6071,69.2783 ,70.5914,71.8678,73.1075,73.2003)
FOOTPRINT_POINT_LONGITUDE = (36.5417,38.9673,39.6908,40.3314, 40.9009,41.1632,41.4119,41.6477,41.8718 ,42.0852,42.2887,42.4829,42.6677, 42.8451,43.0142,43.1764,43.332,43.481, 43.6241,43.7618,43.8942,44.0217,44.1444 ,44.263,44.3775,44.4881,44.5946,44.6986 ,44.7989,44.8959,44.992,45.0835,45.1731 ,45.2547,45.3437,45.4385,45.5151, 45.6374,45.7083,45.7803,45.851,45.9198, 45.9871,46.0523,46.1158,46.177,46.2379, 46.2973,44.9027,43.4126,41.6495,40.0157 ,39.0773,39.163,39.246,39.3268,39.405, 39.4729,39.5438,39.608,39.6648,39.7138, 39.7578,39.8078,39.8317,39.8491,39.8503 ,39.854,39.8238,39.7991,39.7668,39.7253 ,39.675,39.6165,39.5488,39.4727,39.3875 ,39.2938,39.191,39.0794,38.9583,38.827, 38.6862,38.5348,38.3732,38.2,38.0154, 37.8189,37.6097,37.3866,37.1496,36.8984 ,36.6306,36.3456,36.0428,35.7209, 35.0133,34.2089,33.292,36.5417)
ORBIT_NUMBER = 1578
ORBITAL_ECCENTRICITY = 0.566
ORBITAL_INCLINATION = 86.59
ORBITAL_SEMIMAJOR_AXIS = 8533.01
PERIAPSIS_ALTITUDE = 327.81
PERIAPSIS_ARGUMENT_ANGLE = 82.46
PERIAPSIS_TIME = 2005-04-09T14:50:55.000Z
SPACECRAFT_ORIENTATION = (0.0,1.0,0.0)
^MEX_ORIENTATION_DESC = "MEX_ORIENTATION_DESC.TXT"
SPACECRAFT_POINTING_MODE = ACROSSTRACK
^MEX_POINTING_DESC = "MEX_POINTING_DESC.TXT"
RIGHT_ASCENSION = -1e+32
DECLINATION = -1e+32
OFFSET_ANGLE = -0.2
SPACECRAFT_SOLAR_DISTANCE = 2.16137e+08
TARGET_NAME = MARS
/* CAMERA DATA ELEMENTS */
DETECTOR_TEMPERATURE = 17.351
FOCAL_PLANE_TEMPERATURE = 8.7872
INST_CMPRS_NAME = "DISCRETE COSINE TRANSFORMATION (DCT)"
INST_CMPRS_RATIO = 15.5257
INST_CMPRS_QUALITY = 0
INST_CMPRS_QUANTZ_TBL_ID = 0
INSTRUMENT_TEMPERATURE = 11.234
LENS_TEMPERATURE = 9.195
MACROPIXEL_SIZE = 4
MISSING_FRAMES = 0
PIXEL_SUBSAMPLING_FLAG = N
SIGNAL_CHAIN_ID = 2
/* RADIOMETRIC DATA ELEMENTS */
BANDWIDTH = 81.0
CENTER_FILTER_WAVELENGTH = 955.5
RADIANCE_OFFSET = 0.26907
RADIANCE_SCALING_FACTOR = 0.0110105
REFLECTANCE_SCALING_FACTOR = 0.00110967
MEX:REFLECTANCE_OFFSET = 0.0271175
/* IMAGE OBJECT DEFINITIONS */
OBJECT = IMAGE
  INTERCHANGE_FORMAT = BINARY
  LINES = 53385
  LINE_SAMPLES = 6536
  SAMPLE_TYPE = UNSIGNED_INTEGER
  SAMPLE_BITS = 8
  BANDS = 1
  BAND_STORAGE_TYPE = BAND_SEQUENTIAL
  MAXIMUM = 277
  MEAN = 120.791
  MINIMUM = 22
  STANDARD_DEVIATION = 58.5591
END_OBJECT = IMAGE
/* MAP OBJECT DEFINITIONS */
OBJECT = IMAGE_MAP_PROJECTION
  ^DATA_SET_MAP_PROJECTION_CATALOG= "DSMAP.CAT"
  A_AXIS_RADIUS = 3396.0
  B_AXIS_RADIUS = 3396.0
  C_AXIS_RADIUS = 3396.0
  CENTER_LATITUDE = 0.0
  CENTER_LONGITUDE = 42.0
  COORDINATE_SYSTEM_NAME = PLANETOGRAPHIC
  COORDINATE_SYSTEM_TYPE = "BODY-FIXED ROTATING"
  EASTERNMOST_LONGITUDE = 46.2973
  FIRST_STANDARD_PARALLEL = "N/A"
  LINE_FIRST_PIXEL = 1
  LINE_LAST_PIXEL = 53385
  LINE_PROJECTION_OFFSET = 87038.875
  MAP_PROJECTION_ROTATION = 0.0
  MAP_PROJECTION_TYPE = SINUSOIDAL
  MAP_RESOLUTION = 1185.42760773333
  MAP_SCALE = 0.05
  MAXIMUM_LATITUDE = 73.42740000000001
  MINIMUM_LATITUDE = 28.3856
  POSITIVE_LONGITUDE_DIRECTION = EAST
  REFERENCE_LATITUDE = "N/A"
  REFERENCE_LONGITUDE = "N/A"
  SAMPLE_FIRST_PIXEL = 1
  SAMPLE_LAST_PIXEL = 6536
  SAMPLE_PROJECTION_OFFSET = 2931.875
  SECOND_STANDARD_PARALLEL = "N/A"
  WESTERNMOST_LONGITUDE = 33.292
END_OBJECT = IMAGE_MAP_PROJECTION
/* The JPEG2000 image data file associated with this label. */
OBJECT = COMPRESSED_FILE
  FILE_NAME = "H1578_0000_IR3.JP2"
  RECORD_TYPE = UNDEFINED
  FILE_RECORDS = UNK
  ENCODING_TYPE = "JP2"
  INTERCHANGE_FORMAT = BINARY
  UNCOMPRESSED_FILE_NAME = "H1578_0000_IR3.IMG"
  REQUIRED_STORAGE_BYTES = "348957040"
  ^DESCRIPTION = "JP2INFO.TXT"
END_OBJECT = COMPRESSED_FILE
END
