PDS_VERSION_ID = PDS3
/* FILE DATA ELEMENTS */
RECORD_TYPE = STREAM
/* POINTERS TO DATA OBJECTS */
^COMPRESSED_FILE = "H1580_0000_GR3.JP2"
/* IDENTIFICATION DATA ELEMENTS */
DATA_SET_ID = "MEX-M-HRSC-5-REFDR-MAPPROJECTED-V3.0"
DATA_SET_NAME = "MARS EXPRESS HRSC MAP PROJECTED REFDR V3.0"
DETECTOR_ID = MEX_HRSC_GREEN
EVENT_TYPE = "MARS-REGIONAL-MAPPING-Te-Pf-La"
INSTRUMENT_HOST_ID = MEX
INSTRUMENT_HOST_NAME = "MARS EXPRESS"
INSTRUMENT_ID = HRSC
INSTRUMENT_NAME = "HIGH RESOLUTION STEREO CAMERA"
MISSION_NAME = "MARS EXPRESS"
MISSION_PHASE_NAME = MR_Phase_6
PROCESSING_LEVEL_ID = 3
PRODUCT_CREATION_TIME = 2016-03-08T06:50:01.000Z
PRODUCT_ID = "H1580_0000_GR3.JP2"
RELEASE_ID = 0020
REVISION_ID = 0000
/* QUALITY DATA ELEMENTS */
DATA_QUALITY_ID = 1
DATA_QUALITY_DESC = "Data calculated based on original SPICE kernels"
/* TIME DATA ELEMENTS */
SPACECRAFT_CLOCK_START_COUNT = "1/0061186851.56195"
SPACECRAFT_CLOCK_STOP_COUNT = "1/0061187699.61823"
START_TIME = 2005-04-10T04:21:38.889Z
STOP_TIME = 2005-04-10T04:32:59.348Z
/* ORBITAL DATA ELEMENTS */
ASCENDING_NODE_LONGITUDE = 195.35
MAXIMUM_RESOLUTION = 61
FOOTPRINT_POINT_LATITUDE = (81.4871,81.8119,81.4003,80.8639, 80.3246,79.7833,79.2404,78.6965,78.1512 ,77.5912,76.7443,76.1699,75.587,74.9991 ,74.3993,73.7949,73.1811,72.5581, 71.9282,71.2902,70.6401,69.9817,69.3143 ,68.6373,67.9498,67.2517,66.5423, 65.8216,65.0892,64.345,63.5889,62.8185, 62.0349,61.2391,60.4264,59.6003,58.7581 ,57.8997,57.0251,56.1333,55.2237, 54.2953,53.3483,52.3806,51.3928,50.3687 ,49.3366,47.7455,46.6801,45.6281, 44.5897,44.5278,44.5068,44.4587,45.4869 ,46.5288,47.5845,49.1641,50.1894, 51.7004,52.672,53.6238,54.5557,55.4693, 56.3646,57.2427,58.1045,58.9503,59.7787 ,60.5936,61.3925,62.1786,62.9493, 63.7075,64.4536,65.1875,65.9081,66.6172 ,67.3152,68.0025,68.6791,69.3451, 69.9999,70.6453,71.2823,71.9109,72.5281 ,73.1363,73.7382,74.3289,75.2,75.7716, 76.3332,77.1601,77.9703,79.0225,79.5443 ,80.0621,80.575,81.4871)
FOOTPRINT_POINT_LONGITUDE = (183.995,188.713,191.876,193.151, 194.279,195.285,196.186,196.998,197.731 ,198.414,199.333,199.888,200.404, 200.882,201.331,201.748,202.138,202.506 ,202.85,203.174,203.481,203.77,204.043, 204.301,204.546,204.779,205.0,205.21, 205.41,205.601,205.782,205.956,206.121, 206.279,206.431,206.575,206.714,206.846 ,206.973,207.095,207.211,207.323,207.43 ,207.532,207.631,207.726,207.816, 207.944,208.023,208.096,208.164,206.341 ,205.09,203.371,203.353,203.327,203.292 ,203.223,203.166,203.064,202.987, 202.901,202.807,202.703,202.591,202.47, 202.34,202.2,202.051,201.891,201.722, 201.541,201.348,201.144,200.926,200.696 ,200.451,200.192,199.917,199.624, 199.315,198.985,198.637,198.266,197.869 ,197.447,196.998,196.519,196.004, 195.457,194.558,193.903,193.198,192.034 ,190.723,188.687,187.51,186.201,184.74, 183.995)
ORBIT_NUMBER = 1580
ORBITAL_ECCENTRICITY = 0.566
ORBITAL_INCLINATION = 86.6
ORBITAL_SEMIMAJOR_AXIS = 8534.54
PERIAPSIS_ALTITUDE = 327.41
PERIAPSIS_ARGUMENT_ANGLE = 82.11
PERIAPSIS_TIME = 2005-04-10T04:17:38.000Z
SPACECRAFT_ORIENTATION = (0.0,1.0,0.0)
^MEX_ORIENTATION_DESC = "MEX_ORIENTATION_DESC.TXT"
SPACECRAFT_POINTING_MODE = ACROSSTRACK
^MEX_POINTING_DESC = "MEX_POINTING_DESC.TXT"
RIGHT_ASCENSION = -1e+32
DECLINATION = -1e+32
OFFSET_ANGLE = -0.26
SPACECRAFT_SOLAR_DISTANCE = 2.16042e+08
TARGET_NAME = MARS
/* CAMERA DATA ELEMENTS */
DETECTOR_TEMPERATURE = 18.1666
FOCAL_PLANE_TEMPERATURE = 8.3794
INST_CMPRS_NAME = "DISCRETE COSINE TRANSFORMATION (DCT)"
INST_CMPRS_RATIO = 21.277
INST_CMPRS_QUALITY = 0
INST_CMPRS_QUANTZ_TBL_ID = 0
INSTRUMENT_TEMPERATURE = 11.234
LENS_TEMPERATURE = 8.7872
MACROPIXEL_SIZE = 4
MISSING_FRAMES = 1
PIXEL_SUBSAMPLING_FLAG = N
SIGNAL_CHAIN_ID = 2
/* RADIOMETRIC DATA ELEMENTS */
BANDWIDTH = 88.0
CENTER_FILTER_WAVELENGTH = 538.0
RADIANCE_OFFSET = 0.0687034
RADIANCE_SCALING_FACTOR = 0.007847
REFLECTANCE_SCALING_FACTOR = 0.000315331
MEX:REFLECTANCE_OFFSET = 0.00276084
/* IMAGE OBJECT DEFINITIONS */
OBJECT = IMAGE
  INTERCHANGE_FORMAT = BINARY
  LINES = 44425
  LINE_SAMPLES = 7950
  SAMPLE_TYPE = UNSIGNED_INTEGER
  SAMPLE_BITS = 8
  BANDS = 1
  BAND_STORAGE_TYPE = BAND_SEQUENTIAL
  MAXIMUM = 260
  MEAN = 131.112
  MINIMUM = 8
  STANDARD_DEVIATION = 67.5017
END_OBJECT = IMAGE
/* MAP OBJECT DEFINITIONS */
OBJECT = IMAGE_MAP_PROJECTION
  ^DATA_SET_MAP_PROJECTION_CATALOG= "DSMAP.CAT"
  A_AXIS_RADIUS = 3396.0
  B_AXIS_RADIUS = 3396.0
  C_AXIS_RADIUS = 3396.0
  CENTER_LATITUDE = 0.0
  CENTER_LONGITUDE = 203.0
  COORDINATE_SYSTEM_NAME = PLANETOGRAPHIC
  COORDINATE_SYSTEM_TYPE = "BODY-FIXED ROTATING"
  EASTERNMOST_LONGITUDE = 208.164
  FIRST_STANDARD_PARALLEL = "N/A"
  LINE_FIRST_PIXEL = 1
  LINE_LAST_PIXEL = 44425
  LINE_PROJECTION_OFFSET = 97124.875
  MAP_PROJECTION_ROTATION = 0.0
  MAP_PROJECTION_TYPE = SINUSOIDAL
  MAP_RESOLUTION = 1185.42760773333
  MAP_SCALE = 0.05
  MAXIMUM_LATITUDE = 81.81189999999999
  MINIMUM_LATITUDE = 44.4587
  POSITIVE_LONGITUDE_DIRECTION = EAST
  REFERENCE_LATITUDE = "N/A"
  REFERENCE_LONGITUDE = "N/A"
  SAMPLE_FIRST_PIXEL = 1
  SAMPLE_LAST_PIXEL = 7950
  SAMPLE_PROJECTION_OFFSET = 3639.625
  SECOND_STANDARD_PARALLEL = "N/A"
  WESTERNMOST_LONGITUDE = 183.995
END_OBJECT = IMAGE_MAP_PROJECTION
/* The JPEG2000 image data file associated with this label. */
OBJECT = COMPRESSED_FILE
  FILE_NAME = "H1580_0000_GR3.JP2"
  RECORD_TYPE = UNDEFINED
  FILE_RECORDS = UNK
  ENCODING_TYPE = "JP2"
  INTERCHANGE_FORMAT = BINARY
  UNCOMPRESSED_FILE_NAME = "H1580_0000_GR3.IMG"
  REQUIRED_STORAGE_BYTES = "353210550"
  ^DESCRIPTION = "JP2INFO.TXT"
END_OBJECT = COMPRESSED_FILE
END
