PDS_VERSION_ID = PDS3
/* FILE DATA ELEMENTS */
RECORD_TYPE = STREAM
/* POINTERS TO DATA OBJECTS */
^COMPRESSED_FILE = "H1580_0000_IR3.JP2"
/* IDENTIFICATION DATA ELEMENTS */
DATA_SET_ID = "MEX-M-HRSC-5-REFDR-MAPPROJECTED-V3.0"
DATA_SET_NAME = "MARS EXPRESS HRSC MAP PROJECTED REFDR V3.0"
DETECTOR_ID = MEX_HRSC_IR
EVENT_TYPE = "MARS-REGIONAL-MAPPING-Te-Pf-La"
INSTRUMENT_HOST_ID = MEX
INSTRUMENT_HOST_NAME = "MARS EXPRESS"
INSTRUMENT_ID = HRSC
INSTRUMENT_NAME = "HIGH RESOLUTION STEREO CAMERA"
MISSION_NAME = "MARS EXPRESS"
MISSION_PHASE_NAME = MR_Phase_6
PROCESSING_LEVEL_ID = 3
PRODUCT_CREATION_TIME = 2016-03-08T06:50:01.000Z
PRODUCT_ID = "H1580_0000_IR3.JP2"
RELEASE_ID = 0020
REVISION_ID = 0000
/* QUALITY DATA ELEMENTS */
DATA_QUALITY_ID = 1
DATA_QUALITY_DESC = "Data calculated based on original SPICE kernels"
/* TIME DATA ELEMENTS */
SPACECRAFT_CLOCK_START_COUNT = "1/0061186851.56195"
SPACECRAFT_CLOCK_STOP_COUNT = "1/0061187699.61823"
START_TIME = 2005-04-10T04:22:02.886Z
STOP_TIME = 2005-04-10T04:34:34.394Z
/* ORBITAL DATA ELEMENTS */
ASCENDING_NODE_LONGITUDE = 195.35
MAXIMUM_RESOLUTION = 65.5
FOOTPRINT_POINT_LATITUDE = (81.5702,81.934,80.8703,79.798,79.2488, 78.6969,78.1318,77.2741,76.6945,76.1035 ,75.5074,74.9027,74.2884,73.6677, 73.0392,72.401,71.7529,71.0966,70.4315, 69.7564,69.0716,68.3765,67.6714,66.956, 66.2275,65.4882,64.7377,63.9738,63.1984 ,62.408,61.6058,60.7894,59.9575,59.1111 ,58.2498,57.372,56.4775,55.5664,54.6372 ,53.6903,52.7247,51.2405,50.2499, 49.2758,48.3181,47.3758,46.4494,45.5388 ,44.6433,44.552,44.5552,44.5483,44.539, 44.9629,45.8526,46.7575,47.6786,48.6159 ,49.5695,51.0306,52.0163,52.9845, 53.9338,54.8653,55.779,56.6752,57.5561, 58.4209,59.2696,60.103,60.9219,61.7257, 62.5178,63.2953,64.0593,64.8111,65.552, 66.2788,66.9952,67.7001,68.3943,69.079, 69.752,70.4149,71.068,71.7115,72.3459, 72.9719,73.5894,74.1949,74.793,75.3842, 75.9639,76.8191,77.3789,77.9287,79.2691 ,80.2951,81.3028,81.5702)
FOOTPRINT_POINT_LONGITUDE = (186.578,190.625,193.324,195.439,196.35 ,197.171,197.928,198.943,199.551, 200.117,200.638,201.124,201.577,201.998 ,202.393,202.763,203.111,203.438, 203.746,204.037,204.313,204.573,204.82, 205.055,205.279,205.491,205.694,205.887 ,206.071,206.248,206.416,206.578, 206.733,206.882,207.025,207.162,207.294 ,207.422,207.545,207.663,207.778, 207.943,208.046,208.142,208.234,208.319 ,208.4,208.477,208.55,207.644,206.32, 204.891,204.073,203.079,203.07,203.055, 203.033,203.002,202.963,202.887,202.822 ,202.749,202.667,202.575,202.475, 202.365,202.244,202.114,201.974,201.823 ,201.661,201.489,201.303,201.105, 200.895,200.671,200.431,200.178,199.907 ,199.62,199.315,198.987,198.641,198.272 ,197.878,197.457,197.008,196.527, 196.011,195.461,194.868,194.23,193.545, 192.409,191.575,190.671,188.019,185.427 ,182.182,186.578)
ORBIT_NUMBER = 1580
ORBITAL_ECCENTRICITY = 0.566
ORBITAL_INCLINATION = 86.6
ORBITAL_SEMIMAJOR_AXIS = 8534.54
PERIAPSIS_ALTITUDE = 327.41
PERIAPSIS_ARGUMENT_ANGLE = 82.11
PERIAPSIS_TIME = 2005-04-10T04:17:38.000Z
SPACECRAFT_ORIENTATION = (0.0,1.0,0.0)
^MEX_ORIENTATION_DESC = "MEX_ORIENTATION_DESC.TXT"
SPACECRAFT_POINTING_MODE = ACROSSTRACK
^MEX_POINTING_DESC = "MEX_POINTING_DESC.TXT"
RIGHT_ASCENSION = -1e+32
DECLINATION = -1e+32
OFFSET_ANGLE = -0.26
SPACECRAFT_SOLAR_DISTANCE = 2.16042e+08
TARGET_NAME = MARS
/* CAMERA DATA ELEMENTS */
DETECTOR_TEMPERATURE = 17.7588
FOCAL_PLANE_TEMPERATURE = 8.3794
INST_CMPRS_NAME = "DISCRETE COSINE TRANSFORMATION (DCT)"
INST_CMPRS_RATIO = 14.0189
INST_CMPRS_QUALITY = 0
INST_CMPRS_QUANTZ_TBL_ID = 0
INSTRUMENT_TEMPERATURE = 11.234
LENS_TEMPERATURE = 8.7872
MACROPIXEL_SIZE = 4
MISSING_FRAMES = 0
PIXEL_SUBSAMPLING_FLAG = N
SIGNAL_CHAIN_ID = 2
/* RADIOMETRIC DATA ELEMENTS */
BANDWIDTH = 81.0
CENTER_FILTER_WAVELENGTH = 955.5
RADIANCE_OFFSET = 0.0
RADIANCE_SCALING_FACTOR = 0.00759534
REFLECTANCE_SCALING_FACTOR = 0.000764801
MEX:REFLECTANCE_OFFSET = 0.0
/* IMAGE OBJECT DEFINITIONS */
OBJECT = IMAGE
  INTERCHANGE_FORMAT = BINARY
  LINES = 44425
  LINE_SAMPLES = 7950
  SAMPLE_TYPE = UNSIGNED_INTEGER
  SAMPLE_BITS = 8
  BANDS = 1
  BAND_STORAGE_TYPE = BAND_SEQUENTIAL
  MAXIMUM = 272
  MEAN = 95.8899
  MINIMUM = 0
  STANDARD_DEVIATION = 68.4212
END_OBJECT = IMAGE
/* MAP OBJECT DEFINITIONS */
OBJECT = IMAGE_MAP_PROJECTION
  ^DATA_SET_MAP_PROJECTION_CATALOG= "DSMAP.CAT"
  A_AXIS_RADIUS = 3396.0
  B_AXIS_RADIUS = 3396.0
  C_AXIS_RADIUS = 3396.0
  CENTER_LATITUDE = 0.0
  CENTER_LONGITUDE = 203.0
  COORDINATE_SYSTEM_NAME = PLANETOGRAPHIC
  COORDINATE_SYSTEM_TYPE = "BODY-FIXED ROTATING"
  EASTERNMOST_LONGITUDE = 208.55
  FIRST_STANDARD_PARALLEL = "N/A"
  LINE_FIRST_PIXEL = 1
  LINE_LAST_PIXEL = 44425
  LINE_PROJECTION_OFFSET = 97124.875
  MAP_PROJECTION_ROTATION = 0.0
  MAP_PROJECTION_TYPE = SINUSOIDAL
  MAP_RESOLUTION = 1185.42760773333
  MAP_SCALE = 0.05
  MAXIMUM_LATITUDE = 81.934
  MINIMUM_LATITUDE = 44.539
  POSITIVE_LONGITUDE_DIRECTION = EAST
  REFERENCE_LATITUDE = "N/A"
  REFERENCE_LONGITUDE = "N/A"
  SAMPLE_FIRST_PIXEL = 1
  SAMPLE_LAST_PIXEL = 7950
  SAMPLE_PROJECTION_OFFSET = 3639.625
  SECOND_STANDARD_PARALLEL = "N/A"
  WESTERNMOST_LONGITUDE = 182.182
END_OBJECT = IMAGE_MAP_PROJECTION
/* The JPEG2000 image data file associated with this label. */
OBJECT = COMPRESSED_FILE
  FILE_NAME = "H1580_0000_IR3.JP2"
  RECORD_TYPE = UNDEFINED
  FILE_RECORDS = UNK
  ENCODING_TYPE = "JP2"
  INTERCHANGE_FORMAT = BINARY
  UNCOMPRESSED_FILE_NAME = "H1580_0000_IR3.IMG"
  REQUIRED_STORAGE_BYTES = "353210550"
  ^DESCRIPTION = "JP2INFO.TXT"
END_OBJECT = COMPRESSED_FILE
END
