PDS_VERSION_ID = PDS3
/* FILE DATA ELEMENTS */
RECORD_TYPE = STREAM
/* POINTERS TO DATA OBJECTS */
^COMPRESSED_FILE = "H1582_0002_SR3.JP2"
/* IDENTIFICATION DATA ELEMENTS */
DATA_SET_ID = "MEX-M-HRSC-5-REFDR-MAPPROJECTED-V3.0"
DATA_SET_NAME = "MARS EXPRESS HRSC MAP PROJECTED REFDR V3.0"
DETECTOR_ID = MEX_HRSC_SRC
EVENT_TYPE = "MARS-REGIONAL-MAPPING-Te-Fl-Eo"
INSTRUMENT_HOST_ID = MEX
INSTRUMENT_HOST_NAME = "MARS EXPRESS"
INSTRUMENT_ID = HRSC
INSTRUMENT_NAME = "HIGH RESOLUTION STEREO CAMERA"
MISSION_NAME = "MARS EXPRESS"
MISSION_PHASE_NAME = MR_Phase_6
PROCESSING_LEVEL_ID = 3
PRODUCT_CREATION_TIME = 2016-03-08T06:50:01.000Z
PRODUCT_ID = "H1582_0002_SR3.JP2"
RELEASE_ID = 0020
REVISION_ID = 0000
/* QUALITY DATA ELEMENTS */
DATA_QUALITY_ID = 1
DATA_QUALITY_DESC = "Data calculated based on original SPICE kernels"
/* TIME DATA ELEMENTS */
SPACECRAFT_CLOCK_START_COUNT = "1/0061235269.57310"
SPACECRAFT_CLOCK_STOP_COUNT = "1/0061236121.44637"
IMAGE_TIME = 2005-04-10T17:53:50.220Z
START_TIME = 2005-04-10T17:53:50.218Z
STOP_TIME = 2005-04-10T17:53:50.223Z
/* ORBITAL DATA ELEMENTS */
ASCENDING_NODE_LONGITUDE = 195.31
MAXIMUM_RESOLUTION = 5.494
FOOTPRINT_POINT_LATITUDE = (62.323,62.3204,62.3177,62.3145,62.3099 ,62.3057,62.3016,62.2973,62.2928, 62.2904,62.2875,62.2834,62.2788,62.2754 ,62.2711,62.2673,62.2645,62.2602, 62.2578,62.2519,62.248,62.2456,62.2418, 62.2393,62.2355,62.2313,62.2307,62.2302 ,62.2298,62.2294,62.229,62.2286,62.2282 ,62.2277,62.2273,62.2269,62.2265, 62.2261,62.2256,62.2252,62.2248,62.2244 ,62.224,62.2235,62.2231,62.2227,62.2223 ,62.2218,62.2214,62.221,62.2228,62.2276 ,62.2317,62.2357,62.2404,62.2438, 62.2469,62.2525,62.2565,62.2593,62.2618 ,62.2665,62.2695,62.2737,62.2771, 62.2813,62.2856,62.2905,62.2944,62.2973 ,62.3008,62.3043,62.3072,62.3123, 62.3142,62.3146,62.3151,62.3155,62.3159 ,62.3163,62.3168,62.3172,62.3176,62.318 ,62.3184,62.3189,62.3193,62.3197, 62.3201,62.3205,62.321,62.3214,62.3218, 62.3222,62.3226,62.323,62.3235,62.3239, 62.3243,62.323)
FOOTPRINT_POINT_LONGITUDE = (6.73695,6.73757,6.73822,6.739,6.74009, 6.74111,6.74209,6.74312,6.74421,6.74479 ,6.74548,6.74645,6.74756,6.74839, 6.74941,6.75032,6.75101,6.75203,6.75261 ,6.75403,6.75496,6.75552,6.75642, 6.75704,6.75795,6.75875,6.7468,6.73884, 6.73087,6.72291,6.71495,6.70698,6.69902 ,6.69105,6.68309,6.67512,6.66716, 6.65919,6.65123,6.64327,6.6353,6.62733, 6.61937,6.6114,6.60344,6.59547,6.5875, 6.57954,6.57157,6.56361,6.55589,6.5547, 6.5537,6.55272,6.55156,6.55072,6.54996, 6.54859,6.54759,6.54691,6.54629,6.54515 ,6.54439,6.54336,6.54252,6.54149, 6.54041,6.5392,6.53824,6.53753,6.53666, 6.53579,6.53508,6.53382,6.53962,6.54761 ,6.55561,6.5636,6.57159,6.57958,6.58757 ,6.59556,6.60355,6.61154,6.61953, 6.62752,6.63551,6.6435,6.65149,6.65948, 6.66747,6.67546,6.68345,6.69143,6.69942 ,6.70741,6.7154,6.72339,6.73138, 6.73695)
ORBIT_NUMBER = 1582
ORBITAL_ECCENTRICITY = 0.566
ORBITAL_INCLINATION = 86.59
ORBITAL_SEMIMAJOR_AXIS = 8533.21
PERIAPSIS_ALTITUDE = 328.0
PERIAPSIS_ARGUMENT_ANGLE = 81.72
PERIAPSIS_TIME = 2005-04-10T17:44:20.000Z
SPACECRAFT_ORIENTATION = (0.0,1.0,0.0)
^MEX_ORIENTATION_DESC = "MEX_ORIENTATION_DESC.TXT"
SPACECRAFT_POINTING_MODE = ACROSSTRACK
^MEX_POINTING_DESC = "MEX_POINTING_DESC.TXT"
RIGHT_ASCENSION = -1e+32
DECLINATION = -1e+32
OFFSET_ANGLE = -0.48
SPACECRAFT_SOLAR_DISTANCE = 2.15946e+08
TARGET_NAME = MARS
/* CAMERA DATA ELEMENTS */
BUFFER_MODE_ID = BUFFER_8
EXPOSURE_DURATION = 5.04
INST_CMPRS_NAME = NONE
INST_CMPRS_RATIO = 1.0
INST_CMPRS_QUALITY = -2147483648
INST_CMPRS_QUANTZ_TBL_ID = -2147483648
INSTRUMENT_TEMPERATURE = 14.2424
MISSING_FRAMES = 0
START_BIT = 0
/* RADIOMETRIC DATA ELEMENTS */
BANDWIDTH = 250.0
CENTER_FILTER_WAVELENGTH = 600.0
RADIANCE_OFFSET = -9.99e+31
RADIANCE_SCALING_FACTOR = -9.99e+31
REFLECTANCE_SCALING_FACTOR = -9.99e+31
MEX:REFLECTANCE_OFFSET = -9.99e+31
/* IMAGE OBJECT DEFINITIONS */
OBJECT = IMAGE
  INTERCHANGE_FORMAT = BINARY
  LINES = 1306
  LINE_SAMPLES = 1312
  SAMPLE_TYPE = UNSIGNED_INTEGER
  SAMPLE_BITS = 8
  BANDS = 1
  BAND_STORAGE_TYPE = BAND_SEQUENTIAL
  MAXIMUM = 4202
  MEAN = 3862.14
  MINIMUM = 3307
  STANDARD_DEVIATION = 72.1501
END_OBJECT = IMAGE
/* MAP OBJECT DEFINITIONS */
OBJECT = IMAGE_MAP_PROJECTION
  ^DATA_SET_MAP_PROJECTION_CATALOG= "DSMAP.CAT"
  A_AXIS_RADIUS = 3396.19
  B_AXIS_RADIUS = 3396.19
  C_AXIS_RADIUS = 3396.19
  CENTER_LATITUDE = 0.0
  CENTER_LONGITUDE = 7.0
  COORDINATE_SYSTEM_NAME = PLANETOGRAPHIC
  COORDINATE_SYSTEM_TYPE = "BODY-FIXED ROTATING"
  EASTERNMOST_LONGITUDE = 6.75875
  FIRST_STANDARD_PARALLEL = "N/A"
  LINE_FIRST_PIXEL = 1
  LINE_LAST_PIXEL = 1306
  LINE_PROJECTION_OFFSET = 737515.0
  MAP_PROJECTION_ROTATION = 0.0
  MAP_PROJECTION_TYPE = SINUSOIDAL
  MAP_RESOLUTION = 11854.9393024378
  MAP_SCALE = 0.005
  MAXIMUM_LATITUDE = 62.3243
  MINIMUM_LATITUDE = 62.221
  POSITIVE_LONGITUDE_DIRECTION = EAST
  REFERENCE_LATITUDE = "N/A"
  REFERENCE_LONGITUDE = "N/A"
  SAMPLE_FIRST_PIXEL = 1
  SAMPLE_LAST_PIXEL = 1312
  SAMPLE_PROJECTION_OFFSET = 2778.0
  SECOND_STANDARD_PARALLEL = "N/A"
  WESTERNMOST_LONGITUDE = 6.53382
END_OBJECT = IMAGE_MAP_PROJECTION
/* The JPEG2000 image data file associated with this label. */
OBJECT = COMPRESSED_FILE
  FILE_NAME = "H1582_0002_SR3.JP2"
  RECORD_TYPE = UNDEFINED
  FILE_RECORDS = UNK
  ENCODING_TYPE = "JP2"
  INTERCHANGE_FORMAT = BINARY
  UNCOMPRESSED_FILE_NAME = "H1582_0002_SR3.IMG"
  REQUIRED_STORAGE_BYTES = "1731840"
  ^DESCRIPTION = "JP2INFO.TXT"
END_OBJECT = COMPRESSED_FILE
END
