PDS_VERSION_ID = PDS3
/* FILE DATA ELEMENTS */
RECORD_TYPE = STREAM
/* POINTERS TO DATA OBJECTS */
^COMPRESSED_FILE = "H1586_0000_GR3.JP2"
/* IDENTIFICATION DATA ELEMENTS */
DATA_SET_ID = "MEX-M-HRSC-5-REFDR-MAPPROJECTED-V3.0"
DATA_SET_NAME = "MARS EXPRESS HRSC MAP PROJECTED REFDR V3.0"
DETECTOR_ID = MEX_HRSC_GREEN
EVENT_TYPE = "MARS-REGIONAL-MAPPING-Vo-Fl-Eo"
INSTRUMENT_HOST_ID = MEX
INSTRUMENT_HOST_NAME = "MARS EXPRESS"
INSTRUMENT_ID = HRSC
INSTRUMENT_NAME = "HIGH RESOLUTION STEREO CAMERA"
MISSION_NAME = "MARS EXPRESS"
MISSION_PHASE_NAME = MR_Phase_6
PROCESSING_LEVEL_ID = 3
PRODUCT_CREATION_TIME = 2016-03-08T06:50:01.000Z
PRODUCT_ID = "H1586_0000_GR3.JP2"
RELEASE_ID = 0020
REVISION_ID = 0000
/* QUALITY DATA ELEMENTS */
DATA_QUALITY_ID = 1
DATA_QUALITY_DESC = "Data calculated based on original SPICE kernels"
/* TIME DATA ELEMENTS */
SPACECRAFT_CLOCK_START_COUNT = "1/0061332290.57161"
SPACECRAFT_CLOCK_STOP_COUNT = "1/0061333111.65371"
START_TIME = 2005-04-11T20:45:55.675Z
STOP_TIME = 2005-04-11T20:55:40.251Z
/* ORBITAL DATA ELEMENTS */
ASCENDING_NODE_LONGITUDE = 195.23
MAXIMUM_RESOLUTION = 85.3
FOOTPRINT_POINT_LATITUDE = (68.0955,68.1779,68.2625,67.8757, 66.9916,66.0913,65.1697,64.2319,63.7543 ,63.2716,62.784,62.2914,61.7933,61.2895 ,60.7798,60.2644,59.7429,59.2154, 58.6819,58.1419,57.5958,57.0423,56.482, 55.9151,55.3414,54.7597,54.1714,53.5743 ,52.9708,52.358,51.7376,51.109,50.4714, 49.8249,49.17,48.5058,47.8322,47.1488, 46.4557,45.7523,45.0391,44.3146,43.5797 ,42.8339,42.0763,41.3073,40.5264, 39.7333,38.9277,38.9402,38.9454,38.9455 ,38.9401,38.9175,39.7129,40.4963, 41.2678,42.0283,42.7775,43.5153,44.2427 ,44.9601,45.6663,46.3629,47.0499, 47.7274,48.3952,49.0539,49.7035,50.3448 ,50.9775,51.6013,52.2168,52.8251, 53.4243,54.0172,54.6013,55.1789,55.7487 ,56.3117,56.8681,57.4179,57.9603, 58.4964,59.0264,59.5502,60.0682,60.5801 ,61.0863,61.5865,62.0811,62.5702, 63.0542,63.5334,64.0073,64.9379,65.8521 ,66.7448,67.621,68.0955)
FOOTPRINT_POINT_LONGITUDE = (330.908,332.364,334.18,335.046,335.322 ,335.581,335.825,336.053,336.163, 336.269,336.372,336.472,336.569,336.664 ,336.756,336.845,336.932,337.016, 337.098,337.178,337.255,337.331,337.404 ,337.476,337.545,337.613,337.679, 337.743,337.805,337.866,337.924,337.982 ,338.038,338.092,338.145,338.196, 338.246,338.295,338.342,338.387,338.432 ,338.475,338.517,338.558,338.597, 338.635,338.672,338.708,338.743,337.565 ,336.828,335.746,335.008,333.461, 333.479,333.495,333.506,333.513,333.516 ,333.516,333.513,333.505,333.495, 333.482,333.464,333.443,333.419,333.391 ,333.361,333.326,333.289,333.249, 333.205,333.158,333.108,333.054,332.997 ,332.936,332.873,332.805,332.734,332.66 ,332.582,332.501,332.416,332.326, 332.233,332.136,332.035,331.929,331.819 ,331.705,331.587,331.463,331.335, 331.064,330.771,330.455,330.115, 330.908)
ORBIT_NUMBER = 1586
ORBITAL_ECCENTRICITY = 0.566
ORBITAL_INCLINATION = 86.61
ORBITAL_SEMIMAJOR_AXIS = 8532.91
PERIAPSIS_ALTITUDE = 327.88
PERIAPSIS_ARGUMENT_ANGLE = 81.02
PERIAPSIS_TIME = 2005-04-11T20:37:48.000Z
SPACECRAFT_ORIENTATION = (0.0,1.0,0.0)
^MEX_ORIENTATION_DESC = "MEX_ORIENTATION_DESC.TXT"
SPACECRAFT_POINTING_MODE = ACROSSTRACK
^MEX_POINTING_DESC = "MEX_POINTING_DESC.TXT"
RIGHT_ASCENSION = -1e+32
DECLINATION = -1e+32
OFFSET_ANGLE = -0.15
SPACECRAFT_SOLAR_DISTANCE = 2.15757e+08
TARGET_NAME = MARS
/* CAMERA DATA ELEMENTS */
DETECTOR_TEMPERATURE = 18.3705
FOCAL_PLANE_TEMPERATURE = 9.195
INST_CMPRS_NAME = "DISCRETE COSINE TRANSFORMATION (DCT)"
INST_CMPRS_RATIO = 25.1073
INST_CMPRS_QUALITY = 0
INST_CMPRS_QUANTZ_TBL_ID = 0
INSTRUMENT_TEMPERATURE = 11.4379
LENS_TEMPERATURE = 9.6028
MACROPIXEL_SIZE = 4
MISSING_FRAMES = 0
PIXEL_SUBSAMPLING_FLAG = N
SIGNAL_CHAIN_ID = 2
/* RADIOMETRIC DATA ELEMENTS */
BANDWIDTH = 88.0
CENTER_FILTER_WAVELENGTH = 538.0
RADIANCE_OFFSET = 1.08617
RADIANCE_SCALING_FACTOR = 0.00394231
REFLECTANCE_SCALING_FACTOR = 0.000158003
MEX:REFLECTANCE_OFFSET = 0.0435325
/* IMAGE OBJECT DEFINITIONS */
OBJECT = IMAGE
  INTERCHANGE_FORMAT = BINARY
  LINES = 17434
  LINE_SAMPLES = 2820
  SAMPLE_TYPE = UNSIGNED_INTEGER
  SAMPLE_BITS = 8
  BANDS = 1
  BAND_STORAGE_TYPE = BAND_SEQUENTIAL
  MAXIMUM = 364
  MEAN = 110.388
  MINIMUM = 187
  STANDARD_DEVIATION = 138.333
END_OBJECT = IMAGE
/* MAP OBJECT DEFINITIONS */
OBJECT = IMAGE_MAP_PROJECTION
  ^DATA_SET_MAP_PROJECTION_CATALOG= "DSMAP.CAT"
  A_AXIS_RADIUS = 3396.0
  B_AXIS_RADIUS = 3396.0
  C_AXIS_RADIUS = 3396.0
  CENTER_LATITUDE = 0.0
  CENTER_LONGITUDE = 335.0
  COORDINATE_SYSTEM_NAME = PLANETOGRAPHIC
  COORDINATE_SYSTEM_TYPE = "BODY-FIXED ROTATING"
  EASTERNMOST_LONGITUDE = 338.743
  FIRST_STANDARD_PARALLEL = "N/A"
  LINE_FIRST_PIXEL = 1
  LINE_LAST_PIXEL = 17434
  LINE_PROJECTION_OFFSET = 40496.625
  MAP_PROJECTION_ROTATION = 0.0
  MAP_PROJECTION_TYPE = SINUSOIDAL
  MAP_RESOLUTION = 592.713803866667
  MAP_SCALE = 0.1
  MAXIMUM_LATITUDE = 68.2625
  MINIMUM_LATITUDE = 38.9175
  POSITIVE_LONGITUDE_DIRECTION = EAST
  REFERENCE_LATITUDE = "N/A"
  REFERENCE_LONGITUDE = "N/A"
  SAMPLE_FIRST_PIXEL = 1
  SAMPLE_LAST_PIXEL = 2820
  SAMPLE_PROJECTION_OFFSET = 1111.875
  SECOND_STANDARD_PARALLEL = "N/A"
  WESTERNMOST_LONGITUDE = 330.115
END_OBJECT = IMAGE_MAP_PROJECTION
/* The JPEG2000 image data file associated with this label. */
OBJECT = COMPRESSED_FILE
  FILE_NAME = "H1586_0000_GR3.JP2"
  RECORD_TYPE = UNDEFINED
  FILE_RECORDS = UNK
  ENCODING_TYPE = "JP2"
  INTERCHANGE_FORMAT = BINARY
  UNCOMPRESSED_FILE_NAME = "H1586_0000_GR3.IMG"
  REQUIRED_STORAGE_BYTES = "49186440"
  ^DESCRIPTION = "JP2INFO.TXT"
END_OBJECT = COMPRESSED_FILE
END
