PDS_VERSION_ID = PDS3
/* FILE DATA ELEMENTS */
RECORD_TYPE = STREAM
/* POINTERS TO DATA OBJECTS */
^COMPRESSED_FILE = "H1587_0000_P13.JP2"
/* IDENTIFICATION DATA ELEMENTS */
DATA_SET_ID = "MEX-M-HRSC-5-REFDR-MAPPROJECTED-V3.0"
DATA_SET_NAME = "MARS EXPRESS HRSC MAP PROJECTED REFDR V3.0"
DETECTOR_ID = MEX_HRSC_P1
EVENT_TYPE = "MARS-REGIONAL-MAPPING-Te-Gl-Eo"
INSTRUMENT_HOST_ID = MEX
INSTRUMENT_HOST_NAME = "MARS EXPRESS"
INSTRUMENT_ID = HRSC
INSTRUMENT_NAME = "HIGH RESOLUTION STEREO CAMERA"
MISSION_NAME = "MARS EXPRESS"
MISSION_PHASE_NAME = MR_Phase_6
PROCESSING_LEVEL_ID = 3
PRODUCT_CREATION_TIME = 2016-03-08T06:50:01.000Z
PRODUCT_ID = "H1587_0000_P13.JP2"
RELEASE_ID = 0020
REVISION_ID = 0000
/* QUALITY DATA ELEMENTS */
DATA_QUALITY_ID = 1
DATA_QUALITY_DESC = "Data calculated based on original SPICE kernels"
/* TIME DATA ELEMENTS */
SPACECRAFT_CLOCK_START_COUNT = "1/0061356266.57140"
SPACECRAFT_CLOCK_STOP_COUNT = "1/0061356801.11591"
START_TIME = 2005-04-12T03:25:32.533Z
STOP_TIME = 2005-04-12T03:32:54.310Z
/* ORBITAL DATA ELEMENTS */
ASCENDING_NODE_LONGITUDE = 195.21
MAXIMUM_RESOLUTION = 32.3
FOOTPRINT_POINT_LATITUDE = (81.8812,82.0852,82.2699,81.8595, 81.5018,80.7789,80.4052,80.0295,79.4588 ,79.0708,78.6817,78.0836,77.6822, 77.2746,76.8647,76.2388,75.8195,75.3899 ,74.9611,74.5237,73.8625,73.4175, 72.9659,72.2813,71.5851,70.8782,70.4017 ,69.9177,69.429,68.9364,68.4386,67.9329 ,67.4224,66.9064,66.3847,65.8565, 65.3226,64.782,64.235,63.6811,62.8799, 62.3087,61.7307,61.1461,60.5541,59.9533 ,59.3452,58.7285,58.3542,58.3329, 58.3075,58.2781,58.236,58.493,59.1053, 59.708,60.3038,60.8917,61.4715,62.0446, 62.6106,63.4054,64.2269,64.766,65.2984, 65.8248,66.3445,66.8574,67.3647,67.8666 ,68.3628,68.854,69.3387,69.8169,70.291, 70.761,71.2229,71.908,72.5815,73.0258, 73.4622,73.8966,74.3244,74.7485,75.1668 ,75.785,76.3941,76.7918,77.1886,77.7681 ,78.1521,78.5264,78.8985,79.2644, 79.6224,79.9778,80.4961,81.1676,81.4965 ,81.8812)
FOOTPRINT_POINT_LONGITUDE = (210.631,213.187,215.816,218.132, 219.328,221.433,222.384,223.262,224.466 ,225.207,225.896,226.862,227.454, 228.014,228.541,229.281,229.738,230.178 ,230.591,230.987,231.543,231.891, 232.225,232.696,233.138,233.552,233.813 ,234.065,234.307,234.539,234.762, 234.977,235.184,235.384,235.576,235.762 ,235.941,236.114,236.281,236.443, 236.664,236.813,236.958,237.098,237.233 ,237.365,237.493,237.616,237.026, 236.268,235.507,234.742,233.781,232.688 ,232.565,232.436,232.301,232.16,232.012 ,231.857,231.695,231.451,231.178, 230.985,230.785,230.576,230.357,230.13, 229.892,229.643,229.384,229.112,228.829 ,228.534,228.225,227.901,227.564, 227.028,226.454,226.046,225.622,225.17, 224.701,224.203,223.683,222.852,221.949 ,221.309,220.627,219.537,218.75,217.916 ,217.026,216.088,215.094,214.023, 212.287,209.666,208.192,210.631)
ORBIT_NUMBER = 1587
ORBITAL_ECCENTRICITY = 0.566
ORBITAL_INCLINATION = 86.61
ORBITAL_SEMIMAJOR_AXIS = 8534.87
PERIAPSIS_ALTITUDE = 327.01
PERIAPSIS_ARGUMENT_ANGLE = 80.85
PERIAPSIS_TIME = 2005-04-12T03:21:06.000Z
SPACECRAFT_ORIENTATION = (0.0,1.0,0.0)
^MEX_ORIENTATION_DESC = "MEX_ORIENTATION_DESC.TXT"
SPACECRAFT_POINTING_MODE = ACROSSTRACK
^MEX_POINTING_DESC = "MEX_POINTING_DESC.TXT"
RIGHT_ASCENSION = -1e+32
DECLINATION = -1e+32
OFFSET_ANGLE = -0.82
SPACECRAFT_SOLAR_DISTANCE = 2.15709e+08
TARGET_NAME = MARS
/* CAMERA DATA ELEMENTS */
DETECTOR_TEMPERATURE = 17.5549
FOCAL_PLANE_TEMPERATURE = 8.3794
INST_CMPRS_NAME = "DISCRETE COSINE TRANSFORMATION (DCT)"
INST_CMPRS_RATIO = 14.6471
INST_CMPRS_QUALITY = 0
INST_CMPRS_QUANTZ_TBL_ID = 0
INSTRUMENT_TEMPERATURE = 11.234
LENS_TEMPERATURE = 8.9911
MACROPIXEL_SIZE = 2
MISSING_FRAMES = 95
PIXEL_SUBSAMPLING_FLAG = N
SIGNAL_CHAIN_ID = 3
/* RADIOMETRIC DATA ELEMENTS */
BANDWIDTH = 174.0
CENTER_FILTER_WAVELENGTH = 675.0
RADIANCE_OFFSET = 0.0
RADIANCE_SCALING_FACTOR = 0.016934
REFLECTANCE_SCALING_FACTOR = 0.000423821
MEX:REFLECTANCE_OFFSET = 0.0
/* IMAGE OBJECT DEFINITIONS */
OBJECT = IMAGE
  INTERCHANGE_FORMAT = BINARY
  LINES = 57455
  LINE_SAMPLES = 16827
  SAMPLE_TYPE = UNSIGNED_INTEGER
  SAMPLE_BITS = 8
  BANDS = 1
  BAND_STORAGE_TYPE = BAND_SEQUENTIAL
  MAXIMUM = 311
  MEAN = 122.087
  MINIMUM = 0
  STANDARD_DEVIATION = 87.2142
END_OBJECT = IMAGE
/* MAP OBJECT DEFINITIONS */
OBJECT = IMAGE_MAP_PROJECTION
  ^DATA_SET_MAP_PROJECTION_CATALOG= "DSMAP.CAT"
  A_AXIS_RADIUS = 3396.0
  B_AXIS_RADIUS = 3396.0
  C_AXIS_RADIUS = 3396.0
  CENTER_LATITUDE = 0.0
  CENTER_LONGITUDE = 230.0
  COORDINATE_SYSTEM_NAME = PLANETOGRAPHIC
  COORDINATE_SYSTEM_TYPE = "BODY-FIXED ROTATING"
  EASTERNMOST_LONGITUDE = 237.616
  FIRST_STANDARD_PARALLEL = "N/A"
  LINE_FIRST_PIXEL = 1
  LINE_LAST_PIXEL = 57455
  LINE_PROJECTION_OFFSET = 195384.75
  MAP_PROJECTION_ROTATION = 0.0
  MAP_PROJECTION_TYPE = SINUSOIDAL
  MAP_RESOLUTION = 2370.85521546667
  MAP_SCALE = 0.025
  MAXIMUM_LATITUDE = 82.26990000000001
  MINIMUM_LATITUDE = 58.236
  POSITIVE_LONGITUDE_DIRECTION = EAST
  REFERENCE_LATITUDE = "N/A"
  REFERENCE_LONGITUDE = "N/A"
  SAMPLE_FIRST_PIXEL = 1
  SAMPLE_LAST_PIXEL = 16827
  SAMPLE_PROJECTION_OFFSET = 7553.75
  SECOND_STANDARD_PARALLEL = "N/A"
  WESTERNMOST_LONGITUDE = 208.192
END_OBJECT = IMAGE_MAP_PROJECTION
/* The JPEG2000 image data file associated with this label. */
OBJECT = COMPRESSED_FILE
  FILE_NAME = "H1587_0000_P13.JP2"
  RECORD_TYPE = UNDEFINED
  FILE_RECORDS = UNK
  ENCODING_TYPE = "JP2"
  INTERCHANGE_FORMAT = BINARY
  UNCOMPRESSED_FILE_NAME = "H1587_0000_P13.IMG"
  REQUIRED_STORAGE_BYTES = "966845766"
  ^DESCRIPTION = "JP2INFO.TXT"
END_OBJECT = COMPRESSED_FILE
END
