PDS_VERSION_ID = PDS3
/* FILE DATA ELEMENTS */
RECORD_TYPE = STREAM
/* POINTERS TO DATA OBJECTS */
^COMPRESSED_FILE = "H1587_0009_RE3.JP2"
/* IDENTIFICATION DATA ELEMENTS */
DATA_SET_ID = "MEX-M-HRSC-5-REFDR-MAPPROJECTED-V3.0"
DATA_SET_NAME = "MARS EXPRESS HRSC MAP PROJECTED REFDR V3.0"
DETECTOR_ID = MEX_HRSC_RED
EVENT_TYPE = "MARS-REGIONAL-MAPPING-Vo-Eo"
INSTRUMENT_HOST_ID = MEX
INSTRUMENT_HOST_NAME = "MARS EXPRESS"
INSTRUMENT_ID = HRSC
INSTRUMENT_NAME = "HIGH RESOLUTION STEREO CAMERA"
MISSION_NAME = "MARS EXPRESS"
MISSION_PHASE_NAME = MR_Phase_6
PROCESSING_LEVEL_ID = 3
PRODUCT_CREATION_TIME = 2016-03-08T06:50:01.000Z
PRODUCT_ID = "H1587_0009_RE3.JP2"
RELEASE_ID = 0020
REVISION_ID = 0000
/* QUALITY DATA ELEMENTS */
DATA_QUALITY_ID = 1
DATA_QUALITY_DESC = "Data calculated based on original SPICE kernels"
/* TIME DATA ELEMENTS */
SPACECRAFT_CLOCK_START_COUNT = "1/0061356929.57306"
SPACECRAFT_CLOCK_STOP_COUNT = "1/0061359006.07514"
START_TIME = 2005-04-12T03:35:54.974Z
STOP_TIME = 2005-04-12T03:46:12.133Z
/* ORBITAL DATA ELEMENTS */
ASCENDING_NODE_LONGITUDE = 195.21
MAXIMUM_RESOLUTION = 157.1
FOOTPRINT_POINT_LATITUDE = (41.6895,41.7769,41.839,41.8734,41.3166 ,40.2167,39.6569,39.0897,38.5139, 37.9317,37.3438,36.7488,36.1462,35.536, 34.9188,34.2941,33.6613,33.0202,32.378, 31.74,31.1055,30.4742,29.8467,29.2227, 28.6018,27.9842,27.3702,26.7592,26.1524 ,25.5485,24.9481,24.3511,23.757,23.166, 22.5783,21.9944,21.4131,20.8356,20.2618 ,19.6908,19.1232,18.5591,17.9987, 17.4408,16.886,16.3348,15.2414,14.1582, 13.0856,12.3685,12.4394,12.4797,12.5091 ,12.5195,12.5248,12.5231,13.0417, 14.0908,15.1523,16.2299,17.3118,17.8586 ,18.409,18.963,19.5179,20.0768,20.639, 21.2053,21.7748,22.3482,22.9251,23.5055 ,24.0894,24.6767,25.2673,25.8624, 26.4616,27.0651,27.6707,28.2795,28.892, 29.5081,30.1281,30.7511,31.3787,32.0097 ,32.9621,33.596,34.2217,34.8393,35.4503 ,36.0531,36.649,37.2381,37.8197,38.3939 ,38.9612,39.5229,40.6266,41.6895)
FOOTPRINT_POINT_LONGITUDE = (234.682,236.046,237.358,238.416, 239.113,239.17,239.197,239.224,239.25, 239.275,239.298,239.321,239.344,239.365 ,239.385,239.405,239.423,239.441, 239.457,239.473,239.487,239.5,239.512, 239.523,239.533,239.542,239.55,239.557, 239.564,239.569,239.574,239.578,239.581 ,239.584,239.586,239.587,239.588, 239.588,239.587,239.585,239.583,239.58, 239.577,239.573,239.569,239.564,239.552 ,239.539,239.525,239.276,238.001, 237.031,235.996,235.323,234.4,233.347, 233.019,233.149,233.274,233.398,233.513 ,233.569,233.625,233.679,233.732, 233.783,233.834,233.883,233.932,233.979 ,234.025,234.07,234.114,234.156,234.197 ,234.237,234.276,234.314,234.349, 234.383,234.416,234.447,234.476,234.503 ,234.529,234.554,234.586,234.605, 234.622,234.636,234.648,234.658,234.667 ,234.673,234.677,234.678,234.678, 234.676,234.667,234.682)
ORBIT_NUMBER = 1587
ORBITAL_ECCENTRICITY = 0.566
ORBITAL_INCLINATION = 86.61
ORBITAL_SEMIMAJOR_AXIS = 8534.87
PERIAPSIS_ALTITUDE = 327.01
PERIAPSIS_ARGUMENT_ANGLE = 80.85
PERIAPSIS_TIME = 2005-04-12T03:21:06.000Z
SPACECRAFT_ORIENTATION = (0.0,1.0,0.0)
^MEX_ORIENTATION_DESC = "MEX_ORIENTATION_DESC.TXT"
SPACECRAFT_POINTING_MODE = ACROSSTRACK
^MEX_POINTING_DESC = "MEX_POINTING_DESC.TXT"
RIGHT_ASCENSION = -1e+32
DECLINATION = -1e+32
OFFSET_ANGLE = -0.82
SPACECRAFT_SOLAR_DISTANCE = 2.15709e+08
TARGET_NAME = MARS
/* CAMERA DATA ELEMENTS */
DETECTOR_TEMPERATURE = 21.2251
FOCAL_PLANE_TEMPERATURE = 8.5833
INST_CMPRS_NAME = "DISCRETE COSINE TRANSFORMATION (DCT)"
INST_CMPRS_RATIO = 16.4423
INST_CMPRS_QUALITY = 0
INST_CMPRS_QUANTZ_TBL_ID = 0
INSTRUMENT_TEMPERATURE = 13.6808
LENS_TEMPERATURE = 9.195
MACROPIXEL_SIZE = 4
MISSING_FRAMES = 0
PIXEL_SUBSAMPLING_FLAG = N
SIGNAL_CHAIN_ID = 2
/* RADIOMETRIC DATA ELEMENTS */
BANDWIDTH = 48.0
CENTER_FILTER_WAVELENGTH = 748.0
RADIANCE_OFFSET = 1.23426
RADIANCE_SCALING_FACTOR = 0.00676878
REFLECTANCE_SCALING_FACTOR = 0.000718731
MEX:REFLECTANCE_OFFSET = 0.131058
/* IMAGE OBJECT DEFINITIONS */
OBJECT = IMAGE
  INTERCHANGE_FORMAT = BINARY
  LINES = 8777
  LINE_SAMPLES = 2335
  SAMPLE_TYPE = UNSIGNED_INTEGER
  SAMPLE_BITS = 8
  BANDS = 1
  BAND_STORAGE_TYPE = BAND_SEQUENTIAL
  MAXIMUM = 314
  MEAN = 115.117
  MINIMUM = 124
  STANDARD_DEVIATION = 119.892
END_OBJECT = IMAGE
/* MAP OBJECT DEFINITIONS */
OBJECT = IMAGE_MAP_PROJECTION
  ^DATA_SET_MAP_PROJECTION_CATALOG= "DSMAP.CAT"
  A_AXIS_RADIUS = 3396.0
  B_AXIS_RADIUS = 3396.0
  C_AXIS_RADIUS = 3396.0
  CENTER_LATITUDE = 0.0
  CENTER_LONGITUDE = 237.0
  COORDINATE_SYSTEM_NAME = PLANETOGRAPHIC
  COORDINATE_SYSTEM_TYPE = "BODY-FIXED ROTATING"
  EASTERNMOST_LONGITUDE = 239.588
  FIRST_STANDARD_PARALLEL = "N/A"
  LINE_FIRST_PIXEL = 1
  LINE_LAST_PIXEL = 8777
  LINE_PROJECTION_OFFSET = 12379.625
  MAP_PROJECTION_ROTATION = 0.0
  MAP_PROJECTION_TYPE = SINUSOIDAL
  MAP_RESOLUTION = 296.356901933333
  MAP_SCALE = 0.2
  MAXIMUM_LATITUDE = 41.8734
  MINIMUM_LATITUDE = 12.3685
  POSITIVE_LONGITUDE_DIRECTION = EAST
  REFERENCE_LATITUDE = "N/A"
  REFERENCE_LONGITUDE = "N/A"
  SAMPLE_FIRST_PIXEL = 1
  SAMPLE_LAST_PIXEL = 2335
  SAMPLE_PROJECTION_OFFSET = 1423.875
  SECOND_STANDARD_PARALLEL = "N/A"
  WESTERNMOST_LONGITUDE = 233.019
END_OBJECT = IMAGE_MAP_PROJECTION
/* The JPEG2000 image data file associated with this label. */
OBJECT = COMPRESSED_FILE
  FILE_NAME = "H1587_0009_RE3.JP2"
  RECORD_TYPE = UNDEFINED
  FILE_RECORDS = UNK
  ENCODING_TYPE = "JP2"
  INTERCHANGE_FORMAT = BINARY
  UNCOMPRESSED_FILE_NAME = "H1587_0009_RE3.IMG"
  REQUIRED_STORAGE_BYTES = "20515310"
  ^DESCRIPTION = "JP2INFO.TXT"
END_OBJECT = COMPRESSED_FILE
END
