PDS_VERSION_ID = PDS3
/* FILE DATA ELEMENTS */
RECORD_TYPE = STREAM
/* POINTERS TO DATA OBJECTS */
^COMPRESSED_FILE = "H1589_0000_S13.JP2"
/* IDENTIFICATION DATA ELEMENTS */
DATA_SET_ID = "MEX-M-HRSC-5-REFDR-MAPPROJECTED-V3.0"
DATA_SET_NAME = "MARS EXPRESS HRSC MAP PROJECTED REFDR V3.0"
DETECTOR_ID = MEX_HRSC_S1
EVENT_TYPE = "MARS-REGIONAL-MAPPING-Te-Im-Fl"
INSTRUMENT_HOST_ID = MEX
INSTRUMENT_HOST_NAME = "MARS EXPRESS"
INSTRUMENT_ID = HRSC
INSTRUMENT_NAME = "HIGH RESOLUTION STEREO CAMERA"
MISSION_NAME = "MARS EXPRESS"
MISSION_PHASE_NAME = MR_Phase_6
PROCESSING_LEVEL_ID = 3
PRODUCT_CREATION_TIME = 2016-03-08T06:50:01.000Z
PRODUCT_ID = "H1589_0000_S13.JP2"
RELEASE_ID = 0020
REVISION_ID = 0000
/* QUALITY DATA ELEMENTS */
DATA_QUALITY_ID = 1
DATA_QUALITY_DESC = "Data calculated based on original SPICE kernels"
/* TIME DATA ELEMENTS */
SPACECRAFT_CLOCK_START_COUNT = "1/0061404832.57952"
SPACECRAFT_CLOCK_STOP_COUNT = "1/0061405641.33987"
START_TIME = 2005-04-12T16:55:42.095Z
STOP_TIME = 2005-04-12T17:07:26.865Z
/* ORBITAL DATA ELEMENTS */
ASCENDING_NODE_LONGITUDE = 195.16
MAXIMUM_RESOLUTION = 51.9
FOOTPRINT_POINT_LATITUDE = (73.4086,73.7323,72.6983,71.6371, 70.5491,69.4301,68.281,67.099,65.8825, 64.6286,63.9875,63.3355,62.6718,61.9976 ,61.311,60.6125,59.9015,59.1763,58.4373 ,57.6835,56.9146,56.129,55.3267,54.5066 ,53.6671,52.808,51.9269,51.0243,50.0981 ,49.1463,48.1674,47.1477,46.1093, 45.0369,43.9284,42.781,41.5924,40.3585, 39.0753,38.4138,37.7378,37.0471,36.3402 ,35.6169,34.8735,34.1144,33.3368, 32.5351,31.7119,31.7858,31.8963,31.9905 ,32.0434,32.8826,33.6776,34.4546,35.206 ,35.9417,36.659,37.3595,38.0448,38.7154 ,39.371,40.6436,41.8667,43.0452,44.1816 ,45.2787,46.3423,47.3705,48.38,49.3524, 50.2995,51.2103,52.0989,52.9725,53.8234 ,54.653,55.4634,56.2561,57.0316,57.7909 ,58.5341,59.2628,59.9769,60.6774, 61.3646,62.0395,62.7019,63.3533,64.6214 ,65.848,67.0351,68.1849,69.2985,70.3787 ,71.4245,72.4385,73.4181,73.4086)
FOOTPRINT_POINT_LONGITUDE = (21.0782,25.6423,26.788,27.8046,28.7129 ,29.5297,30.2643,30.9267,31.5244,32.065 ,32.3149,32.5535,32.781,32.9964,33.2024 ,33.3973,33.5815,33.7584,33.9247, 34.0831,34.2325,34.3735,34.506,34.6297, 34.7478,34.8569,34.9602,35.0544,35.1402 ,35.2195,35.2915,35.3576,35.4135, 35.4625,35.5028,35.54,35.5701,35.5851, 35.5937,35.5917,35.5892,35.5835,35.5733 ,35.5615,35.5368,35.5208,35.5052, 35.4774,35.4482,34.5385,33.0252,31.3592 ,30.1029,29.4102,29.4708,29.5495,29.583 ,29.6289,29.6643,29.6889,29.7171, 29.7406,29.7461,29.7715,29.7994,29.759, 29.7374,29.7191,29.6521,29.5966,29.5211 ,29.4112,29.2827,29.216,29.1239,28.9756 ,28.8252,28.6698,28.5058,28.3271, 28.1368,27.9312,27.716,27.4876,27.2455, 26.9899,26.7209,26.4358,26.1362,25.8198 ,25.1359,24.3787,23.5412,22.6124, 21.5836,20.4408,19.1692,17.7508,16.1683 ,21.0782)
ORBIT_NUMBER = 1589
ORBITAL_ECCENTRICITY = 0.566
ORBITAL_INCLINATION = 86.59
ORBITAL_SEMIMAJOR_AXIS = 8533.67
PERIAPSIS_ALTITUDE = 327.32
PERIAPSIS_ARGUMENT_ANGLE = 80.5
PERIAPSIS_TIME = 2005-04-12T16:47:47.000Z
SPACECRAFT_ORIENTATION = (0.0,1.0,0.0)
^MEX_ORIENTATION_DESC = "MEX_ORIENTATION_DESC.TXT"
SPACECRAFT_POINTING_MODE = INERT
^MEX_POINTING_DESC = "MEX_POINTING_DESC.TXT"
RIGHT_ASCENSION = 125.684
DECLINATION = -46.485
OFFSET_ANGLE = -1e+32
SPACECRAFT_SOLAR_DISTANCE = 2.15615e+08
TARGET_NAME = MARS
/* CAMERA DATA ELEMENTS */
DETECTOR_TEMPERATURE = 17.7588
FOCAL_PLANE_TEMPERATURE = 9.195
INST_CMPRS_NAME = "DISCRETE COSINE TRANSFORMATION (DCT)"
INST_CMPRS_RATIO = 10.651
INST_CMPRS_QUALITY = 0
INST_CMPRS_QUANTZ_TBL_ID = 0
INSTRUMENT_TEMPERATURE = 11.4379
LENS_TEMPERATURE = 9.6028
MACROPIXEL_SIZE = 2
MISSING_FRAMES = 1
PIXEL_SUBSAMPLING_FLAG = N
SIGNAL_CHAIN_ID = 1
/* RADIOMETRIC DATA ELEMENTS */
BANDWIDTH = 180.0
CENTER_FILTER_WAVELENGTH = 677.0
RADIANCE_OFFSET = 0.458091
RADIANCE_SCALING_FACTOR = 0.0332341
REFLECTANCE_SCALING_FACTOR = 0.000806086
MEX:REFLECTANCE_OFFSET = 0.0111109
/* IMAGE OBJECT DEFINITIONS */
OBJECT = IMAGE
  INTERCHANGE_FORMAT = BINARY
  LINES = 50052
  LINE_SAMPLES = 8175
  SAMPLE_TYPE = UNSIGNED_INTEGER
  SAMPLE_BITS = 8
  BANDS = 1
  BAND_STORAGE_TYPE = BAND_SEQUENTIAL
  MAXIMUM = 357
  MEAN = 150.533
  MINIMUM = 16
  STANDARD_DEVIATION = 73.9526
END_OBJECT = IMAGE
/* MAP OBJECT DEFINITIONS */
OBJECT = IMAGE_MAP_PROJECTION
  ^DATA_SET_MAP_PROJECTION_CATALOG= "DSMAP.CAT"
  A_AXIS_RADIUS = 3396.0
  B_AXIS_RADIUS = 3396.0
  C_AXIS_RADIUS = 3396.0
  CENTER_LATITUDE = 0.0
  CENTER_LONGITUDE = 31.0
  COORDINATE_SYSTEM_NAME = PLANETOGRAPHIC
  COORDINATE_SYSTEM_TYPE = "BODY-FIXED ROTATING"
  EASTERNMOST_LONGITUDE = 35.5937
  FIRST_STANDARD_PARALLEL = "N/A"
  LINE_FIRST_PIXEL = 1
  LINE_LAST_PIXEL = 50052
  LINE_PROJECTION_OFFSET = 87596.75
  MAP_PROJECTION_ROTATION = 0.0
  MAP_PROJECTION_TYPE = SINUSOIDAL
  MAP_RESOLUTION = 1185.42760773333
  MAP_SCALE = 0.05
  MAXIMUM_LATITUDE = 73.7323
  MINIMUM_LATITUDE = 31.7119
  POSITIVE_LONGITUDE_DIRECTION = EAST
  REFERENCE_LATITUDE = "N/A"
  REFERENCE_LONGITUDE = "N/A"
  SAMPLE_FIRST_PIXEL = 1
  SAMPLE_LAST_PIXEL = 8175
  SAMPLE_PROJECTION_OFFSET = 4308.75
  SECOND_STANDARD_PARALLEL = "N/A"
  WESTERNMOST_LONGITUDE = 16.1683
END_OBJECT = IMAGE_MAP_PROJECTION
/* The JPEG2000 image data file associated with this label. */
OBJECT = COMPRESSED_FILE
  FILE_NAME = "H1589_0000_S13.JP2"
  RECORD_TYPE = UNDEFINED
  FILE_RECORDS = UNK
  ENCODING_TYPE = "JP2"
  INTERCHANGE_FORMAT = BINARY
  UNCOMPRESSED_FILE_NAME = "H1589_0000_S13.IMG"
  REQUIRED_STORAGE_BYTES = "409207800"
  ^DESCRIPTION = "JP2INFO.TXT"
END_OBJECT = COMPRESSED_FILE
END
