PDS_VERSION_ID = PDS3
/* FILE DATA ELEMENTS */
RECORD_TYPE = STREAM
/* POINTERS TO DATA OBJECTS */
^COMPRESSED_FILE = "H1589_0000_S23.JP2"
/* IDENTIFICATION DATA ELEMENTS */
DATA_SET_ID = "MEX-M-HRSC-5-REFDR-MAPPROJECTED-V3.0"
DATA_SET_NAME = "MARS EXPRESS HRSC MAP PROJECTED REFDR V3.0"
DETECTOR_ID = MEX_HRSC_S2
EVENT_TYPE = "MARS-REGIONAL-MAPPING-Te-Im-Fl"
INSTRUMENT_HOST_ID = MEX
INSTRUMENT_HOST_NAME = "MARS EXPRESS"
INSTRUMENT_ID = HRSC
INSTRUMENT_NAME = "HIGH RESOLUTION STEREO CAMERA"
MISSION_NAME = "MARS EXPRESS"
MISSION_PHASE_NAME = MR_Phase_6
PROCESSING_LEVEL_ID = 3
PRODUCT_CREATION_TIME = 2016-03-08T06:50:01.000Z
PRODUCT_ID = "H1589_0000_S23.JP2"
RELEASE_ID = 0020
REVISION_ID = 0000
/* QUALITY DATA ELEMENTS */
DATA_QUALITY_ID = 1
DATA_QUALITY_DESC = "Data calculated based on original SPICE kernels"
/* TIME DATA ELEMENTS */
SPACECRAFT_CLOCK_START_COUNT = "1/0061404832.57952"
SPACECRAFT_CLOCK_STOP_COUNT = "1/0061405641.33987"
START_TIME = 2005-04-12T16:54:00.316Z
STOP_TIME = 2005-04-12T17:03:14.308Z
/* ORBITAL DATA ELEMENTS */
ASCENDING_NODE_LONGITUDE = 195.16
MAXIMUM_RESOLUTION = 38.1
FOOTPRINT_POINT_LATITUDE = (73.7019,74.1103,73.3468,72.3085, 71.2432,70.1492,69.0254,67.871,66.6835, 65.4583,64.1973,62.8934,62.2245,61.5445 ,60.853,60.1474,59.4289,58.6974,57.9501 ,57.1884,56.4112,55.6152,54.8022, 53.9705,53.1194,52.2478,51.3507,50.4332 ,49.4872,48.5158,47.5164,46.4861, 45.4204,44.3213,43.1828,42.0053,40.7948 ,39.5314,38.8696,38.1965,37.5062,36.815 ,36.0996,35.3702,34.6114,33.8338, 33.0368,32.5405,32.2413,31.8799,31.6111 ,31.1841,30.8793,31.7345,32.6224, 33.4449,34.2702,35.0417,35.8006,36.5318 ,37.2537,37.9622,38.6348,39.3038, 40.6023,41.8681,43.0414,44.1888,45.3182 ,46.373,47.4109,48.4194,49.3751,50.3055 ,51.2541,52.1649,53.0287,53.8757,54.706 ,55.5189,56.3121,57.0873,57.8447,58.588 ,59.3162,60.0301,60.7303,61.4176, 62.0924,62.7557,63.4052,64.6738,65.9016 ,67.0913,68.2433,69.362,70.448,71.5025, 72.5269,73.7019)
FOOTPRINT_POINT_LONGITUDE = (21.9699,25.4788,26.3288,27.3481,28.257 ,29.0665,29.7944,30.4474,31.036,31.5637 ,32.0387,32.4664,32.6632,32.8498,33.027 ,33.1923,33.3489,33.4974,33.635,33.765, 33.8865,33.9994,34.1038,34.199,34.2891, 34.3695,34.4402,34.5048,34.5583,34.6051 ,34.6439,34.6737,34.6929,34.704,34.7051 ,34.6972,34.6859,34.6596,34.6361, 34.6108,34.5812,34.556,34.5228,34.4874, 34.4424,34.3933,34.3403,33.1071,31.9917 ,30.7525,29.9036,28.6621,27.8339, 27.9642,28.1299,28.2547,28.3922,28.4953 ,28.5968,28.6845,28.7722,28.8576, 28.9181,28.9841,29.1016,29.2208,29.2746 ,29.3291,29.3939,29.4,29.412,29.4144, 29.3727,29.3187,29.3156,29.2854,29.2038 ,29.1188,29.0288,28.9288,28.815,28.6899 ,28.55,28.401,28.2394,28.0649,27.8782, 27.6785,27.4641,27.2374,26.9948,26.4675 ,25.8742,25.2108,24.4695,23.6418,22.719 ,21.6852,20.5277,21.9699)
ORBIT_NUMBER = 1589
ORBITAL_ECCENTRICITY = 0.566
ORBITAL_INCLINATION = 86.59
ORBITAL_SEMIMAJOR_AXIS = 8533.67
PERIAPSIS_ALTITUDE = 327.32
PERIAPSIS_ARGUMENT_ANGLE = 80.5
PERIAPSIS_TIME = 2005-04-12T16:47:47.000Z
SPACECRAFT_ORIENTATION = (0.0,1.0,0.0)
^MEX_ORIENTATION_DESC = "MEX_ORIENTATION_DESC.TXT"
SPACECRAFT_POINTING_MODE = INERT
^MEX_POINTING_DESC = "MEX_POINTING_DESC.TXT"
RIGHT_ASCENSION = 125.684
DECLINATION = -46.485
OFFSET_ANGLE = -1e+32
SPACECRAFT_SOLAR_DISTANCE = 2.15615e+08
TARGET_NAME = MARS
/* CAMERA DATA ELEMENTS */
DETECTOR_TEMPERATURE = 18.9822
FOCAL_PLANE_TEMPERATURE = 9.195
INST_CMPRS_NAME = "DISCRETE COSINE TRANSFORMATION (DCT)"
INST_CMPRS_RATIO = 12.311
INST_CMPRS_QUALITY = 0
INST_CMPRS_QUANTZ_TBL_ID = 0
INSTRUMENT_TEMPERATURE = 11.4379
LENS_TEMPERATURE = 9.6028
MACROPIXEL_SIZE = 2
MISSING_FRAMES = 0
PIXEL_SUBSAMPLING_FLAG = N
SIGNAL_CHAIN_ID = 1
/* RADIOMETRIC DATA ELEMENTS */
BANDWIDTH = 178.0
CENTER_FILTER_WAVELENGTH = 679.0
RADIANCE_OFFSET = 0.44642
RADIANCE_SCALING_FACTOR = 0.0336746
REFLECTANCE_SCALING_FACTOR = 0.000829062
MEX:REFLECTANCE_OFFSET = 0.0109908
/* IMAGE OBJECT DEFINITIONS */
OBJECT = IMAGE
  INTERCHANGE_FORMAT = BINARY
  LINES = 50052
  LINE_SAMPLES = 8175
  SAMPLE_TYPE = UNSIGNED_INTEGER
  SAMPLE_BITS = 8
  BANDS = 1
  BAND_STORAGE_TYPE = BAND_SEQUENTIAL
  MAXIMUM = 361
  MEAN = 137.042
  MINIMUM = 14
  STANDARD_DEVIATION = 72.0835
END_OBJECT = IMAGE
/* MAP OBJECT DEFINITIONS */
OBJECT = IMAGE_MAP_PROJECTION
  ^DATA_SET_MAP_PROJECTION_CATALOG= "DSMAP.CAT"
  A_AXIS_RADIUS = 3396.0
  B_AXIS_RADIUS = 3396.0
  C_AXIS_RADIUS = 3396.0
  CENTER_LATITUDE = 0.0
  CENTER_LONGITUDE = 31.0
  COORDINATE_SYSTEM_NAME = PLANETOGRAPHIC
  COORDINATE_SYSTEM_TYPE = "BODY-FIXED ROTATING"
  EASTERNMOST_LONGITUDE = 34.7051
  FIRST_STANDARD_PARALLEL = "N/A"
  LINE_FIRST_PIXEL = 1
  LINE_LAST_PIXEL = 50052
  LINE_PROJECTION_OFFSET = 87596.75
  MAP_PROJECTION_ROTATION = 0.0
  MAP_PROJECTION_TYPE = SINUSOIDAL
  MAP_RESOLUTION = 1185.42760773333
  MAP_SCALE = 0.05
  MAXIMUM_LATITUDE = 74.1103
  MINIMUM_LATITUDE = 30.8793
  POSITIVE_LONGITUDE_DIRECTION = EAST
  REFERENCE_LATITUDE = "N/A"
  REFERENCE_LONGITUDE = "N/A"
  SAMPLE_FIRST_PIXEL = 1
  SAMPLE_LAST_PIXEL = 8175
  SAMPLE_PROJECTION_OFFSET = 4308.75
  SECOND_STANDARD_PARALLEL = "N/A"
  WESTERNMOST_LONGITUDE = 20.5277
END_OBJECT = IMAGE_MAP_PROJECTION
/* The JPEG2000 image data file associated with this label. */
OBJECT = COMPRESSED_FILE
  FILE_NAME = "H1589_0000_S23.JP2"
  RECORD_TYPE = UNDEFINED
  FILE_RECORDS = UNK
  ENCODING_TYPE = "JP2"
  INTERCHANGE_FORMAT = BINARY
  UNCOMPRESSED_FILE_NAME = "H1589_0000_S23.IMG"
  REQUIRED_STORAGE_BYTES = "409207800"
  ^DESCRIPTION = "JP2INFO.TXT"
END_OBJECT = COMPRESSED_FILE
END
