PDS_VERSION_ID = PDS3
/* FILE DATA ELEMENTS */
RECORD_TYPE = STREAM
/* POINTERS TO DATA OBJECTS */
^COMPRESSED_FILE = "H1589_0006_SR3.JP2"
/* IDENTIFICATION DATA ELEMENTS */
DATA_SET_ID = "MEX-M-HRSC-5-REFDR-MAPPROJECTED-V3.0"
DATA_SET_NAME = "MARS EXPRESS HRSC MAP PROJECTED REFDR V3.0"
DETECTOR_ID = MEX_HRSC_SRC
EVENT_TYPE = "MARS-REGIONAL-MAPPING-Te-Im-Fl"
INSTRUMENT_HOST_ID = MEX
INSTRUMENT_HOST_NAME = "MARS EXPRESS"
INSTRUMENT_ID = HRSC
INSTRUMENT_NAME = "HIGH RESOLUTION STEREO CAMERA"
MISSION_NAME = "MARS EXPRESS"
MISSION_PHASE_NAME = MR_Phase_6
PROCESSING_LEVEL_ID = 3
PRODUCT_CREATION_TIME = 2016-03-08T06:50:01.000Z
PRODUCT_ID = "H1589_0006_SR3.JP2"
RELEASE_ID = 0020
REVISION_ID = 0000
/* QUALITY DATA ELEMENTS */
DATA_QUALITY_ID = 1
DATA_QUALITY_DESC = "Data calculated based on original SPICE kernels"
/* TIME DATA ELEMENTS */
SPACECRAFT_CLOCK_START_COUNT = "1/0061404832.57952"
SPACECRAFT_CLOCK_STOP_COUNT = "1/0061405641.33987"
IMAGE_TIME = 2005-04-12T17:00:46.595Z
START_TIME = 2005-04-12T17:00:46.592Z
STOP_TIME = 2005-04-12T17:00:46.597Z
/* ORBITAL DATA ELEMENTS */
ASCENDING_NODE_LONGITUDE = 195.16
MAXIMUM_RESOLUTION = 8.14
FOOTPRINT_POINT_LATITUDE = (50.4595,50.455,50.4481,50.4434,50.4362 ,50.43,50.4217,50.4156,50.4112,50.404, 50.3994,50.3948,50.3902,50.385,50.3807, 50.3754,50.3696,50.3654,50.3617,50.3577 ,50.3523,50.3467,50.3388,50.3321, 50.3278,50.3249,50.3243,50.3237,50.3231 ,50.3225,50.3218,50.3212,50.3206,50.32, 50.3193,50.3187,50.3181,50.3174,50.3168 ,50.3162,50.3155,50.3149,50.3143, 50.3136,50.313,50.3117,50.3111,50.3104, 50.3098,50.3091,50.3137,50.3214,50.3252 ,50.33,50.3379,50.3429,50.3493,50.3529, 50.3583,50.3656,50.3739,50.3793,50.3841 ,50.3892,50.3931,50.3979,50.4018, 50.4072,50.4157,50.4227,50.4277,50.4355 ,50.4404,50.4472,50.451,50.4517,50.4523 ,50.4529,50.4535,50.4544,50.455,50.4556 ,50.4562,50.4568,50.4574,50.4581, 50.4587,50.4593,50.4599,50.4605,50.4611 ,50.4617,50.4623,50.4629,50.4635, 50.4641,50.4647,50.4652,50.4658, 50.4595)
FOOTPRINT_POINT_LONGITUDE = (32.2517,32.2519,32.2522,32.2524, 32.2526,32.2529,32.2532,32.2535,32.2537 ,32.2539,32.2541,32.2543,32.2545, 32.2547,32.2549,32.2551,32.2553,32.2555 ,32.2556,32.2558,32.256,32.2562,32.2565 ,32.2568,32.257,32.252,32.2424,32.2328, 32.2231,32.2135,32.2039,32.1942,32.1846 ,32.175,32.1653,32.1557,32.146,32.1363, 32.1267,32.117,32.1073,32.0977,32.088, 32.0783,32.0686,32.0547,32.045,32.0353, 32.0256,32.0159,32.0096,32.0093,32.0092 ,32.009,32.0086,32.0084,32.0082,32.008, 32.0078,32.0075,32.0071,32.0069,32.0067 ,32.0065,32.0063,32.0061,32.0059, 32.0057,32.0054,32.0051,32.0048,32.0045 ,32.0043,32.004,32.0163,32.026,32.0357, 32.0454,32.0551,32.0642,32.0739,32.0836 ,32.0933,32.1029,32.1126,32.1223,32.132 ,32.1417,32.1513,32.161,32.1707,32.1803 ,32.19,32.1996,32.2093,32.2189,32.2285, 32.2382,32.2478,32.2517)
ORBIT_NUMBER = 1589
ORBITAL_ECCENTRICITY = 0.566
ORBITAL_INCLINATION = 86.59
ORBITAL_SEMIMAJOR_AXIS = 8533.67
PERIAPSIS_ALTITUDE = 327.32
PERIAPSIS_ARGUMENT_ANGLE = 80.5
PERIAPSIS_TIME = 2005-04-12T16:47:47.000Z
SPACECRAFT_ORIENTATION = (0.0,1.0,0.0)
^MEX_ORIENTATION_DESC = "MEX_ORIENTATION_DESC.TXT"
SPACECRAFT_POINTING_MODE = INERT
^MEX_POINTING_DESC = "MEX_POINTING_DESC.TXT"
RIGHT_ASCENSION = 125.684
DECLINATION = -46.485
OFFSET_ANGLE = -1e+32
SPACECRAFT_SOLAR_DISTANCE = 2.15615e+08
TARGET_NAME = MARS
/* CAMERA DATA ELEMENTS */
BUFFER_MODE_ID = BUFFER_8
EXPOSURE_DURATION = 5.04
INST_CMPRS_NAME = NONE
INST_CMPRS_RATIO = 1.0
INST_CMPRS_QUALITY = -2147483648
INST_CMPRS_QUANTZ_TBL_ID = -2147483648
INSTRUMENT_TEMPERATURE = 17.2727
MISSING_FRAMES = 0
START_BIT = 0
/* RADIOMETRIC DATA ELEMENTS */
BANDWIDTH = 250.0
CENTER_FILTER_WAVELENGTH = 600.0
RADIANCE_OFFSET = -9.99e+31
RADIANCE_SCALING_FACTOR = -9.99e+31
REFLECTANCE_SCALING_FACTOR = -9.99e+31
MEX:REFLECTANCE_OFFSET = -9.99e+31
/* IMAGE OBJECT DEFINITIONS */
OBJECT = IMAGE
  INTERCHANGE_FORMAT = BINARY
  LINES = 986
  LINE_SAMPLES = 1010
  SAMPLE_TYPE = UNSIGNED_INTEGER
  SAMPLE_BITS = 8
  BANDS = 1
  BAND_STORAGE_TYPE = BAND_SEQUENTIAL
  MAXIMUM = 5176
  MEAN = 4459.74
  MINIMUM = 3571
  STANDARD_DEVIATION = 163.6
END_OBJECT = IMAGE
/* MAP OBJECT DEFINITIONS */
OBJECT = IMAGE_MAP_PROJECTION
  ^DATA_SET_MAP_PROJECTION_CATALOG= "DSMAP.CAT"
  A_AXIS_RADIUS = 3396.19
  B_AXIS_RADIUS = 3396.19
  C_AXIS_RADIUS = 3396.19
  CENTER_LATITUDE = 0.0
  CENTER_LONGITUDE = 32.0
  COORDINATE_SYSTEM_NAME = PLANETOGRAPHIC
  COORDINATE_SYSTEM_TYPE = "BODY-FIXED ROTATING"
  EASTERNMOST_LONGITUDE = 32.257
  FIRST_STANDARD_PARALLEL = "N/A"
  LINE_FIRST_PIXEL = 1
  LINE_LAST_PIXEL = 986
  LINE_PROJECTION_OFFSET = 298538.0
  MAP_PROJECTION_ROTATION = 0.0
  MAP_PROJECTION_TYPE = SINUSOIDAL
  MAP_RESOLUTION = 5927.46965121889
  MAP_SCALE = 0.01
  MAXIMUM_LATITUDE = 50.4658
  MINIMUM_LATITUDE = 50.3091
  POSITIVE_LONGITUDE_DIRECTION = EAST
  REFERENCE_LATITUDE = "N/A"
  REFERENCE_LONGITUDE = "N/A"
  SAMPLE_FIRST_PIXEL = 1
  SAMPLE_LAST_PIXEL = 1010
  SAMPLE_PROJECTION_OFFSET = 594.0
  SECOND_STANDARD_PARALLEL = "N/A"
  WESTERNMOST_LONGITUDE = 32.004
END_OBJECT = IMAGE_MAP_PROJECTION
/* The JPEG2000 image data file associated with this label. */
OBJECT = COMPRESSED_FILE
  FILE_NAME = "H1589_0006_SR3.JP2"
  RECORD_TYPE = UNDEFINED
  FILE_RECORDS = UNK
  ENCODING_TYPE = "JP2"
  INTERCHANGE_FORMAT = BINARY
  UNCOMPRESSED_FILE_NAME = "H1589_0006_SR3.IMG"
  REQUIRED_STORAGE_BYTES = "1014040"
  ^DESCRIPTION = "JP2INFO.TXT"
END_OBJECT = COMPRESSED_FILE
END
