PDS_VERSION_ID = PDS3
/* FILE DATA ELEMENTS */
RECORD_TYPE = STREAM
/* POINTERS TO DATA OBJECTS */
^COMPRESSED_FILE = "H1590_0000_S23.JP2"
/* IDENTIFICATION DATA ELEMENTS */
DATA_SET_ID = "MEX-M-HRSC-5-REFDR-MAPPROJECTED-V3.0"
DATA_SET_NAME = "MARS EXPRESS HRSC MAP PROJECTED REFDR V3.0"
DETECTOR_ID = MEX_HRSC_S2
EVENT_TYPE = "MARS-REGIONAL-MAPPING-Vo-Te-Pf"
INSTRUMENT_HOST_ID = MEX
INSTRUMENT_HOST_NAME = "MARS EXPRESS"
INSTRUMENT_ID = HRSC
INSTRUMENT_NAME = "HIGH RESOLUTION STEREO CAMERA"
MISSION_NAME = "MARS EXPRESS"
MISSION_PHASE_NAME = MR_Phase_6
PROCESSING_LEVEL_ID = 3
PRODUCT_CREATION_TIME = 2016-03-08T06:50:01.000Z
PRODUCT_ID = "H1590_0000_S23.JP2"
RELEASE_ID = 0020
REVISION_ID = 0000
/* QUALITY DATA ELEMENTS */
DATA_QUALITY_ID = 1
DATA_QUALITY_DESC = "Data calculated based on original SPICE kernels"
/* TIME DATA ELEMENTS */
SPACECRAFT_CLOCK_START_COUNT = "1/0061428986.57147"
SPACECRAFT_CLOCK_STOP_COUNT = "1/0061430264.57488"
START_TIME = 2005-04-12T23:36:34.331Z
STOP_TIME = 2005-04-12T23:49:24.040Z
/* ORBITAL DATA ELEMENTS */
ASCENDING_NODE_LONGITUDE = 195.15
MAXIMUM_RESOLUTION = 36
FOOTPRINT_POINT_LATITUDE = (76.0194,76.149,75.1477,73.6634,72.442, 71.1871,69.8952,68.5644,67.1933,66.4927 ,65.7809,65.0571,64.321,63.5719,62.809, 62.0331,61.2435,60.4389,59.621,58.7857, 57.9358,57.0686,56.1835,55.2809,54.3596 ,53.4189,52.4577,51.477,50.4724,49.4462 ,48.3954,47.3198,46.2194,45.0912, 43.9381,42.7539,41.5368,40.2852,39.0015 ,37.6798,36.3233,35.6287,34.925,34.2231 ,33.4995,32.7651,32.0163,31.2619,30.496 ,30.4027,30.4261,30.4408,30.4346, 31.2024,31.9471,32.6823,33.4086,34.1248 ,34.8318,36.2183,37.5621,38.8725,40.15, 41.3963,42.608,43.7887,44.9394,46.063, 47.1611,48.2312,49.2768,50.2995,51.2976 ,52.2747,53.2315,54.1685,55.086,55.986, 56.8673,57.732,58.5786,59.4114,60.2272, 61.0276,61.8138,62.5862,63.3452,64.0909 ,64.8235,65.5431,66.251,66.9475,68.3102 ,69.6304,70.9124,72.1548,73.3625, 74.5363,75.6768,76.0194)
FOOTPRINT_POINT_LONGITUDE = (295.929,299.023,299.977,300.812, 301.389,301.899,302.353,302.759,303.123 ,303.29,303.449,303.6,303.744,303.881, 304.012,304.136,304.255,304.368,304.476 ,304.579,304.676,304.769,304.858, 304.942,305.023,305.099,305.171,305.239 ,305.304,305.365,305.423,305.477, 305.528,305.576,305.618,305.659,305.697 ,305.733,305.765,305.794,305.82,305.832 ,305.843,305.848,305.857,305.865, 305.874,305.879,305.884,304.961,304.09, 302.884,301.631,300.938,300.975,301.01, 301.042,301.072,301.1,301.148,301.186, 301.215,301.236,301.25,301.254,301.251, 301.24,301.221,301.196,301.164,301.124, 301.077,301.023,300.963,300.895,300.821 ,300.739,300.65,300.554,300.451,300.339 ,300.219,300.092,299.955,299.81,299.655 ,299.49,299.315,299.129,298.932,298.724 ,298.502,298.018,297.472,296.856, 296.159,295.366,294.46,293.419,295.929)
ORBIT_NUMBER = 1590
ORBITAL_ECCENTRICITY = 0.566
ORBITAL_INCLINATION = 86.6
ORBITAL_SEMIMAJOR_AXIS = 8534.54
PERIAPSIS_ALTITUDE = 327.57
PERIAPSIS_ARGUMENT_ANGLE = 80.34
PERIAPSIS_TIME = 2005-04-12T23:31:11.000Z
SPACECRAFT_ORIENTATION = (0.0,1.0,0.0)
^MEX_ORIENTATION_DESC = "MEX_ORIENTATION_DESC.TXT"
SPACECRAFT_POINTING_MODE = ACROSSTRACK
^MEX_POINTING_DESC = "MEX_POINTING_DESC.TXT"
RIGHT_ASCENSION = -1e+32
DECLINATION = -1e+32
OFFSET_ANGLE = 0.3
SPACECRAFT_SOLAR_DISTANCE = 2.15568e+08
TARGET_NAME = MARS
/* CAMERA DATA ELEMENTS */
DETECTOR_TEMPERATURE = 18.7783
FOCAL_PLANE_TEMPERATURE = 8.9911
INST_CMPRS_NAME = "DISCRETE COSINE TRANSFORMATION (DCT)"
INST_CMPRS_RATIO = 11.3581
INST_CMPRS_QUALITY = 0
INST_CMPRS_QUANTZ_TBL_ID = 0
INSTRUMENT_TEMPERATURE = 11.234
LENS_TEMPERATURE = 9.195
MACROPIXEL_SIZE = 2
MISSING_FRAMES = 0
PIXEL_SUBSAMPLING_FLAG = N
SIGNAL_CHAIN_ID = 1
/* RADIOMETRIC DATA ELEMENTS */
BANDWIDTH = 178.0
CENTER_FILTER_WAVELENGTH = 679.0
RADIANCE_OFFSET = 0.960798
RADIANCE_SCALING_FACTOR = 0.0335337
REFLECTANCE_SCALING_FACTOR = 0.000825235
MEX:REFLECTANCE_OFFSET = 0.0236444
/* IMAGE OBJECT DEFINITIONS */
OBJECT = IMAGE
  INTERCHANGE_FORMAT = BINARY
  LINES = 108329
  LINE_SAMPLES = 13787
  SAMPLE_TYPE = UNSIGNED_INTEGER
  SAMPLE_BITS = 8
  BANDS = 1
  BAND_STORAGE_TYPE = BAND_SEQUENTIAL
  MAXIMUM = 311
  MEAN = 130.814
  MINIMUM = 28
  STANDARD_DEVIATION = 54.7925
END_OBJECT = IMAGE
/* MAP OBJECT DEFINITIONS */
OBJECT = IMAGE_MAP_PROJECTION
  ^DATA_SET_MAP_PROJECTION_CATALOG= "DSMAP.CAT"
  A_AXIS_RADIUS = 3396.0
  B_AXIS_RADIUS = 3396.0
  C_AXIS_RADIUS = 3396.0
  CENTER_LATITUDE = 0.0
  CENTER_LONGITUDE = 302.0
  COORDINATE_SYSTEM_NAME = PLANETOGRAPHIC
  COORDINATE_SYSTEM_TYPE = "BODY-FIXED ROTATING"
  EASTERNMOST_LONGITUDE = 305.884
  FIRST_STANDARD_PARALLEL = "N/A"
  LINE_FIRST_PIXEL = 1
  LINE_LAST_PIXEL = 108329
  LINE_PROJECTION_OFFSET = 180251.75
  MAP_PROJECTION_ROTATION = 0.0
  MAP_PROJECTION_TYPE = SINUSOIDAL
  MAP_RESOLUTION = 2370.85521546667
  MAP_SCALE = 0.025
  MAXIMUM_LATITUDE = 76.149
  MINIMUM_LATITUDE = 30.4027
  POSITIVE_LONGITUDE_DIRECTION = EAST
  REFERENCE_LATITUDE = "N/A"
  REFERENCE_LONGITUDE = "N/A"
  SAMPLE_FIRST_PIXEL = 1
  SAMPLE_LAST_PIXEL = 13787
  SAMPLE_PROJECTION_OFFSET = 5097.25
  SECOND_STANDARD_PARALLEL = "N/A"
  WESTERNMOST_LONGITUDE = 293.419
END_OBJECT = IMAGE_MAP_PROJECTION
/* The JPEG2000 image data file associated with this label. */
OBJECT = COMPRESSED_FILE
  FILE_NAME = "H1590_0000_S23.JP2"
  RECORD_TYPE = UNDEFINED
  FILE_RECORDS = UNK
  ENCODING_TYPE = "JP2"
  INTERCHANGE_FORMAT = BINARY
  UNCOMPRESSED_FILE_NAME = "H1590_0000_S23.IMG"
  REQUIRED_STORAGE_BYTES = "1493573284"
  ^DESCRIPTION = "JP2INFO.TXT"
END_OBJECT = COMPRESSED_FILE
END
