PDS_VERSION_ID = PDS3
/* FILE DATA ELEMENTS */
RECORD_TYPE = STREAM
/* POINTERS TO DATA OBJECTS */
^COMPRESSED_FILE = "H1592_0017_SR3.JP2"
/* IDENTIFICATION DATA ELEMENTS */
DATA_SET_ID = "MEX-M-HRSC-5-REFDR-MAPPROJECTED-V3.0"
DATA_SET_NAME = "MARS EXPRESS HRSC MAP PROJECTED REFDR V3.0"
DETECTOR_ID = MEX_HRSC_SRC
EVENT_TYPE = "MARS-TERMINATOR-VARIABLE-Gl-Tc-At"
INSTRUMENT_HOST_ID = MEX
INSTRUMENT_HOST_NAME = "MARS EXPRESS"
INSTRUMENT_ID = HRSC
INSTRUMENT_NAME = "HIGH RESOLUTION STEREO CAMERA"
MISSION_NAME = "MARS EXPRESS"
MISSION_PHASE_NAME = MR_Phase_6
PROCESSING_LEVEL_ID = 3
PRODUCT_CREATION_TIME = 2016-03-08T06:50:01.000Z
PRODUCT_ID = "H1592_0017_SR3.JP2"
RELEASE_ID = 0020
REVISION_ID = 0000
/* QUALITY DATA ELEMENTS */
DATA_QUALITY_ID = 1
DATA_QUALITY_DESC = "Data calculated based on original SPICE kernels"
/* TIME DATA ELEMENTS */
SPACECRAFT_CLOCK_START_COUNT = "1/0061481346.57149"
SPACECRAFT_CLOCK_STOP_COUNT = "1/0061483276.51121"
IMAGE_TIME = 2005-04-13T14:17:52.347Z
START_TIME = 2005-04-13T14:17:52.345Z
STOP_TIME = 2005-04-13T14:17:52.350Z
/* ORBITAL DATA ELEMENTS */
ASCENDING_NODE_LONGITUDE = 195.11
MAXIMUM_RESOLUTION = 58.08
FOOTPRINT_POINT_LATITUDE = (-40.8339,-40.8895,-40.9238,-40.9795, -41.0073,-41.0352,-41.063,-41.1025, -41.1303,-41.1582,-41.186,-41.2139, -41.2613,-41.2892,-41.3171,-41.3449, -41.3728,-41.4006,-41.4285,-41.4564, -41.4843,-41.5121,-41.5473,-41.599, -41.6269,-41.6671,-41.7023,-41.722, -41.7417,-41.7614,-41.7811,-41.8007, -41.8204,-41.8455,-41.8652,-41.8848, -41.9044,-41.9387,-41.9583,-41.9932, -42.0127,-42.0323,-42.0518,-42.0713, -42.0908,-42.1103,-42.1352,-42.1546, -42.1334,-42.1052,-42.0771,-42.0489, -42.0208,-41.9926,-41.9645,-41.9364, -41.8905,-41.8624,-41.8342,-41.8061, -41.7678,-41.7397,-41.7116,-41.6835, -41.6553,-41.6272,-41.5991,-41.5545, -41.5264,-41.4983,-41.4702,-41.4421, -41.414,-41.3859,-41.3578,-41.3048, -41.2627,-41.2381,-41.219,-41.1998, -41.1806,-41.1614,-41.1422,-41.123, -41.0939,-41.0747,-41.0554,-41.0361, -41.0169,-40.9976,-40.9782,-40.944, -40.9246,-40.8952,-40.8758,-40.8564, -40.837,-40.8076,-40.7881,-40.8339)
FOOTPRINT_POINT_LONGITUDE = (96.9895,97.0303,97.0553,97.0962, 97.1167,97.1372,97.1578,97.1872,97.2078 ,97.2284,97.249,97.2697,97.3046,97.3253 ,97.346,97.3668,97.3875,97.4083,97.4291 ,97.4499,97.4707,97.4916,97.5182, 97.5569,97.5778,97.5914,97.5115,97.4657 ,97.4198,97.374,97.3281,97.2821,97.2362 ,97.1788,97.1327,97.0867,97.0406, 96.9599,96.9137,96.8329,96.7866,96.7403 ,96.694,96.6476,96.6012,96.5548,96.4968 ,96.4503,96.4105,96.3899,96.3694, 96.3488,96.3283,96.3079,96.2874,96.267, 96.2338,96.2134,96.193,96.1727,96.1448, 96.1245,96.1042,96.0839,96.0637,96.0434 ,96.0232,95.9918,95.9716,95.9515, 95.9314,95.9113,95.8912,95.8711,95.8511 ,95.8129,95.8292,95.8867,95.9327, 95.9786,96.0245,96.0703,96.1162,96.162, 96.2306,96.2763,96.322,96.3677,96.4133, 96.4589,96.5044,96.5841,96.6296,96.6977 ,96.7432,96.7885,96.8339,96.9018, 96.9471,96.9895)
ORBIT_NUMBER = 1592
ORBITAL_ECCENTRICITY = 0.566
ORBITAL_INCLINATION = 86.6
ORBITAL_SEMIMAJOR_AXIS = 8533.98
PERIAPSIS_ALTITUDE = 326.82
PERIAPSIS_ARGUMENT_ANGLE = 79.95
PERIAPSIS_TIME = 2005-04-13T12:57:53.000Z
SPACECRAFT_ORIENTATION = (0.0,1.0,0.0)
^MEX_ORIENTATION_DESC = "MEX_ORIENTATION_DESC.TXT"
SPACECRAFT_POINTING_MODE = INERT
^MEX_POINTING_DESC = "MEX_POINTING_DESC.TXT"
RIGHT_ASCENSION = 124.954
DECLINATION = -46.277
OFFSET_ANGLE = -1e+32
SPACECRAFT_SOLAR_DISTANCE = 2.15474e+08
TARGET_NAME = MARS
/* CAMERA DATA ELEMENTS */
BUFFER_MODE_ID = DIRECT
EXPOSURE_DURATION = 5.04
INST_CMPRS_NAME = NONE
INST_CMPRS_RATIO = 1.0
INST_CMPRS_QUALITY = -2147483648
INST_CMPRS_QUANTZ_TBL_ID = -2147483648
INSTRUMENT_TEMPERATURE = 17.2727
MISSING_FRAMES = 0
START_BIT = 0
/* RADIOMETRIC DATA ELEMENTS */
BANDWIDTH = 250.0
CENTER_FILTER_WAVELENGTH = 600.0
RADIANCE_OFFSET = -9.99e+31
RADIANCE_SCALING_FACTOR = -9.99e+31
REFLECTANCE_SCALING_FACTOR = -9.99e+31
MEX:REFLECTANCE_OFFSET = -9.99e+31
/* IMAGE OBJECT DEFINITIONS */
OBJECT = IMAGE
  INTERCHANGE_FORMAT = BINARY
  LINES = 2084
  LINE_SAMPLES = 2057
  SAMPLE_TYPE = UNSIGNED_INTEGER
  SAMPLE_BITS = 8
  BANDS = 1
  BAND_STORAGE_TYPE = BAND_SEQUENTIAL
  MAXIMUM = 6445
  MEAN = 5884.81
  MINIMUM = 5161
  STANDARD_DEVIATION = 120.231
END_OBJECT = IMAGE
/* MAP OBJECT DEFINITIONS */
OBJECT = IMAGE_MAP_PROJECTION
  ^DATA_SET_MAP_PROJECTION_CATALOG= "DSMAP.CAT"
  A_AXIS_RADIUS = 3396.19
  B_AXIS_RADIUS = 3396.19
  C_AXIS_RADIUS = 3396.19
  CENTER_LATITUDE = 0.0
  CENTER_LONGITUDE = 97.0
  COORDINATE_SYSTEM_NAME = PLANETOGRAPHIC
  COORDINATE_SYSTEM_TYPE = "BODY-FIXED ROTATING"
  EASTERNMOST_LONGITUDE = 97.59139999999999
  FIRST_STANDARD_PARALLEL = "N/A"
  LINE_FIRST_PIXEL = 1
  LINE_LAST_PIXEL = 2084
  LINE_PROJECTION_OFFSET = -60402.0
  MAP_PROJECTION_ROTATION = 0.0
  MAP_PROJECTION_TYPE = SINUSOIDAL
  MAP_RESOLUTION = 1481.86741280472
  MAP_SCALE = 0.04
  MAXIMUM_LATITUDE = -40.7881
  MINIMUM_LATITUDE = -42.1546
  POSITIVE_LONGITUDE_DIRECTION = EAST
  REFERENCE_LATITUDE = "N/A"
  REFERENCE_LONGITUDE = "N/A"
  SAMPLE_FIRST_PIXEL = 1
  SAMPLE_LAST_PIXEL = 2057
  SAMPLE_PROJECTION_OFFSET = 1362.0
  SECOND_STANDARD_PARALLEL = "N/A"
  WESTERNMOST_LONGITUDE = 95.8129
END_OBJECT = IMAGE_MAP_PROJECTION
/* The JPEG2000 image data file associated with this label. */
OBJECT = COMPRESSED_FILE
  FILE_NAME = "H1592_0017_SR3.JP2"
  RECORD_TYPE = UNDEFINED
  FILE_RECORDS = UNK
  ENCODING_TYPE = "JP2"
  INTERCHANGE_FORMAT = BINARY
  UNCOMPRESSED_FILE_NAME = "H1592_0017_SR3.IMG"
  REQUIRED_STORAGE_BYTES = "4307358"
  ^DESCRIPTION = "JP2INFO.TXT"
END_OBJECT = COMPRESSED_FILE
END
