PDS_VERSION_ID = PDS3
/* FILE DATA ELEMENTS */
RECORD_TYPE = STREAM
/* POINTERS TO DATA OBJECTS */
^COMPRESSED_FILE = "H1592_0030_SR3.JP2"
/* IDENTIFICATION DATA ELEMENTS */
DATA_SET_ID = "MEX-M-HRSC-5-REFDR-MAPPROJECTED-V3.0"
DATA_SET_NAME = "MARS EXPRESS HRSC MAP PROJECTED REFDR V3.0"
DETECTOR_ID = MEX_HRSC_SRC
EVENT_TYPE = "MARS-TERMINATOR-VARIABLE-Gl-Tc-At"
INSTRUMENT_HOST_ID = MEX
INSTRUMENT_HOST_NAME = "MARS EXPRESS"
INSTRUMENT_ID = HRSC
INSTRUMENT_NAME = "HIGH RESOLUTION STEREO CAMERA"
MISSION_NAME = "MARS EXPRESS"
MISSION_PHASE_NAME = MR_Phase_6
PROCESSING_LEVEL_ID = 3
PRODUCT_CREATION_TIME = 2016-03-08T06:50:01.000Z
PRODUCT_ID = "H1592_0030_SR3.JP2"
RELEASE_ID = 0020
REVISION_ID = 0000
/* QUALITY DATA ELEMENTS */
DATA_QUALITY_ID = 1
DATA_QUALITY_DESC = "Data calculated based on original SPICE kernels"
/* TIME DATA ELEMENTS */
SPACECRAFT_CLOCK_START_COUNT = "1/0061481346.57149"
SPACECRAFT_CLOCK_STOP_COUNT = "1/0061483276.51121"
IMAGE_TIME = 2005-04-13T14:25:29.623Z
START_TIME = 2005-04-13T14:25:29.620Z
STOP_TIME = 2005-04-13T14:25:29.625Z
/* ORBITAL DATA ELEMENTS */
ASCENDING_NODE_LONGITUDE = 195.11
MAXIMUM_RESOLUTION = 63.888
FOOTPRINT_POINT_LATITUDE = (-54.333,-54.4206,-54.4531,-54.4856, -54.5181,-54.5599,-54.5924,-54.625, -54.6576,-54.6901,-54.7227,-54.7584, -54.791,-54.8236,-54.8562,-54.9061, -54.9387,-54.9714,-55.0041,-55.0368, -55.096,-55.1288,-55.1615,-55.1942, -55.2518,-55.3047,-55.3287,-55.353, -55.3772,-55.4014,-55.4348,-55.4772, -55.5013,-55.5255,-55.5496,-55.579, -55.6031,-55.6272,-55.6513,-55.6753, -55.7052,-55.7292,-55.7724,-55.7964, -55.8268,-55.8507,-55.8746,-55.8985, -55.8846,-55.8512,-55.8045,-55.7711, -55.7206,-55.6873,-55.654,-55.6207, -55.5874,-55.5541,-55.5208,-55.4876, -55.4336,-55.3673,-55.3341,-55.3009, -55.2677,-55.2346,-55.2014,-55.1683, -55.1352,-55.0883,-55.0552,-55.0221, -54.989,-54.956,-54.9229,-54.8899, -54.8448,-54.8216,-54.7984,-54.7567, -54.7232,-54.7,-54.6767,-54.6507, -54.6274,-54.604,-54.5807,-54.5573, -54.5144,-54.491,-54.4676,-54.4441, -54.4219,-54.3971,-54.3736,-54.3501, -54.3266,-54.303,-54.2797,-54.333)
FOOTPRINT_POINT_LONGITUDE = (96.9666,97.0496,97.0805,97.1115, 97.1426,97.1841,97.2153,97.2465,97.2779 ,97.3092,97.3407,97.3751,97.4067, 97.4384,97.4701,97.5179,97.5498,97.5817 ,97.6136,97.6457,97.7024,97.7346, 97.7669,97.7992,97.856,97.9063,97.8415, 97.7767,97.7118,97.6468,97.5662,97.4521 ,97.3868,97.3214,97.2559,97.1737,97.108 ,97.0422,96.9764,96.9104,96.8278, 96.7617,96.6459,96.5795,96.4964,96.4298 ,96.3631,96.2963,96.2027,96.1712, 96.1262,96.0949,96.048,96.0169,95.9858, 95.9548,95.9238,95.8929,95.8621,95.8313 ,95.7814,95.7211,95.6906,95.6602, 95.6298,95.5995,95.5692,95.539,95.5089, 95.4665,95.4365,95.4066,95.3767,95.3468 ,95.317,95.2873,95.3569,95.4223,95.4876 ,95.6017,95.6994,95.7644,95.8293, 95.8938,95.9585,96.0232,96.0877,96.1522 ,96.2646,96.3288,96.3929,96.457,96.5212 ,96.5849,96.6487,96.7125,96.7762, 96.8398,96.9033,96.9666)
ORBIT_NUMBER = 1592
ORBITAL_ECCENTRICITY = 0.566
ORBITAL_INCLINATION = 86.6
ORBITAL_SEMIMAJOR_AXIS = 8533.98
PERIAPSIS_ALTITUDE = 326.82
PERIAPSIS_ARGUMENT_ANGLE = 79.95
PERIAPSIS_TIME = 2005-04-13T12:57:53.000Z
SPACECRAFT_ORIENTATION = (0.0,1.0,0.0)
^MEX_ORIENTATION_DESC = "MEX_ORIENTATION_DESC.TXT"
SPACECRAFT_POINTING_MODE = INERT
^MEX_POINTING_DESC = "MEX_POINTING_DESC.TXT"
RIGHT_ASCENSION = 124.954
DECLINATION = -46.277
OFFSET_ANGLE = -1e+32
SPACECRAFT_SOLAR_DISTANCE = 2.15474e+08
TARGET_NAME = MARS
/* CAMERA DATA ELEMENTS */
BUFFER_MODE_ID = DIRECT
EXPOSURE_DURATION = 5.04
INST_CMPRS_NAME = NONE
INST_CMPRS_RATIO = 1.0
INST_CMPRS_QUALITY = -2147483648
INST_CMPRS_QUANTZ_TBL_ID = -2147483648
INSTRUMENT_TEMPERATURE = 22.8571
MISSING_FRAMES = 0
START_BIT = 0
/* RADIOMETRIC DATA ELEMENTS */
BANDWIDTH = 250.0
CENTER_FILTER_WAVELENGTH = 600.0
RADIANCE_OFFSET = -9.99e+31
RADIANCE_SCALING_FACTOR = -9.99e+31
REFLECTANCE_SCALING_FACTOR = -9.99e+31
MEX:REFLECTANCE_OFFSET = -9.99e+31
/* IMAGE OBJECT DEFINITIONS */
OBJECT = IMAGE
  INTERCHANGE_FORMAT = BINARY
  LINES = 1262
  LINE_SAMPLES = 1162
  SAMPLE_TYPE = UNSIGNED_INTEGER
  SAMPLE_BITS = 8
  BANDS = 1
  BAND_STORAGE_TYPE = BAND_SEQUENTIAL
  MAXIMUM = 7026
  MEAN = 5393.03
  MINIMUM = 4512
  STANDARD_DEVIATION = 113.421
END_OBJECT = IMAGE
/* MAP OBJECT DEFINITIONS */
OBJECT = IMAGE_MAP_PROJECTION
  ^DATA_SET_MAP_PROJECTION_CATALOG= "DSMAP.CAT"
  A_AXIS_RADIUS = 3396.19
  B_AXIS_RADIUS = 3396.19
  C_AXIS_RADIUS = 3396.19
  CENTER_LATITUDE = 0.0
  CENTER_LONGITUDE = 97.0
  COORDINATE_SYSTEM_NAME = PLANETOGRAPHIC
  COORDINATE_SYSTEM_TYPE = "BODY-FIXED ROTATING"
  EASTERNMOST_LONGITUDE = 97.9063
  FIRST_STANDARD_PARALLEL = "N/A"
  LINE_FIRST_PIXEL = 1
  LINE_LAST_PIXEL = 1262
  LINE_PROJECTION_OFFSET = -40209.0
  MAP_PROJECTION_ROTATION = 0.0
  MAP_PROJECTION_TYPE = SINUSOIDAL
  MAP_RESOLUTION = 740.9337064023611
  MAP_SCALE = 0.08
  MAXIMUM_LATITUDE = -54.2797
  MINIMUM_LATITUDE = -55.8985
  POSITIVE_LONGITUDE_DIRECTION = EAST
  REFERENCE_LATITUDE = "N/A"
  REFERENCE_LONGITUDE = "N/A"
  SAMPLE_FIRST_PIXEL = 1
  SAMPLE_LAST_PIXEL = 1162
  SAMPLE_PROJECTION_OFFSET = 749.0
  SECOND_STANDARD_PARALLEL = "N/A"
  WESTERNMOST_LONGITUDE = 95.2873
END_OBJECT = IMAGE_MAP_PROJECTION
/* The JPEG2000 image data file associated with this label. */
OBJECT = COMPRESSED_FILE
  FILE_NAME = "H1592_0030_SR3.JP2"
  RECORD_TYPE = UNDEFINED
  FILE_RECORDS = UNK
  ENCODING_TYPE = "JP2"
  INTERCHANGE_FORMAT = BINARY
  UNCOMPRESSED_FILE_NAME = "H1592_0030_SR3.IMG"
  REQUIRED_STORAGE_BYTES = "1486198"
  ^DESCRIPTION = "JP2INFO.TXT"
END_OBJECT = COMPRESSED_FILE
END
