PDS_VERSION_ID = PDS3
/* FILE DATA ELEMENTS */
RECORD_TYPE = STREAM
/* POINTERS TO DATA OBJECTS */
^COMPRESSED_FILE = "H1592_0047_SR3.JP2"
/* IDENTIFICATION DATA ELEMENTS */
DATA_SET_ID = "MEX-M-HRSC-5-REFDR-MAPPROJECTED-V3.0"
DATA_SET_NAME = "MARS EXPRESS HRSC MAP PROJECTED REFDR V3.0"
DETECTOR_ID = MEX_HRSC_SRC
EVENT_TYPE = "MARS-TERMINATOR-VARIABLE-Gl-Tc-At"
INSTRUMENT_HOST_ID = MEX
INSTRUMENT_HOST_NAME = "MARS EXPRESS"
INSTRUMENT_ID = HRSC
INSTRUMENT_NAME = "HIGH RESOLUTION STEREO CAMERA"
MISSION_NAME = "MARS EXPRESS"
MISSION_PHASE_NAME = MR_Phase_6
PROCESSING_LEVEL_ID = 3
PRODUCT_CREATION_TIME = 2016-03-08T06:50:01.000Z
PRODUCT_ID = "H1592_0047_SR3.JP2"
RELEASE_ID = 0020
REVISION_ID = 0000
/* QUALITY DATA ELEMENTS */
DATA_QUALITY_ID = 1
DATA_QUALITY_DESC = "Data calculated based on original SPICE kernels"
/* TIME DATA ELEMENTS */
SPACECRAFT_CLOCK_START_COUNT = "1/0061481346.57149"
SPACECRAFT_CLOCK_STOP_COUNT = "1/0061483276.51121"
IMAGE_TIME = 2005-04-13T14:37:04.531Z
START_TIME = 2005-04-13T14:37:04.529Z
STOP_TIME = 2005-04-13T14:37:04.534Z
/* ORBITAL DATA ELEMENTS */
ASCENDING_NODE_LONGITUDE = 195.11
MAXIMUM_RESOLUTION = 75.467
FOOTPRINT_POINT_LATITUDE = (-77.7506,-77.8289,-77.8761,-77.9323, -77.9796,-78.0415,-78.0887,-78.136, -78.1832,-78.2334,-78.2806,-78.3278, -78.3772,-78.4229,-78.4701,-78.5153, -78.5625,-78.6061,-78.6532,-78.7156, -78.7813,-78.8284,-78.8677,-78.9148, -78.9514,-78.9984,-79.0542,-79.1154, -79.1623,-79.2368,-79.2753,-79.3228, -79.3721,-79.4535,-79.5008,-79.5485, -79.5959,-79.6434,-79.6907,-79.7305, -79.8093,-79.8844,-79.9619,-80.009, -80.0891,-80.171,-80.2294,-80.2761, -80.323,-80.358,-80.404,-80.3626, -80.3117,-80.2753,-80.2244,-80.1596, -80.1108,-80.063,-80.0039,-79.953, -79.9093,-79.8584,-79.811,-79.7269, -79.6691,-79.6193,-79.5685,-79.5155, -79.4646,-79.4173,-79.3595,-79.3007, -79.2499,-79.1899,-79.1391,-79.0789, -79.0121,-78.9614,-78.9107,-78.8474, -78.7933,-78.7197,-78.6556,-78.5816, -78.5182,-78.4758,-78.4333,-78.3475, -78.294,-78.2514,-78.1766,-78.1339, -78.0911,-78.0482,-77.9926,-77.9497, -77.907,-77.864,-77.7891,-77.7506)
FOOTPRINT_POINT_LONGITUDE = (105.368,105.618,105.771,105.954,106.11 ,106.313,106.472,106.633,106.795, 106.968,107.133,107.3,107.477,107.641, 107.812,107.979,108.153,108.317,108.494 ,108.736,108.991,109.175,109.331, 109.518,109.665,109.855,110.087,110.345 ,110.542,110.763,110.643,110.473, 110.305,109.998,109.822,109.645,109.467 ,109.287,109.105,108.976,108.644,108.3, 107.956,107.762,107.416,107.067,106.814 ,106.61,106.405,106.249,105.977,105.814 ,105.616,105.476,105.282,105.037, 104.854,104.679,104.451,104.268,104.112 ,103.933,103.767,103.479,103.255, 103.087,102.919,102.744,102.58,102.428, 102.246,102.062,101.905,101.721,101.567 ,101.387,101.19,101.042,100.895,100.714 ,100.888,101.237,101.531,101.872,102.16 ,102.35,102.539,102.912,103.143,103.326 ,103.644,103.824,104.002,104.179, 104.397,104.571,104.745,104.917,105.215 ,105.368)
ORBIT_NUMBER = 1592
ORBITAL_ECCENTRICITY = 0.566
ORBITAL_INCLINATION = 86.6
ORBITAL_SEMIMAJOR_AXIS = 8533.98
PERIAPSIS_ALTITUDE = 326.82
PERIAPSIS_ARGUMENT_ANGLE = 79.95
PERIAPSIS_TIME = 2005-04-13T12:57:53.000Z
SPACECRAFT_ORIENTATION = (0.0,1.0,0.0)
^MEX_ORIENTATION_DESC = "MEX_ORIENTATION_DESC.TXT"
SPACECRAFT_POINTING_MODE = INERT
^MEX_POINTING_DESC = "MEX_POINTING_DESC.TXT"
RIGHT_ASCENSION = 124.954
DECLINATION = -46.277
OFFSET_ANGLE = -1e+32
SPACECRAFT_SOLAR_DISTANCE = 2.15474e+08
TARGET_NAME = MARS
/* CAMERA DATA ELEMENTS */
BUFFER_MODE_ID = DIRECT
EXPOSURE_DURATION = 5.04
INST_CMPRS_NAME = NONE
INST_CMPRS_RATIO = 1.0
INST_CMPRS_QUALITY = -2147483648
INST_CMPRS_QUANTZ_TBL_ID = -2147483648
INSTRUMENT_TEMPERATURE = 28.0519
MISSING_FRAMES = 0
START_BIT = 0
/* RADIOMETRIC DATA ELEMENTS */
BANDWIDTH = 250.0
CENTER_FILTER_WAVELENGTH = 600.0
RADIANCE_OFFSET = -9.99e+31
RADIANCE_SCALING_FACTOR = -9.99e+31
REFLECTANCE_SCALING_FACTOR = -9.99e+31
MEX:REFLECTANCE_OFFSET = -9.99e+31
/* IMAGE OBJECT DEFINITIONS */
OBJECT = IMAGE
  INTERCHANGE_FORMAT = BINARY
  LINES = 2052
  LINE_SAMPLES = 1479
  SAMPLE_TYPE = UNSIGNED_INTEGER
  SAMPLE_BITS = 8
  BANDS = 1
  BAND_STORAGE_TYPE = BAND_SEQUENTIAL
  MAXIMUM = 5449
  MEAN = 4472.73
  MINIMUM = 3650
  STANDARD_DEVIATION = 224.098
END_OBJECT = IMAGE
/* MAP OBJECT DEFINITIONS */
OBJECT = IMAGE_MAP_PROJECTION
  ^DATA_SET_MAP_PROJECTION_CATALOG= "DSMAP.CAT"
  A_AXIS_RADIUS = 3396.19
  B_AXIS_RADIUS = 3396.19
  C_AXIS_RADIUS = 3396.19
  CENTER_LATITUDE = 0.0
  CENTER_LONGITUDE = 106.0
  COORDINATE_SYSTEM_NAME = PLANETOGRAPHIC
  COORDINATE_SYSTEM_TYPE = "BODY-FIXED ROTATING"
  EASTERNMOST_LONGITUDE = 110.763
  FIRST_STANDARD_PARALLEL = "N/A"
  LINE_FIRST_PIXEL = 1
  LINE_LAST_PIXEL = 2052
  LINE_PROJECTION_OFFSET = -57674.0
  MAP_PROJECTION_ROTATION = 0.0
  MAP_PROJECTION_TYPE = SINUSOIDAL
  MAP_RESOLUTION = 740.9337064023611
  MAP_SCALE = 0.08
  MAXIMUM_LATITUDE = -77.75060000000001
  MINIMUM_LATITUDE = -80.404
  POSITIVE_LONGITUDE_DIRECTION = EAST
  REFERENCE_LATITUDE = "N/A"
  REFERENCE_LONGITUDE = "N/A"
  SAMPLE_FIRST_PIXEL = 1
  SAMPLE_LAST_PIXEL = 1479
  SAMPLE_PROJECTION_OFFSET = 712.0
  SECOND_STANDARD_PARALLEL = "N/A"
  WESTERNMOST_LONGITUDE = 100.714
END_OBJECT = IMAGE_MAP_PROJECTION
/* The JPEG2000 image data file associated with this label. */
OBJECT = COMPRESSED_FILE
  FILE_NAME = "H1592_0047_SR3.JP2"
  RECORD_TYPE = UNDEFINED
  FILE_RECORDS = UNK
  ENCODING_TYPE = "JP2"
  INTERCHANGE_FORMAT = BINARY
  UNCOMPRESSED_FILE_NAME = "H1592_0047_SR3.IMG"
  REQUIRED_STORAGE_BYTES = "3055614"
  ^DESCRIPTION = "JP2INFO.TXT"
END_OBJECT = COMPRESSED_FILE
END
