PDS_VERSION_ID = PDS3
/* FILE DATA ELEMENTS */
RECORD_TYPE = STREAM
/* POINTERS TO DATA OBJECTS */
^COMPRESSED_FILE = "H1595_0000_ND3.JP2"
/* IDENTIFICATION DATA ELEMENTS */
DATA_SET_ID = "MEX-M-HRSC-5-REFDR-MAPPROJECTED-V3.0"
DATA_SET_NAME = "MARS EXPRESS HRSC MAP PROJECTED REFDR V3.0"
DETECTOR_ID = MEX_HRSC_NADIR
EVENT_TYPE = "MARS-REGIONAL-MAPPING-Im-Gl-Eo"
INSTRUMENT_HOST_ID = MEX
INSTRUMENT_HOST_NAME = "MARS EXPRESS"
INSTRUMENT_ID = HRSC
INSTRUMENT_NAME = "HIGH RESOLUTION STEREO CAMERA"
MISSION_NAME = "MARS EXPRESS"
MISSION_PHASE_NAME = MR_Phase_6
PROCESSING_LEVEL_ID = 3
PRODUCT_CREATION_TIME = 2016-03-08T06:50:01.000Z
PRODUCT_ID = "H1595_0000_ND3.JP2"
RELEASE_ID = 0020
REVISION_ID = 0000
/* QUALITY DATA ELEMENTS */
DATA_QUALITY_ID = 1
DATA_QUALITY_DESC = "Data calculated based on original SPICE kernels"
/* TIME DATA ELEMENTS */
SPACECRAFT_CLOCK_START_COUNT = "1/0061550017.57319"
SPACECRAFT_CLOCK_STOP_COUNT = "1/0061550721.08600"
START_TIME = 2005-04-14T09:14:26.791Z
STOP_TIME = 2005-04-14T09:22:58.813Z
/* ORBITAL DATA ELEMENTS */
ASCENDING_NODE_LONGITUDE = 195.04
MAXIMUM_RESOLUTION = 18.5
FOOTPRINT_POINT_LATITUDE = (74.9089,75.0193,74.9083,74.0583, 73.4106,72.9734,72.531,72.0859,71.6339, 70.9494,70.2544,69.548,68.8303,68.3468, 67.8554,67.3593,66.8584,66.3522,65.8393 ,65.3202,64.795,64.2638,63.7265,63.1823 ,62.6314,62.0739,61.5092,60.9374, 60.3584,59.7718,59.1766,58.574,57.9637, 57.3443,56.7165,56.0806,55.4347,54.7803 ,54.1163,53.4424,52.7582,52.0639, 51.3593,50.6447,49.9322,49.2252,48.5236 ,47.8276,47.1027,47.0929,47.0662, 47.0421,47.0033,47.6877,48.3777,49.0732 ,49.7743,50.4809,51.1902,51.8901, 52.5798,53.2596,53.9294,54.5888,55.2393 ,55.881,56.5132,57.137,57.7528,58.3592, 58.958,59.5495,60.1328,60.7082,61.2763, 61.8373,62.3912,62.9385,63.4791,64.0127 ,64.5402,65.0616,65.577,66.0856,66.5879 ,67.0849,67.5769,68.0638,68.543,69.2539 ,69.9533,70.641,71.3178,71.7647,72.2036 ,72.6398,73.0717,73.9209,74.546, 74.9089)
FOOTPRINT_POINT_LONGITUDE = (163.133,165.08,167.397,167.95,168.331, 168.572,168.803,169.023,169.235,169.536 ,169.818,170.085,170.335,170.494, 170.648,170.796,170.938,171.076,171.208 ,171.337,171.46,171.58,171.695,171.807, 171.915,172.019,172.12,172.218,172.313, 172.404,172.493,172.579,172.662,172.742 ,172.821,172.896,172.969,173.04,173.108 ,173.175,173.239,173.301,173.361, 173.419,173.475,173.527,173.576,173.623 ,173.084,171.963,170.601,169.774, 168.729,168.711,168.689,168.663,168.633 ,168.599,168.559,168.516,168.469, 168.417,168.362,168.301,168.237,168.169 ,168.096,168.02,167.938,167.852,167.761 ,167.666,167.566,167.461,167.351, 167.236,167.115,166.989,166.857,166.719 ,166.575,166.425,166.268,166.104, 165.933,165.754,165.568,165.373,165.171 ,164.85,164.507,164.141,163.751,163.475 ,163.183,162.873,162.569,161.887, 161.332,163.133)
ORBIT_NUMBER = 1595
ORBITAL_ECCENTRICITY = 0.566
ORBITAL_INCLINATION = 86.59
ORBITAL_SEMIMAJOR_AXIS = 8536.06
PERIAPSIS_ALTITUDE = 327.79
PERIAPSIS_ARGUMENT_ANGLE = 79.42
PERIAPSIS_TIME = 2005-04-14T09:07:55.000Z
SPACECRAFT_ORIENTATION = (0.0,1.0,0.0)
^MEX_ORIENTATION_DESC = "MEX_ORIENTATION_DESC.TXT"
SPACECRAFT_POINTING_MODE = NADIR
^MEX_POINTING_DESC = "MEX_POINTING_DESC.TXT"
RIGHT_ASCENSION = -1e+32
DECLINATION = -1e+32
OFFSET_ANGLE = -1e+32
SPACECRAFT_SOLAR_DISTANCE = 2.15334e+08
TARGET_NAME = MARS
/* CAMERA DATA ELEMENTS */
DETECTOR_TEMPERATURE = 18.1666
FOCAL_PLANE_TEMPERATURE = 8.3794
INST_CMPRS_NAME = "DISCRETE COSINE TRANSFORMATION (DCT)"
INST_CMPRS_RATIO = 7.39676
INST_CMPRS_QUALITY = 0
INST_CMPRS_QUANTZ_TBL_ID = 0
INSTRUMENT_TEMPERATURE = 11.0301
LENS_TEMPERATURE = 8.9911
MACROPIXEL_SIZE = 1
MISSING_FRAMES = 0
PIXEL_SUBSAMPLING_FLAG = N
SIGNAL_CHAIN_ID = 0
/* RADIOMETRIC DATA ELEMENTS */
BANDWIDTH = 177.0
CENTER_FILTER_WAVELENGTH = 677.5
RADIANCE_OFFSET = 0.655792
RADIANCE_SCALING_FACTOR = 0.0240029
REFLECTANCE_SCALING_FACTOR = 0.000591251
MEX:REFLECTANCE_OFFSET = 0.0161538
/* IMAGE OBJECT DEFINITIONS */
OBJECT = IMAGE
  INTERCHANGE_FORMAT = BINARY
  LINES = 133303
  LINE_SAMPLES = 24603
  SAMPLE_TYPE = UNSIGNED_INTEGER
  SAMPLE_BITS = 8
  BANDS = 1
  BAND_STORAGE_TYPE = BAND_SEQUENTIAL
  MAXIMUM = 239
  MEAN = 95.0989
  MINIMUM = 0
  STANDARD_DEVIATION = 41.2884
END_OBJECT = IMAGE
/* MAP OBJECT DEFINITIONS */
OBJECT = IMAGE_MAP_PROJECTION
  ^DATA_SET_MAP_PROJECTION_CATALOG= "DSMAP.CAT"
  A_AXIS_RADIUS = 3396.0
  B_AXIS_RADIUS = 3396.0
  C_AXIS_RADIUS = 3396.0
  CENTER_LATITUDE = 0.0
  CENTER_LONGITUDE = 169.0
  COORDINATE_SYSTEM_NAME = PLANETOGRAPHIC
  COORDINATE_SYSTEM_TYPE = "BODY-FIXED ROTATING"
  EASTERNMOST_LONGITUDE = 173.623
  FIRST_STANDARD_PARALLEL = "N/A"
  LINE_FIRST_PIXEL = 1
  LINE_LAST_PIXEL = 133303
  LINE_PROJECTION_OFFSET = 356170.0
  MAP_PROJECTION_ROTATION = 0.0
  MAP_PROJECTION_TYPE = SINUSOIDAL
  MAP_RESOLUTION = 4741.71043093333
  MAP_SCALE = 0.0125
  MAXIMUM_LATITUDE = 75.0193
  MINIMUM_LATITUDE = 47.0033
  POSITIVE_LONGITUDE_DIRECTION = EAST
  REFERENCE_LATITUDE = "N/A"
  REFERENCE_LONGITUDE = "N/A"
  SAMPLE_FIRST_PIXEL = 1
  SAMPLE_LAST_PIXEL = 24603
  SAMPLE_PROJECTION_OFFSET = 9651.0
  SECOND_STANDARD_PARALLEL = "N/A"
  WESTERNMOST_LONGITUDE = 161.332
END_OBJECT = IMAGE_MAP_PROJECTION
/* The JPEG2000 image data file associated with this label. */
OBJECT = COMPRESSED_FILE
  FILE_NAME = "H1595_0000_ND3.JP2"
  RECORD_TYPE = UNDEFINED
  FILE_RECORDS = UNK
  ENCODING_TYPE = "JP2"
  INTERCHANGE_FORMAT = BINARY
  UNCOMPRESSED_FILE_NAME = "H1595_0000_ND3.IMG"
  REQUIRED_STORAGE_BYTES = "3279727518"
  ^DESCRIPTION = "JP2INFO.TXT"
END_OBJECT = COMPRESSED_FILE
END
