PDS_VERSION_ID = PDS3
/* FILE DATA ELEMENTS */
RECORD_TYPE = STREAM
/* POINTERS TO DATA OBJECTS */
^COMPRESSED_FILE = "H1596_0000_IR3.JP2"
/* IDENTIFICATION DATA ELEMENTS */
DATA_SET_ID = "MEX-M-HRSC-5-REFDR-MAPPROJECTED-V3.0"
DATA_SET_NAME = "MARS EXPRESS HRSC MAP PROJECTED REFDR V3.0"
DETECTOR_ID = MEX_HRSC_IR
EVENT_TYPE = "MARS-REGIONAL-MAPPING-Im-Eo-At"
INSTRUMENT_HOST_ID = MEX
INSTRUMENT_HOST_NAME = "MARS EXPRESS"
INSTRUMENT_ID = HRSC
INSTRUMENT_NAME = "HIGH RESOLUTION STEREO CAMERA"
MISSION_NAME = "MARS EXPRESS"
MISSION_PHASE_NAME = MR_Phase_6
PROCESSING_LEVEL_ID = 3
PRODUCT_CREATION_TIME = 2016-03-08T06:50:01.000Z
PRODUCT_ID = "H1596_0000_IR3.JP2"
RELEASE_ID = 0020
REVISION_ID = 0000
/* QUALITY DATA ELEMENTS */
DATA_QUALITY_ID = 1
DATA_QUALITY_DESC = "Data calculated based on original SPICE kernels"
/* TIME DATA ELEMENTS */
SPACECRAFT_CLOCK_START_COUNT = "1/0061574140.57956"
SPACECRAFT_CLOCK_STOP_COUNT = "1/0061574553.35827"
START_TIME = 2005-04-14T15:56:58.918Z
STOP_TIME = 2005-04-14T16:02:24.528Z
/* ORBITAL DATA ELEMENTS */
ASCENDING_NODE_LONGITUDE = 195.01
MAXIMUM_RESOLUTION = 72.1
FOOTPRINT_POINT_LATITUDE = (79.4647,79.6127,79.7721,79.9145, 79.8053,79.3789,79.0926,78.7968,78.5057 ,78.2078,77.9087,77.61,77.3048,76.8465, 76.3805,76.0687,75.5936,75.2762,74.7926 ,74.4692,74.1405,73.646,73.3108,72.9762 ,72.6357,72.1228,71.7778,71.4291, 71.0792,70.7246,70.1891,69.6473,69.2825 ,68.9136,68.5433,68.1695,67.7916, 67.4112,67.0281,66.6406,66.2502,65.857, 65.4602,65.0596,64.6554,64.2477,63.8364 ,63.4213,63.0025,62.6657,62.6234, 62.5871,62.5455,62.5083,62.6662,63.0819 ,63.4938,63.9019,64.3065,64.7075, 65.1045,65.498,65.8883,66.2756,66.6588, 67.0383,67.4153,67.7897,68.1594,68.7087 ,69.2514,69.6098,69.9648,70.4916, 70.8398,71.1846,71.6962,72.0352,72.3691 ,72.7024,73.0304,73.3586,73.6812,74.163 ,74.4793,74.7959,75.2611,75.5707, 75.8742,76.1777,76.6256,76.9222,77.2162 ,77.5051,77.7934,78.079,78.3593,78.6393 ,78.9167,79.4647)
FOOTPRINT_POINT_LONGITUDE = (51.8922,53.7705,56.0299,58.3191, 59.8784,60.7087,61.2285,61.7337,62.205, 62.6615,63.0957,63.5075,63.9069,64.47, 65.0018,65.3366,65.8176,66.1209,66.5574 ,66.8334,67.1018,67.4843,67.7301, 67.9653,68.1949,68.5236,68.7338,68.9379 ,69.1349,69.3268,69.603,69.867,70.0365, 70.2017,70.3615,70.5172,70.6689,70.8161 ,70.9592,71.0991,71.235,71.3673,71.4961 ,71.6219,71.7446,71.8643,71.9809, 72.0948,72.2059,71.9013,70.5723,69.634, 68.6914,67.9455,66.9205,66.8006,66.6771 ,66.5492,66.4175,66.28,66.1385,65.9927, 65.842,65.6862,65.5256,65.3598,65.1886, 65.0109,64.828,64.5426,64.2421,64.0334, 63.8176,63.4797,63.2444,63.0018,62.6219 ,62.3554,62.0819,61.797,61.5048,61.1987 ,60.8832,60.3852,60.0403,59.6767, 59.1118,58.7135,58.3031,57.8731,57.1978 ,56.7205,56.2239,55.7093,55.1692, 54.6047,54.02,53.4013,52.7535,51.8922)
ORBIT_NUMBER = 1596
ORBITAL_ECCENTRICITY = 0.566
ORBITAL_INCLINATION = 86.61
ORBITAL_SEMIMAJOR_AXIS = 8533.68
PERIAPSIS_ALTITUDE = 326.34
PERIAPSIS_ARGUMENT_ANGLE = 79.25
PERIAPSIS_TIME = 2005-04-14T15:51:17.000Z
SPACECRAFT_ORIENTATION = (0.0,1.0,0.0)
^MEX_ORIENTATION_DESC = "MEX_ORIENTATION_DESC.TXT"
SPACECRAFT_POINTING_MODE = ACROSSTRACK
^MEX_POINTING_DESC = "MEX_POINTING_DESC.TXT"
RIGHT_ASCENSION = -1e+32
DECLINATION = -1e+32
OFFSET_ANGLE = -0.69
SPACECRAFT_SOLAR_DISTANCE = 2.15288e+08
TARGET_NAME = MARS
/* CAMERA DATA ELEMENTS */
DETECTOR_TEMPERATURE = 18.5744
FOCAL_PLANE_TEMPERATURE = 8.1755
INST_CMPRS_NAME = "DISCRETE COSINE TRANSFORMATION (DCT)"
INST_CMPRS_RATIO = 7.23473
INST_CMPRS_QUALITY = 0
INST_CMPRS_QUANTZ_TBL_ID = 0
INSTRUMENT_TEMPERATURE = 11.234
LENS_TEMPERATURE = 8.5833
MACROPIXEL_SIZE = 4
MISSING_FRAMES = 0
PIXEL_SUBSAMPLING_FLAG = N
SIGNAL_CHAIN_ID = 2
/* RADIOMETRIC DATA ELEMENTS */
BANDWIDTH = 81.0
CENTER_FILTER_WAVELENGTH = 955.5
RADIANCE_OFFSET = 0.0
RADIANCE_SCALING_FACTOR = 0.0028835
REFLECTANCE_SCALING_FACTOR = 0.000288327
MEX:REFLECTANCE_OFFSET = 0.0
/* IMAGE OBJECT DEFINITIONS */
OBJECT = IMAGE
  INTERCHANGE_FORMAT = BINARY
  LINES = 20939
  LINE_SAMPLES = 6721
  SAMPLE_TYPE = UNSIGNED_INTEGER
  SAMPLE_BITS = 8
  BANDS = 1
  BAND_STORAGE_TYPE = BAND_SEQUENTIAL
  MAXIMUM = 196
  MEAN = 73.1135
  MINIMUM = 0
  STANDARD_DEVIATION = 42.9775
END_OBJECT = IMAGE
/* MAP OBJECT DEFINITIONS */
OBJECT = IMAGE_MAP_PROJECTION
  ^DATA_SET_MAP_PROJECTION_CATALOG= "DSMAP.CAT"
  A_AXIS_RADIUS = 3396.0
  B_AXIS_RADIUS = 3396.0
  C_AXIS_RADIUS = 3396.0
  CENTER_LATITUDE = 0.0
  CENTER_LONGITUDE = 65.0
  COORDINATE_SYSTEM_NAME = PLANETOGRAPHIC
  COORDINATE_SYSTEM_TYPE = "BODY-FIXED ROTATING"
  EASTERNMOST_LONGITUDE = 72.2059
  FIRST_STANDARD_PARALLEL = "N/A"
  LINE_FIRST_PIXEL = 1
  LINE_LAST_PIXEL = 20939
  LINE_PROJECTION_OFFSET = 94948.625
  MAP_PROJECTION_ROTATION = 0.0
  MAP_PROJECTION_TYPE = SINUSOIDAL
  MAP_RESOLUTION = 1185.42760773333
  MAP_SCALE = 0.05
  MAXIMUM_LATITUDE = 79.9145
  MINIMUM_LATITUDE = 62.5083
  POSITIVE_LONGITUDE_DIRECTION = EAST
  REFERENCE_LATITUDE = "N/A"
  REFERENCE_LONGITUDE = "N/A"
  SAMPLE_FIRST_PIXEL = 1
  SAMPLE_LAST_PIXEL = 6721
  SAMPLE_PROJECTION_OFFSET = 2909.625
  SECOND_STANDARD_PARALLEL = "N/A"
  WESTERNMOST_LONGITUDE = 51.8922
END_OBJECT = IMAGE_MAP_PROJECTION
/* The JPEG2000 image data file associated with this label. */
OBJECT = COMPRESSED_FILE
  FILE_NAME = "H1596_0000_IR3.JP2"
  RECORD_TYPE = UNDEFINED
  FILE_RECORDS = UNK
  ENCODING_TYPE = "JP2"
  INTERCHANGE_FORMAT = BINARY
  UNCOMPRESSED_FILE_NAME = "H1596_0000_IR3.IMG"
  REQUIRED_STORAGE_BYTES = "140764624"
  ^DESCRIPTION = "JP2INFO.TXT"
END_OBJECT = COMPRESSED_FILE
END
