PDS_VERSION_ID = PDS3
/* FILE DATA ELEMENTS */
RECORD_TYPE = STREAM
/* POINTERS TO DATA OBJECTS */
^COMPRESSED_FILE = "H1596_0001_IR3.JP2"
/* IDENTIFICATION DATA ELEMENTS */
DATA_SET_ID = "MEX-M-HRSC-5-REFDR-MAPPROJECTED-V3.0"
DATA_SET_NAME = "MARS EXPRESS HRSC MAP PROJECTED REFDR V3.0"
DETECTOR_ID = MEX_HRSC_IR
EVENT_TYPE = "MARS-REGIONAL-MAPPING-Te-Fl-Mw"
INSTRUMENT_HOST_ID = MEX
INSTRUMENT_HOST_NAME = "MARS EXPRESS"
INSTRUMENT_ID = HRSC
INSTRUMENT_NAME = "HIGH RESOLUTION STEREO CAMERA"
MISSION_NAME = "MARS EXPRESS"
MISSION_PHASE_NAME = MR_Phase_6
PROCESSING_LEVEL_ID = 3
PRODUCT_CREATION_TIME = 2016-03-08T06:50:01.000Z
PRODUCT_ID = "H1596_0001_IR3.JP2"
RELEASE_ID = 0020
REVISION_ID = 0000
/* QUALITY DATA ELEMENTS */
DATA_QUALITY_ID = 1
DATA_QUALITY_DESC = "Data calculated based on original SPICE kernels"
/* TIME DATA ELEMENTS */
SPACECRAFT_CLOCK_START_COUNT = "1/0061574734.57154"
SPACECRAFT_CLOCK_STOP_COUNT = "1/0061576332.53533"
START_TIME = 2005-04-14T16:09:52.705Z
STOP_TIME = 2005-04-14T16:27:42.355Z
/* ORBITAL DATA ELEMENTS */
ASCENDING_NODE_LONGITUDE = 195.01
MAXIMUM_RESOLUTION = 104.2
FOOTPRINT_POINT_LATITUDE = (43.6247,43.6279,43.6266,43.6209,43.613 ,43.6708,42.9622,42.2436,41.5174, 40.4334,39.7256,39.0288,38.3427,37.667, 37.0063,36.3535,35.7116,35.0801,34.4605 ,33.8473,33.2502,32.6558,32.0744, 31.5043,30.9421,30.3883,29.8442,29.3088 ,28.5136,28.0119,27.498,26.9874,26.5092 ,26.0167,25.54,24.8481,24.3979,23.9499, 22.8507,22.015,21.1975,20.4113,19.6484, 18.9097,18.1887,17.4951,17.5445,17.5925 ,17.6673,17.7214,17.8139,17.8725, 17.9552,18.0419,18.1419,18.2071,18.3137 ,18.3823,18.4943,18.6102,18.904,19.5372 ,20.1923,20.8673,21.3981,22.1206, 22.6961,23.6514,24.4559,25.2944,26.1564 ,27.0606,27.5178,27.993,28.4663,29.2095 ,29.6991,30.4768,31.0021,31.5284, 32.0798,32.6217,33.1912,33.7678,34.3529 ,34.9471,35.5541,36.1716,36.7983, 37.4348,38.085,38.7456,39.4193,40.1031, 40.8006,41.5099,42.2211,42.9245,43.6191 ,43.6247)
FOOTPRINT_POINT_LONGITUDE = (70.3787,71.312,72.2413,73.1666,73.9167 ,75.1179,75.1805,75.2421,75.3037, 75.3937,75.4513,75.507,75.5607,75.6126, 75.6648,75.7146,75.7633,75.811,75.8584, 75.9033,75.9501,75.9932,76.0371,76.0813 ,76.1243,76.1666,76.2088,76.2507, 76.3092,76.3559,76.3933,76.4283,76.4742 ,76.5099,76.5493,76.6125,76.6555, 76.6962,76.7935,76.8779,76.9591,77.0438 ,77.1287,77.2149,77.2994,77.3876, 76.5577,76.0336,75.3044,74.7848,73.9566 ,73.4393,72.715,71.9904,71.1608,70.6413 ,69.808,69.2858,68.4473,67.6037,66.6416 ,66.7704,66.8993,67.0293,67.1235, 67.2511,67.3401,67.5014,67.6258,67.7468 ,67.8688,67.9839,68.0437,68.0984, 68.1572,68.2357,68.295,68.3695,68.42, 68.4736,68.5181,68.5713,68.6137,68.6562 ,68.6979,68.7386,68.7762,68.8118, 68.8463,68.8794,68.9085,68.9356,68.959, 68.9805,68.9976,69.0115,69.022,69.0284, 69.0312,70.3787)
ORBIT_NUMBER = 1596
ORBITAL_ECCENTRICITY = 0.566
ORBITAL_INCLINATION = 86.61
ORBITAL_SEMIMAJOR_AXIS = 8533.68
PERIAPSIS_ALTITUDE = 326.34
PERIAPSIS_ARGUMENT_ANGLE = 79.25
PERIAPSIS_TIME = 2005-04-14T15:51:17.000Z
SPACECRAFT_ORIENTATION = (0.0,1.0,0.0)
^MEX_ORIENTATION_DESC = "MEX_ORIENTATION_DESC.TXT"
SPACECRAFT_POINTING_MODE = ACROSSTRACK
^MEX_POINTING_DESC = "MEX_POINTING_DESC.TXT"
RIGHT_ASCENSION = -1e+32
DECLINATION = -1e+32
OFFSET_ANGLE = -0.69
SPACECRAFT_SOLAR_DISTANCE = 2.15288e+08
TARGET_NAME = MARS
/* CAMERA DATA ELEMENTS */
DETECTOR_TEMPERATURE = 19.1861
FOCAL_PLANE_TEMPERATURE = 8.3794
INST_CMPRS_NAME = "DISCRETE COSINE TRANSFORMATION (DCT)"
INST_CMPRS_RATIO = 7.76862
INST_CMPRS_QUALITY = 0
INST_CMPRS_QUANTZ_TBL_ID = 0
INSTRUMENT_TEMPERATURE = 13.0691
LENS_TEMPERATURE = 8.9911
MACROPIXEL_SIZE = 2
MISSING_FRAMES = 0
PIXEL_SUBSAMPLING_FLAG = N
SIGNAL_CHAIN_ID = 3
/* RADIOMETRIC DATA ELEMENTS */
BANDWIDTH = 81.0
CENTER_FILTER_WAVELENGTH = 955.5
RADIANCE_OFFSET = 0.867982
RADIANCE_SCALING_FACTOR = 0.00653694
REFLECTANCE_SCALING_FACTOR = 0.000653634
MEX:REFLECTANCE_OFFSET = 0.0867903
/* IMAGE OBJECT DEFINITIONS */
OBJECT = IMAGE
  INTERCHANGE_FORMAT = BINARY
  LINES = 15369
  LINE_SAMPLES = 4237
  SAMPLE_TYPE = UNSIGNED_INTEGER
  SAMPLE_BITS = 8
  BANDS = 1
  BAND_STORAGE_TYPE = BAND_SEQUENTIAL
  MAXIMUM = 260
  MEAN = 174.483
  MINIMUM = 80
  STANDARD_DEVIATION = 38.4127
END_OBJECT = IMAGE
/* MAP OBJECT DEFINITIONS */
OBJECT = IMAGE_MAP_PROJECTION
  ^DATA_SET_MAP_PROJECTION_CATALOG= "DSMAP.CAT"
  A_AXIS_RADIUS = 3396.0
  B_AXIS_RADIUS = 3396.0
  C_AXIS_RADIUS = 3396.0
  CENTER_LATITUDE = 0.0
  CENTER_LONGITUDE = 72.0
  COORDINATE_SYSTEM_NAME = PLANETOGRAPHIC
  COORDINATE_SYSTEM_TYPE = "BODY-FIXED ROTATING"
  EASTERNMOST_LONGITUDE = 77.38760000000001
  FIRST_STANDARD_PARALLEL = "N/A"
  LINE_FIRST_PIXEL = 1
  LINE_LAST_PIXEL = 15369
  LINE_PROJECTION_OFFSET = 25907.25
  MAP_PROJECTION_ROTATION = 0.0
  MAP_PROJECTION_TYPE = SINUSOIDAL
  MAP_RESOLUTION = 592.713803866667
  MAP_SCALE = 0.1
  MAXIMUM_LATITUDE = 43.6708
  MINIMUM_LATITUDE = 17.4951
  POSITIVE_LONGITUDE_DIRECTION = EAST
  REFERENCE_LATITUDE = "N/A"
  REFERENCE_LONGITUDE = "N/A"
  SAMPLE_FIRST_PIXEL = 1
  SAMPLE_LAST_PIXEL = 4237
  SAMPLE_PROJECTION_OFFSET = 2322.75
  SECOND_STANDARD_PARALLEL = "N/A"
  WESTERNMOST_LONGITUDE = 66.6416
END_OBJECT = IMAGE_MAP_PROJECTION
/* The JPEG2000 image data file associated with this label. */
OBJECT = COMPRESSED_FILE
  FILE_NAME = "H1596_0001_IR3.JP2"
  RECORD_TYPE = UNDEFINED
  FILE_RECORDS = UNK
  ENCODING_TYPE = "JP2"
  INTERCHANGE_FORMAT = BINARY
  UNCOMPRESSED_FILE_NAME = "H1596_0001_IR3.IMG"
  REQUIRED_STORAGE_BYTES = "65143875"
  ^DESCRIPTION = "JP2INFO.TXT"
END_OBJECT = COMPRESSED_FILE
END
