PDS_VERSION_ID = PDS3
/* FILE DATA ELEMENTS */
RECORD_TYPE = STREAM
/* POINTERS TO DATA OBJECTS */
^COMPRESSED_FILE = "H1603_0000_P23.JP2"
/* IDENTIFICATION DATA ELEMENTS */
DATA_SET_ID = "MEX-M-HRSC-5-REFDR-MAPPROJECTED-V3.0"
DATA_SET_NAME = "MARS EXPRESS HRSC MAP PROJECTED REFDR V3.0"
DETECTOR_ID = MEX_HRSC_P2
EVENT_TYPE = "MARS-REGIONAL-MAPPING-Te-Im-Pf"
INSTRUMENT_HOST_ID = MEX
INSTRUMENT_HOST_NAME = "MARS EXPRESS"
INSTRUMENT_ID = HRSC
INSTRUMENT_NAME = "HIGH RESOLUTION STEREO CAMERA"
MISSION_NAME = "MARS EXPRESS"
MISSION_PHASE_NAME = MR_Phase_6
PROCESSING_LEVEL_ID = 3
PRODUCT_CREATION_TIME = 2016-03-09T06:48:11.000Z
PRODUCT_ID = "H1603_0000_P23.JP2"
RELEASE_ID = 0021
REVISION_ID = 0000
/* QUALITY DATA ELEMENTS */
DATA_QUALITY_ID = 1
DATA_QUALITY_DESC = "Data calculated based on original SPICE kernels"
/* TIME DATA ELEMENTS */
SPACECRAFT_CLOCK_START_COUNT = "1/0061743694.57140"
SPACECRAFT_CLOCK_STOP_COUNT = "1/0061744909.40174"
START_TIME = 2005-04-16T15:01:57.706Z
STOP_TIME = 2005-04-16T15:14:04.354Z
/* ORBITAL DATA ELEMENTS */
ASCENDING_NODE_LONGITUDE = 194.87
MAXIMUM_RESOLUTION = 40.5
FOOTPRINT_POINT_LATITUDE = (72.026,72.0546,71.0011,70.1911,69.0956 ,67.9657,66.8075,65.6178,65.01,64.3942, 63.7694,63.1358,62.4932,61.8409,61.1777 ,60.5047,59.8216,59.1282,58.4231, 57.7059,56.9789,56.2376,55.485,54.7193, 53.9402,53.1474,52.3406,51.5115,50.6754 ,49.8229,48.9545,48.0697,47.1683, 46.2487,45.3104,44.3538,43.3778,42.3815 ,41.3636,39.7964,38.3911,37.2873, 36.1587,35.0044,33.8238,33.2232,32.616, 32.0012,31.9802,31.997,32.0046,32.0044, 31.9932,31.9724,32.58,33.7754,34.9443, 36.0863,37.2045,38.2981,39.6916,41.2461 ,42.2559,43.2449,44.2143,45.1645, 46.0966,47.0101,47.9066,48.786,49.6494, 50.4968,51.3286,52.1533,52.9556,53.7438 ,54.5189,55.2804,56.0288,56.7659, 57.4896,58.2027,58.9042,59.5936,60.2727 ,60.9421,61.6016,62.2501,62.8887, 63.5184,64.1391,64.751,65.3545,65.9497, 67.1135,68.2476,69.3514,70.4275,71.4741 ,72.026)
FOOTPRINT_POINT_LONGITUDE = (99.9116,102.514,102.984,103.314, 103.706,104.07,104.404,104.709,104.853, 104.991,105.123,105.251,105.373,105.49, 105.603,105.711,105.815,105.915,106.011 ,106.104,106.193,106.278,106.36,106.439 ,106.515,106.587,106.657,106.724, 106.788,106.849,106.907,106.962,107.015 ,107.065,107.112,107.157,107.199, 107.239,107.276,107.327,107.366,107.394 ,107.418,107.44,107.459,107.468,107.475 ,107.482,106.538,105.699,104.914, 103.971,103.027,102.062,102.095,102.155 ,102.207,102.251,102.288,102.318, 102.347,102.367,102.373,102.373,102.367 ,102.355,102.338,102.315,102.286, 102.253,102.213,102.169,102.119,102.063 ,102.003,101.936,101.865,101.788, 101.705,101.616,101.522,101.422,101.315 ,101.203,101.084,100.958,100.825, 100.686,100.539,100.384,100.222,100.051 ,99.872,99.6836,99.2783,98.8312,98.3375 ,97.7924,97.1895,99.9116)
ORBIT_NUMBER = 1603
ORBITAL_ECCENTRICITY = 0.566
ORBITAL_INCLINATION = 86.6
ORBITAL_SEMIMAJOR_AXIS = 8535.12
PERIAPSIS_ALTITUDE = 326.68
PERIAPSIS_ARGUMENT_ANGLE = 77.99
PERIAPSIS_TIME = 2005-04-16T14:54:42.000Z
SPACECRAFT_ORIENTATION = (0.0,1.0,0.0)
^MEX_ORIENTATION_DESC = "MEX_ORIENTATION_DESC.TXT"
SPACECRAFT_POINTING_MODE = ACROSSTRACK
^MEX_POINTING_DESC = "MEX_POINTING_DESC.TXT"
RIGHT_ASCENSION = -1e+32
DECLINATION = -1e+32
OFFSET_ANGLE = 0.0
SPACECRAFT_SOLAR_DISTANCE = 2.14965e+08
TARGET_NAME = MARS
/* CAMERA DATA ELEMENTS */
DETECTOR_TEMPERATURE = 18.5744
FOCAL_PLANE_TEMPERATURE = 8.1755
INST_CMPRS_NAME = "DISCRETE COSINE TRANSFORMATION (DCT)"
INST_CMPRS_RATIO = 8.50368
INST_CMPRS_QUALITY = 0
INST_CMPRS_QUANTZ_TBL_ID = 0
INSTRUMENT_TEMPERATURE = 11.234
LENS_TEMPERATURE = 8.7872
MACROPIXEL_SIZE = 2
MISSING_FRAMES = 87
PIXEL_SUBSAMPLING_FLAG = N
SIGNAL_CHAIN_ID = 3
/* RADIOMETRIC DATA ELEMENTS */
BANDWIDTH = 177.0
CENTER_FILTER_WAVELENGTH = 676.5
RADIANCE_OFFSET = 1.33312
RADIANCE_SCALING_FACTOR = 0.0255086
REFLECTANCE_SCALING_FACTOR = 0.000624992
MEX:REFLECTANCE_OFFSET = 0.032663
/* IMAGE OBJECT DEFINITIONS */
OBJECT = IMAGE
  INTERCHANGE_FORMAT = BINARY
  LINES = 47564
  LINE_SAMPLES = 6451
  SAMPLE_TYPE = UNSIGNED_INTEGER
  SAMPLE_BITS = 8
  BANDS = 1
  BAND_STORAGE_TYPE = BAND_SEQUENTIAL
  MAXIMUM = 352
  MEAN = 168.297
  MINIMUM = 57
  STANDARD_DEVIATION = 69.1923
END_OBJECT = IMAGE
/* MAP OBJECT DEFINITIONS */
OBJECT = IMAGE_MAP_PROJECTION
  ^DATA_SET_MAP_PROJECTION_CATALOG= "DSMAP.CAT"
  A_AXIS_RADIUS = 3396.0
  B_AXIS_RADIUS = 3396.0
  C_AXIS_RADIUS = 3396.0
  CENTER_LATITUDE = 0.0
  CENTER_LONGITUDE = 104.0
  COORDINATE_SYSTEM_NAME = PLANETOGRAPHIC
  COORDINATE_SYSTEM_TYPE = "BODY-FIXED ROTATING"
  EASTERNMOST_LONGITUDE = 107.482
  FIRST_STANDARD_PARALLEL = "N/A"
  LINE_FIRST_PIXEL = 1
  LINE_LAST_PIXEL = 47564
  LINE_PROJECTION_OFFSET = 85425.75
  MAP_PROJECTION_ROTATION = 0.0
  MAP_PROJECTION_TYPE = SINUSOIDAL
  MAP_RESOLUTION = 1185.42760773333
  MAP_SCALE = 0.05
  MAXIMUM_LATITUDE = 72.05459999999999
  MINIMUM_LATITUDE = 31.9724
  POSITIVE_LONGITUDE_DIRECTION = EAST
  REFERENCE_LATITUDE = "N/A"
  REFERENCE_LONGITUDE = "N/A"
  SAMPLE_FIRST_PIXEL = 1
  SAMPLE_LAST_PIXEL = 6451
  SAMPLE_PROJECTION_OFFSET = 2622.25
  SECOND_STANDARD_PARALLEL = "N/A"
  WESTERNMOST_LONGITUDE = 97.1895
END_OBJECT = IMAGE_MAP_PROJECTION
/* The JPEG2000 image data file associated with this label. */
OBJECT = COMPRESSED_FILE
  FILE_NAME = "H1603_0000_P23.JP2"
  RECORD_TYPE = UNDEFINED
  FILE_RECORDS = UNK
  ENCODING_TYPE = "JP2"
  INTERCHANGE_FORMAT = BINARY
  UNCOMPRESSED_FILE_NAME = "H1603_0000_P23.IMG"
  REQUIRED_STORAGE_BYTES = "306867619"
  ^DESCRIPTION = "JP2INFO.TXT"
END_OBJECT = COMPRESSED_FILE
END
