PDS_VERSION_ID = PDS3
/* FILE DATA ELEMENTS */
RECORD_TYPE = STREAM
/* POINTERS TO DATA OBJECTS */
^COMPRESSED_FILE = "H1606_0001_SR3.JP2"
/* IDENTIFICATION DATA ELEMENTS */
DATA_SET_ID = "MEX-M-HRSC-5-REFDR-MAPPROJECTED-V3.0"
DATA_SET_NAME = "MARS EXPRESS HRSC MAP PROJECTED REFDR V3.0"
DETECTOR_ID = MEX_HRSC_SRC
EVENT_TYPE = "MARS-REGIONAL-MAPPING-Vo-Te-Im"
INSTRUMENT_HOST_ID = MEX
INSTRUMENT_HOST_NAME = "MARS EXPRESS"
INSTRUMENT_ID = HRSC
INSTRUMENT_NAME = "HIGH RESOLUTION STEREO CAMERA"
MISSION_NAME = "MARS EXPRESS"
MISSION_PHASE_NAME = MR_Phase_6
PROCESSING_LEVEL_ID = 3
PRODUCT_CREATION_TIME = 2016-03-09T06:48:11.000Z
PRODUCT_ID = "H1606_0001_SR3.JP2"
RELEASE_ID = 0021
REVISION_ID = 0000
/* QUALITY DATA ELEMENTS */
DATA_QUALITY_ID = 1
DATA_QUALITY_DESC = "Data calculated based on original SPICE kernels"
/* TIME DATA ELEMENTS */
SPACECRAFT_CLOCK_START_COUNT = "1/0061816331.56476"
SPACECRAFT_CLOCK_STOP_COUNT = "1/0061817366.35908"
IMAGE_TIME = 2005-04-17T11:16:34.630Z
START_TIME = 2005-04-17T11:16:34.372Z
STOP_TIME = 2005-04-17T11:16:34.888Z
/* ORBITAL DATA ELEMENTS */
ASCENDING_NODE_LONGITUDE = 194.8
MAXIMUM_RESOLUTION = 6.757
FOOTPRINT_POINT_LATITUDE = (58.9384,58.9319,58.9278,58.9221, 58.9182,58.9138,58.9097,58.9039,58.8973 ,58.8916,58.8865,58.883,58.8792,58.8745 ,58.8682,58.864,58.8579,58.8542,58.8493 ,58.8461,58.8413,58.8373,58.8324, 58.8278,58.8273,58.8269,58.8264,58.8259 ,58.8254,58.8249,58.8245,58.824,58.8235 ,58.823,58.8225,58.822,58.8216,58.8211, 58.8206,58.8202,58.8197,58.8193,58.8188 ,58.8183,58.8178,58.8173,58.8168, 58.8163,58.8158,58.822,58.8276,58.8315, 58.8358,58.8424,58.8481,58.8515,58.857, 58.86,58.8636,58.8678,58.8733,58.8771, 58.8842,58.8889,58.8924,58.8969,58.9013 ,58.9049,58.9084,58.9131,58.9163, 58.9212,58.9251,58.9284,58.931,58.9314, 58.9319,58.9324,58.9329,58.9334,58.9339 ,58.9344,58.9349,58.9353,58.9358, 58.9363,58.9369,58.9374,58.9379,58.9384 ,58.9388,58.9393,58.9398,58.9403, 58.9408,58.9412,58.9417,58.9422,58.9427 ,58.9384)
FOOTPRINT_POINT_LONGITUDE = (166.807,166.809,166.81,166.811,166.811 ,166.812,166.813,166.814,166.816, 166.817,166.818,166.819,166.819,166.82, 166.822,166.822,166.824,166.824,166.825 ,166.826,166.827,166.828,166.829, 166.827,166.818,166.81,166.801,166.792, 166.783,166.774,166.765,166.756,166.748 ,166.739,166.73,166.721,166.712,166.703 ,166.695,166.688,166.679,166.67,166.661 ,166.653,166.644,166.635,166.626, 166.617,166.608,166.603,166.602,166.601 ,166.601,166.599,166.598,166.597, 166.596,166.596,166.595,166.594,166.593 ,166.592,166.591,166.59,166.589,166.588 ,166.587,166.586,166.585,166.585, 166.584,166.583,166.582,166.581,166.59, 166.599,166.608,166.617,166.626,166.634 ,166.643,166.652,166.661,166.67,166.679 ,166.688,166.699,166.708,166.716, 166.725,166.734,166.743,166.752,166.761 ,166.77,166.779,166.787,166.796,166.805 ,166.807)
ORBIT_NUMBER = 1606
ORBITAL_ECCENTRICITY = 0.566
ORBITAL_INCLINATION = 86.59
ORBITAL_SEMIMAJOR_AXIS = 8537.45
PERIAPSIS_ALTITUDE = 327.8
PERIAPSIS_ARGUMENT_ANGLE = 77.45
PERIAPSIS_TIME = 2005-04-17T11:04:46.000Z
SPACECRAFT_ORIENTATION = (0.0,1.0,0.0)
^MEX_ORIENTATION_DESC = "MEX_ORIENTATION_DESC.TXT"
SPACECRAFT_POINTING_MODE = ACROSSTRACK
^MEX_POINTING_DESC = "MEX_POINTING_DESC.TXT"
RIGHT_ASCENSION = -1e+32
DECLINATION = -1e+32
OFFSET_ANGLE = -0.95
SPACECRAFT_SOLAR_DISTANCE = 2.14827e+08
TARGET_NAME = MARS
/* CAMERA DATA ELEMENTS */
BUFFER_MODE_ID = BUFFER_8
EXPOSURE_DURATION = 516.096
INST_CMPRS_NAME = NONE
INST_CMPRS_RATIO = 1.0
INST_CMPRS_QUALITY = -2147483648
INST_CMPRS_QUANTZ_TBL_ID = -2147483648
INSTRUMENT_TEMPERATURE = 11.2121
MISSING_FRAMES = 0
START_BIT = 0
/* RADIOMETRIC DATA ELEMENTS */
BANDWIDTH = 250.0
CENTER_FILTER_WAVELENGTH = 600.0
RADIANCE_OFFSET = -9.99e+31
RADIANCE_SCALING_FACTOR = -9.99e+31
REFLECTANCE_SCALING_FACTOR = -9.99e+31
MEX:REFLECTANCE_OFFSET = -9.99e+31
/* IMAGE OBJECT DEFINITIONS */
OBJECT = IMAGE
  INTERCHANGE_FORMAT = BINARY
  LINES = 1578
  LINE_SAMPLES = 1591
  SAMPLE_TYPE = UNSIGNED_INTEGER
  SAMPLE_BITS = 8
  BANDS = 1
  BAND_STORAGE_TYPE = BAND_SEQUENTIAL
  MAXIMUM = 13548
  MEAN = 12915.9
  MINIMUM = 12096
  STANDARD_DEVIATION = 222.916
END_OBJECT = IMAGE
/* MAP OBJECT DEFINITIONS */
OBJECT = IMAGE_MAP_PROJECTION
  ^DATA_SET_MAP_PROJECTION_CATALOG= "DSMAP.CAT"
  A_AXIS_RADIUS = 3396.19
  B_AXIS_RADIUS = 3396.19
  C_AXIS_RADIUS = 3396.19
  CENTER_LATITUDE = 0.0
  CENTER_LONGITUDE = 167.0
  COORDINATE_SYSTEM_NAME = PLANETOGRAPHIC
  COORDINATE_SYSTEM_TYPE = "BODY-FIXED ROTATING"
  EASTERNMOST_LONGITUDE = 166.829
  FIRST_STANDARD_PARALLEL = "N/A"
  LINE_FIRST_PIXEL = 1
  LINE_LAST_PIXEL = 1578
  LINE_PROJECTION_OFFSET = 697601.0
  MAP_PROJECTION_ROTATION = 0.0
  MAP_PROJECTION_TYPE = SINUSOIDAL
  MAP_RESOLUTION = 11854.9393024378
  MAP_SCALE = 0.005
  MAXIMUM_LATITUDE = 58.9427
  MINIMUM_LATITUDE = 58.8158
  POSITIVE_LONGITUDE_DIRECTION = EAST
  REFERENCE_LATITUDE = "N/A"
  REFERENCE_LONGITUDE = "N/A"
  SAMPLE_FIRST_PIXEL = 1
  SAMPLE_LAST_PIXEL = 1591
  SAMPLE_PROJECTION_OFFSET = 2871.0
  SECOND_STANDARD_PARALLEL = "N/A"
  WESTERNMOST_LONGITUDE = 166.581
END_OBJECT = IMAGE_MAP_PROJECTION
/* The JPEG2000 image data file associated with this label. */
OBJECT = COMPRESSED_FILE
  FILE_NAME = "H1606_0001_SR3.JP2"
  RECORD_TYPE = UNDEFINED
  FILE_RECORDS = UNK
  ENCODING_TYPE = "JP2"
  INTERCHANGE_FORMAT = BINARY
  UNCOMPRESSED_FILE_NAME = "H1606_0001_SR3.IMG"
  REQUIRED_STORAGE_BYTES = "2529690"
  ^DESCRIPTION = "JP2INFO.TXT"
END_OBJECT = COMPRESSED_FILE
END
