PDS_VERSION_ID = PDS3
/* FILE DATA ELEMENTS */
RECORD_TYPE = STREAM
/* POINTERS TO DATA OBJECTS */
^COMPRESSED_FILE = "H1606_0002_SR3.JP2"
/* IDENTIFICATION DATA ELEMENTS */
DATA_SET_ID = "MEX-M-HRSC-5-REFDR-MAPPROJECTED-V3.0"
DATA_SET_NAME = "MARS EXPRESS HRSC MAP PROJECTED REFDR V3.0"
DETECTOR_ID = MEX_HRSC_SRC
EVENT_TYPE = "MARS-REGIONAL-MAPPING-Vo-Te-Im"
INSTRUMENT_HOST_ID = MEX
INSTRUMENT_HOST_NAME = "MARS EXPRESS"
INSTRUMENT_ID = HRSC
INSTRUMENT_NAME = "HIGH RESOLUTION STEREO CAMERA"
MISSION_NAME = "MARS EXPRESS"
MISSION_PHASE_NAME = MR_Phase_6
PROCESSING_LEVEL_ID = 3
PRODUCT_CREATION_TIME = 2016-03-09T06:48:11.000Z
PRODUCT_ID = "H1606_0002_SR3.JP2"
RELEASE_ID = 0021
REVISION_ID = 0000
/* QUALITY DATA ELEMENTS */
DATA_QUALITY_ID = 1
DATA_QUALITY_DESC = "Data calculated based on original SPICE kernels"
/* TIME DATA ELEMENTS */
SPACECRAFT_CLOCK_START_COUNT = "1/0061816331.56476"
SPACECRAFT_CLOCK_STOP_COUNT = "1/0061817366.35908"
IMAGE_TIME = 2005-04-17T11:16:36.811Z
START_TIME = 2005-04-17T11:16:36.807Z
STOP_TIME = 2005-04-17T11:16:36.814Z
/* ORBITAL DATA ELEMENTS */
ASCENDING_NODE_LONGITUDE = 194.8
MAXIMUM_RESOLUTION = 6.778
FOOTPRINT_POINT_LATITUDE = (58.8216,58.8169,58.8137,58.8097,58.804 ,58.8008,58.795,58.7903,58.7868,58.7824 ,58.7779,58.772,58.7672,58.7617,58.758, 58.7536,58.7498,58.7458,58.7426,58.7372 ,58.7306,58.7249,58.7202,58.717,58.7129 ,58.7124,58.7119,58.7114,58.711,58.7105 ,58.71,58.7095,58.709,58.7086,58.7081, 58.7076,58.7071,58.7066,58.7061,58.7057 ,58.7052,58.7047,58.7042,58.7038, 58.7034,58.7029,58.7024,58.7019,58.7014 ,58.7009,58.7049,58.7089,58.7121, 58.7157,58.7215,58.7278,58.7315,58.7358 ,58.7425,58.7465,58.7526,58.7584, 58.7633,58.7685,58.7722,58.7761,58.7803 ,58.7858,58.7903,58.7939,58.7982, 58.8027,58.8095,58.8146,58.8164,58.8169 ,58.8174,58.8179,58.8184,58.8188, 58.8193,58.8198,58.8203,58.8208,58.8213 ,58.8217,58.8222,58.8227,58.8232, 58.8237,58.8241,58.8246,58.8251,58.8256 ,58.826,58.8265,58.827,58.8275,58.8279, 58.8216)
FOOTPRINT_POINT_LONGITUDE = (166.831,166.832,166.833,166.834, 166.835,166.835,166.837,166.837,166.838 ,166.839,166.84,166.841,166.842,166.843 ,166.844,166.845,166.846,166.846, 166.847,166.848,166.849,166.85,166.851, 166.852,166.853,166.844,166.835,166.826 ,166.817,166.808,166.8,166.791,166.782, 166.773,166.764,166.755,166.747,166.738 ,166.729,166.72,166.711,166.702,166.693 ,166.687,166.678,166.669,166.66,166.652 ,166.643,166.634,166.627,166.626, 166.626,166.625,166.624,166.622,166.622 ,166.621,166.619,166.619,166.617, 166.616,166.615,166.614,166.613,166.613 ,166.612,166.611,166.61,166.609,166.608 ,166.607,166.606,166.605,166.616, 166.625,166.633,166.642,166.651,166.66, 166.669,166.678,166.687,166.695,166.704 ,166.713,166.722,166.731,166.74,166.749 ,166.758,166.766,166.775,166.784, 166.793,166.802,166.811,166.82,166.829, 166.831)
ORBIT_NUMBER = 1606
ORBITAL_ECCENTRICITY = 0.566
ORBITAL_INCLINATION = 86.59
ORBITAL_SEMIMAJOR_AXIS = 8537.45
PERIAPSIS_ALTITUDE = 327.8
PERIAPSIS_ARGUMENT_ANGLE = 77.45
PERIAPSIS_TIME = 2005-04-17T11:04:46.000Z
SPACECRAFT_ORIENTATION = (0.0,1.0,0.0)
^MEX_ORIENTATION_DESC = "MEX_ORIENTATION_DESC.TXT"
SPACECRAFT_POINTING_MODE = ACROSSTRACK
^MEX_POINTING_DESC = "MEX_POINTING_DESC.TXT"
RIGHT_ASCENSION = -1e+32
DECLINATION = -1e+32
OFFSET_ANGLE = -0.95
SPACECRAFT_SOLAR_DISTANCE = 2.14827e+08
TARGET_NAME = MARS
/* CAMERA DATA ELEMENTS */
BUFFER_MODE_ID = BUFFER_8
EXPOSURE_DURATION = 7.056
INST_CMPRS_NAME = NONE
INST_CMPRS_RATIO = 1.0
INST_CMPRS_QUALITY = -2147483648
INST_CMPRS_QUANTZ_TBL_ID = -2147483648
INSTRUMENT_TEMPERATURE = 11.2121
MISSING_FRAMES = 0
START_BIT = 0
/* RADIOMETRIC DATA ELEMENTS */
BANDWIDTH = 250.0
CENTER_FILTER_WAVELENGTH = 600.0
RADIANCE_OFFSET = -9.99e+31
RADIANCE_SCALING_FACTOR = -9.99e+31
REFLECTANCE_SCALING_FACTOR = -9.99e+31
MEX:REFLECTANCE_OFFSET = -9.99e+31
/* IMAGE OBJECT DEFINITIONS */
OBJECT = IMAGE
  INTERCHANGE_FORMAT = BINARY
  LINES = 1582
  LINE_SAMPLES = 1595
  SAMPLE_TYPE = UNSIGNED_INTEGER
  SAMPLE_BITS = 8
  BANDS = 1
  BAND_STORAGE_TYPE = BAND_SEQUENTIAL
  MAXIMUM = 4825
  MEAN = 4455.05
  MINIMUM = 3760
  STANDARD_DEVIATION = 76.9037
END_OBJECT = IMAGE
/* MAP OBJECT DEFINITIONS */
OBJECT = IMAGE_MAP_PROJECTION
  ^DATA_SET_MAP_PROJECTION_CATALOG= "DSMAP.CAT"
  A_AXIS_RADIUS = 3396.19
  B_AXIS_RADIUS = 3396.19
  C_AXIS_RADIUS = 3396.19
  CENTER_LATITUDE = 0.0
  CENTER_LONGITUDE = 167.0
  COORDINATE_SYSTEM_NAME = PLANETOGRAPHIC
  COORDINATE_SYSTEM_TYPE = "BODY-FIXED ROTATING"
  EASTERNMOST_LONGITUDE = 166.853
  FIRST_STANDARD_PARALLEL = "N/A"
  LINE_FIRST_PIXEL = 1
  LINE_LAST_PIXEL = 1582
  LINE_PROJECTION_OFFSET = 696247.0
  MAP_PROJECTION_ROTATION = 0.0
  MAP_PROJECTION_TYPE = SINUSOIDAL
  MAP_RESOLUTION = 11854.9393024378
  MAP_SCALE = 0.005
  MAXIMUM_LATITUDE = 58.8279
  MINIMUM_LATITUDE = 58.7009
  POSITIVE_LONGITUDE_DIRECTION = EAST
  REFERENCE_LATITUDE = "N/A"
  REFERENCE_LONGITUDE = "N/A"
  SAMPLE_FIRST_PIXEL = 1
  SAMPLE_LAST_PIXEL = 1595
  SAMPLE_PROJECTION_OFFSET = 2734.0
  SECOND_STANDARD_PARALLEL = "N/A"
  WESTERNMOST_LONGITUDE = 166.605
END_OBJECT = IMAGE_MAP_PROJECTION
/* The JPEG2000 image data file associated with this label. */
OBJECT = COMPRESSED_FILE
  FILE_NAME = "H1606_0002_SR3.JP2"
  RECORD_TYPE = UNDEFINED
  FILE_RECORDS = UNK
  ENCODING_TYPE = "JP2"
  INTERCHANGE_FORMAT = BINARY
  UNCOMPRESSED_FILE_NAME = "H1606_0002_SR3.IMG"
  REQUIRED_STORAGE_BYTES = "2542430"
  ^DESCRIPTION = "JP2INFO.TXT"
END_OBJECT = COMPRESSED_FILE
END
