PDS_VERSION_ID = PDS3
/* FILE DATA ELEMENTS */
RECORD_TYPE = STREAM
/* POINTERS TO DATA OBJECTS */
^COMPRESSED_FILE = "H1606_0004_SR3.JP2"
/* IDENTIFICATION DATA ELEMENTS */
DATA_SET_ID = "MEX-M-HRSC-5-REFDR-MAPPROJECTED-V3.0"
DATA_SET_NAME = "MARS EXPRESS HRSC MAP PROJECTED REFDR V3.0"
DETECTOR_ID = MEX_HRSC_SRC
EVENT_TYPE = "MARS-REGIONAL-MAPPING-Vo-Te-Im"
INSTRUMENT_HOST_ID = MEX
INSTRUMENT_HOST_NAME = "MARS EXPRESS"
INSTRUMENT_ID = HRSC
INSTRUMENT_NAME = "HIGH RESOLUTION STEREO CAMERA"
MISSION_NAME = "MARS EXPRESS"
MISSION_PHASE_NAME = MR_Phase_6
PROCESSING_LEVEL_ID = 3
PRODUCT_CREATION_TIME = 2016-03-09T06:48:11.000Z
PRODUCT_ID = "H1606_0004_SR3.JP2"
RELEASE_ID = 0021
REVISION_ID = 0000
/* QUALITY DATA ELEMENTS */
DATA_QUALITY_ID = 1
DATA_QUALITY_DESC = "Data calculated based on original SPICE kernels"
/* TIME DATA ELEMENTS */
SPACECRAFT_CLOCK_START_COUNT = "1/0061816331.56476"
SPACECRAFT_CLOCK_STOP_COUNT = "1/0061817366.35908"
IMAGE_TIME = 2005-04-17T11:16:41.171Z
START_TIME = 2005-04-17T11:16:41.167Z
STOP_TIME = 2005-04-17T11:16:41.174Z
/* ORBITAL DATA ELEMENTS */
ASCENDING_NODE_LONGITUDE = 194.8
MAXIMUM_RESOLUTION = 6.82
FOOTPRINT_POINT_LATITUDE = (58.5968,58.5918,58.5854,58.5771, 58.5713,58.5676,58.5624,58.5591,58.5545 ,58.5479,58.5415,58.5355,58.5314, 58.5285,58.5237,58.5171,58.5131,58.507, 58.5041,58.5005,58.4975,58.4941,58.4895 ,58.4832,58.4827,58.4822,58.4818, 58.4813,58.4808,58.4803,58.4799,58.4794 ,58.4789,58.4784,58.478,58.4775,58.477, 58.4765,58.476,58.4756,58.4751,58.4746, 58.4741,58.4736,58.4731,58.4726,58.4722 ,58.4714,58.471,58.4769,58.4827,58.4868 ,58.4909,58.497,58.5001,58.5052,58.5088 ,58.5134,58.5191,58.5239,58.5279,58.532 ,58.5356,58.5394,58.5452,58.5501, 58.5538,58.5566,58.5617,58.5653,58.5703 ,58.5732,58.5786,58.583,58.5872,58.5876 ,58.5881,58.5886,58.5893,58.5898, 58.5903,58.5908,58.5913,58.5917,58.5922 ,58.5927,58.5932,58.5937,58.5941, 58.5946,58.5951,58.5956,58.596,58.5965, 58.597,58.5975,58.5979,58.5984,58.5989, 58.5968)
FOOTPRINT_POINT_LONGITUDE = (166.877,166.878,166.879,166.881, 166.882,166.882,166.883,166.884,166.885 ,166.886,166.888,166.889,166.89,166.89, 166.891,166.892,166.893,166.894,166.895 ,166.896,166.896,166.897,166.898, 166.899,166.89,166.881,166.872,166.863, 166.854,166.846,166.837,166.828,166.819 ,166.81,166.801,166.793,166.784,166.775 ,166.766,166.757,166.748,166.74,166.731 ,166.722,166.713,166.704,166.695, 166.682,166.674,166.673,166.672,166.671 ,166.67,166.669,166.668,166.667,166.667 ,166.666,166.665,166.664,166.663, 166.662,166.661,166.66,166.659,166.658, 166.658,166.657,166.656,166.655,166.654 ,166.654,166.652,166.652,166.655, 166.664,166.673,166.682,166.695,166.704 ,166.713,166.722,166.731,166.74,166.749 ,166.757,166.766,166.775,166.784, 166.793,166.802,166.811,166.82,166.828, 166.837,166.846,166.855,166.864,166.873 ,166.877)
ORBIT_NUMBER = 1606
ORBITAL_ECCENTRICITY = 0.566
ORBITAL_INCLINATION = 86.59
ORBITAL_SEMIMAJOR_AXIS = 8537.45
PERIAPSIS_ALTITUDE = 327.8
PERIAPSIS_ARGUMENT_ANGLE = 77.45
PERIAPSIS_TIME = 2005-04-17T11:04:46.000Z
SPACECRAFT_ORIENTATION = (0.0,1.0,0.0)
^MEX_ORIENTATION_DESC = "MEX_ORIENTATION_DESC.TXT"
SPACECRAFT_POINTING_MODE = ACROSSTRACK
^MEX_POINTING_DESC = "MEX_POINTING_DESC.TXT"
RIGHT_ASCENSION = -1e+32
DECLINATION = -1e+32
OFFSET_ANGLE = -0.95
SPACECRAFT_SOLAR_DISTANCE = 2.14827e+08
TARGET_NAME = MARS
/* CAMERA DATA ELEMENTS */
BUFFER_MODE_ID = BUFFER_8
EXPOSURE_DURATION = 7.056
INST_CMPRS_NAME = NONE
INST_CMPRS_RATIO = 1.0
INST_CMPRS_QUALITY = -2147483648
INST_CMPRS_QUANTZ_TBL_ID = -2147483648
INSTRUMENT_TEMPERATURE = 11.2121
MISSING_FRAMES = 0
START_BIT = 0
/* RADIOMETRIC DATA ELEMENTS */
BANDWIDTH = 250.0
CENTER_FILTER_WAVELENGTH = 600.0
RADIANCE_OFFSET = -9.99e+31
RADIANCE_SCALING_FACTOR = -9.99e+31
REFLECTANCE_SCALING_FACTOR = -9.99e+31
MEX:REFLECTANCE_OFFSET = -9.99e+31
/* IMAGE OBJECT DEFINITIONS */
OBJECT = IMAGE
  INTERCHANGE_FORMAT = BINARY
  LINES = 1589
  LINE_SAMPLES = 1603
  SAMPLE_TYPE = UNSIGNED_INTEGER
  SAMPLE_BITS = 8
  BANDS = 1
  BAND_STORAGE_TYPE = BAND_SEQUENTIAL
  MAXIMUM = 4925
  MEAN = 4500.79
  MINIMUM = 3839
  STANDARD_DEVIATION = 87.8765
END_OBJECT = IMAGE
/* MAP OBJECT DEFINITIONS */
OBJECT = IMAGE_MAP_PROJECTION
  ^DATA_SET_MAP_PROJECTION_CATALOG= "DSMAP.CAT"
  A_AXIS_RADIUS = 3396.19
  B_AXIS_RADIUS = 3396.19
  C_AXIS_RADIUS = 3396.19
  CENTER_LATITUDE = 0.0
  CENTER_LONGITUDE = 167.0
  COORDINATE_SYSTEM_NAME = PLANETOGRAPHIC
  COORDINATE_SYSTEM_TYPE = "BODY-FIXED ROTATING"
  EASTERNMOST_LONGITUDE = 166.899
  FIRST_STANDARD_PARALLEL = "N/A"
  LINE_FIRST_PIXEL = 1
  LINE_LAST_PIXEL = 1589
  LINE_PROJECTION_OFFSET = 693545.0
  MAP_PROJECTION_ROTATION = 0.0
  MAP_PROJECTION_TYPE = SINUSOIDAL
  MAP_RESOLUTION = 11854.9393024378
  MAP_SCALE = 0.005
  MAXIMUM_LATITUDE = 58.5989
  MINIMUM_LATITUDE = 58.471
  POSITIVE_LONGITUDE_DIRECTION = EAST
  REFERENCE_LATITUDE = "N/A"
  REFERENCE_LONGITUDE = "N/A"
  SAMPLE_FIRST_PIXEL = 1
  SAMPLE_LAST_PIXEL = 1603
  SAMPLE_PROJECTION_OFFSET = 2461.0
  SECOND_STANDARD_PARALLEL = "N/A"
  WESTERNMOST_LONGITUDE = 166.652
END_OBJECT = IMAGE_MAP_PROJECTION
/* The JPEG2000 image data file associated with this label. */
OBJECT = COMPRESSED_FILE
  FILE_NAME = "H1606_0004_SR3.JP2"
  RECORD_TYPE = UNDEFINED
  FILE_RECORDS = UNK
  ENCODING_TYPE = "JP2"
  INTERCHANGE_FORMAT = BINARY
  UNCOMPRESSED_FILE_NAME = "H1606_0004_SR3.IMG"
  REQUIRED_STORAGE_BYTES = "2566403"
  ^DESCRIPTION = "JP2INFO.TXT"
END_OBJECT = COMPRESSED_FILE
END
