PDS_VERSION_ID = PDS3
/* FILE DATA ELEMENTS */
RECORD_TYPE = STREAM
/* POINTERS TO DATA OBJECTS */
^COMPRESSED_FILE = "H1607_0009_P13.JP2"
/* IDENTIFICATION DATA ELEMENTS */
DATA_SET_ID = "MEX-M-HRSC-5-REFDR-MAPPROJECTED-V3.0"
DATA_SET_NAME = "MARS EXPRESS HRSC MAP PROJECTED REFDR V3.0"
DETECTOR_ID = MEX_HRSC_P1
EVENT_TYPE = "MARS-REGIONAL-MAPPING-Te-Fl-Mw"
INSTRUMENT_HOST_ID = MEX
INSTRUMENT_HOST_NAME = "MARS EXPRESS"
INSTRUMENT_ID = HRSC
INSTRUMENT_NAME = "HIGH RESOLUTION STEREO CAMERA"
MISSION_NAME = "MARS EXPRESS"
MISSION_PHASE_NAME = MR_Phase_6
PROCESSING_LEVEL_ID = 3
PRODUCT_CREATION_TIME = 2016-03-09T06:48:11.000Z
PRODUCT_ID = "H1607_0009_P13.JP2"
RELEASE_ID = 0021
REVISION_ID = 0000
/* QUALITY DATA ELEMENTS */
DATA_QUALITY_ID = 1
DATA_QUALITY_DESC = "Data calculated based on original SPICE kernels"
/* TIME DATA ELEMENTS */
SPACECRAFT_CLOCK_START_COUNT = "1/0061840640.57957"
SPACECRAFT_CLOCK_STOP_COUNT = "1/0061841884.19863"
START_TIME = 2005-04-17T17:59:18.665Z
STOP_TIME = 2005-04-17T18:14:47.813Z
/* ORBITAL DATA ELEMENTS */
ASCENDING_NODE_LONGITUDE = 194.78
MAXIMUM_RESOLUTION = 57.4
FOOTPRINT_POINT_LATITUDE = (63.6766,63.7344,63.8779,62.5089, 61.3929,60.7625,59.6041,58.4164,57.8112 ,57.1985,56.5774,55.9484,55.3105, 54.6656,54.0104,53.3473,52.6748,51.9933 ,51.3026,50.6023,49.8924,49.1728, 48.4342,47.6936,46.943,46.1817,45.4091, 44.6252,43.8296,43.0228,42.2037,40.9529 ,40.1164,39.2935,38.4853,37.6895,36.909 ,36.142,35.3864,34.6463,33.9163,33.199, 32.4961,31.805,31.1234,30.456,29.7982, 29.1511,29.1792,29.2373,29.3217,29.3785 ,29.4285,29.4833,29.8302,30.4538, 31.0941,31.7447,32.4066,33.0805,33.7718 ,34.4721,35.1907,35.9151,36.6563, 37.4078,38.1775,38.9599,39.7563,40.5684 ,41.3917,42.2064,43.0108,43.8029, 44.5853,45.3567,46.118,46.8685,47.6085, 48.3386,49.068,49.7792,50.4804,51.1727, 51.8562,52.5296,53.1949,53.8512,54.4989 ,55.1385,55.77,56.3932,57.009,58.2156, 59.3934,60.5423,61.167,62.2735,63.365, 63.6766)
FOOTPRINT_POINT_LONGITUDE = (68.8377,70.2349,72.2016,72.4804, 72.6864,72.795,72.9833,73.1611,73.2452, 73.3279,73.4084,73.4868,73.5626,73.6376 ,73.7092,73.7798,73.8483,73.9151, 73.9806,74.0448,74.107,74.1686,74.2288, 74.2871,74.3444,74.4008,74.456,74.5099, 74.563,74.6153,74.6667,74.743,74.7925, 74.8396,74.8853,74.9283,74.971,75.0125, 75.0516,75.0914,75.1285,75.1649,75.2021 ,75.2384,75.2727,75.3082,75.3422, 75.3756,74.6132,73.6184,72.0942,70.7989 ,69.5794,68.5068,67.516,67.5845,67.6491 ,67.7129,67.7755,67.8365,67.893,67.9496 ,68.001,68.0542,68.1031,68.1513,68.1941 ,68.2348,68.2724,68.3056,68.3352, 68.3601,68.3796,68.3951,68.4053,68.4108 ,68.4117,68.4083,68.4008,68.3888, 68.3715,68.3506,68.3252,68.2957,68.2614 ,68.2235,68.1809,68.1342,68.0831, 68.0275,67.9675,67.9031,67.8338,67.6818 ,67.5109,67.3203,67.2057,66.9821, 66.7335,68.8377)
ORBIT_NUMBER = 1607
ORBITAL_ECCENTRICITY = 0.566
ORBITAL_INCLINATION = 86.61
ORBITAL_SEMIMAJOR_AXIS = 8535.02
PERIAPSIS_ALTITUDE = 326.33
PERIAPSIS_ARGUMENT_ANGLE = 77.29
PERIAPSIS_TIME = 2005-04-17T17:48:08.000Z
SPACECRAFT_ORIENTATION = (0.0,1.0,0.0)
^MEX_ORIENTATION_DESC = "MEX_ORIENTATION_DESC.TXT"
SPACECRAFT_POINTING_MODE = NADIR
^MEX_POINTING_DESC = "MEX_POINTING_DESC.TXT"
RIGHT_ASCENSION = -1e+32
DECLINATION = -1e+32
OFFSET_ANGLE = -1e+32
SPACECRAFT_SOLAR_DISTANCE = 2.14782e+08
TARGET_NAME = MARS
/* CAMERA DATA ELEMENTS */
DETECTOR_TEMPERATURE = 18.3705
FOCAL_PLANE_TEMPERATURE = 10.0106
INST_CMPRS_NAME = "DISCRETE COSINE TRANSFORMATION (DCT)"
INST_CMPRS_RATIO = 11.6316
INST_CMPRS_QUALITY = 0
INST_CMPRS_QUANTZ_TBL_ID = 0
INSTRUMENT_TEMPERATURE = 13.6808
LENS_TEMPERATURE = 10.0106
MACROPIXEL_SIZE = 2
MISSING_FRAMES = 13
PIXEL_SUBSAMPLING_FLAG = N
SIGNAL_CHAIN_ID = 3
/* RADIOMETRIC DATA ELEMENTS */
BANDWIDTH = 174.0
CENTER_FILTER_WAVELENGTH = 675.0
RADIANCE_OFFSET = 2.19777
RADIANCE_SCALING_FACTOR = 0.0250153
REFLECTANCE_SCALING_FACTOR = 0.0006207
MEX:REFLECTANCE_OFFSET = 0.0545329
/* IMAGE OBJECT DEFINITIONS */
OBJECT = IMAGE
  INTERCHANGE_FORMAT = BINARY
  LINES = 41072
  LINE_SAMPLES = 6745
  SAMPLE_TYPE = UNSIGNED_INTEGER
  SAMPLE_BITS = 8
  BANDS = 1
  BAND_STORAGE_TYPE = BAND_SEQUENTIAL
  MAXIMUM = 326
  MEAN = 186.666
  MINIMUM = 78
  STANDARD_DEVIATION = 61.8397
END_OBJECT = IMAGE
/* MAP OBJECT DEFINITIONS */
OBJECT = IMAGE_MAP_PROJECTION
  ^DATA_SET_MAP_PROJECTION_CATALOG= "DSMAP.CAT"
  A_AXIS_RADIUS = 3396.0
  B_AXIS_RADIUS = 3396.0
  C_AXIS_RADIUS = 3396.0
  CENTER_LATITUDE = 0.0
  CENTER_LONGITUDE = 71.0
  COORDINATE_SYSTEM_NAME = PLANETOGRAPHIC
  COORDINATE_SYSTEM_TYPE = "BODY-FIXED ROTATING"
  EASTERNMOST_LONGITUDE = 75.37560000000001
  FIRST_STANDARD_PARALLEL = "N/A"
  LINE_FIRST_PIXEL = 1
  LINE_LAST_PIXEL = 41072
  LINE_PROJECTION_OFFSET = 75711.25
  MAP_PROJECTION_ROTATION = 0.0
  MAP_PROJECTION_TYPE = SINUSOIDAL
  MAP_RESOLUTION = 1185.42760773333
  MAP_SCALE = 0.05
  MAXIMUM_LATITUDE = 63.8779
  MINIMUM_LATITUDE = 29.1511
  POSITIVE_LONGITUDE_DIRECTION = EAST
  REFERENCE_LATITUDE = "N/A"
  REFERENCE_LONGITUDE = "N/A"
  SAMPLE_FIRST_PIXEL = 1
  SAMPLE_LAST_PIXEL = 6745
  SAMPLE_PROJECTION_OFFSET = 3042.75
  SECOND_STANDARD_PARALLEL = "N/A"
  WESTERNMOST_LONGITUDE = 66.73350000000001
END_OBJECT = IMAGE_MAP_PROJECTION
/* The JPEG2000 image data file associated with this label. */
OBJECT = COMPRESSED_FILE
  FILE_NAME = "H1607_0009_P13.JP2"
  RECORD_TYPE = UNDEFINED
  FILE_RECORDS = UNK
  ENCODING_TYPE = "JP2"
  INTERCHANGE_FORMAT = BINARY
  UNCOMPRESSED_FILE_NAME = "H1607_0009_P13.IMG"
  REQUIRED_STORAGE_BYTES = "277064365"
  ^DESCRIPTION = "JP2INFO.TXT"
END_OBJECT = COMPRESSED_FILE
END
