PDS_VERSION_ID = PDS3
/* FILE DATA ELEMENTS */
RECORD_TYPE = STREAM
/* POINTERS TO DATA OBJECTS */
^COMPRESSED_FILE = "H1607_0009_S23.JP2"
/* IDENTIFICATION DATA ELEMENTS */
DATA_SET_ID = "MEX-M-HRSC-5-REFDR-MAPPROJECTED-V3.0"
DATA_SET_NAME = "MARS EXPRESS HRSC MAP PROJECTED REFDR V3.0"
DETECTOR_ID = MEX_HRSC_S2
EVENT_TYPE = "MARS-REGIONAL-MAPPING-Te-Fl-Mw"
INSTRUMENT_HOST_ID = MEX
INSTRUMENT_HOST_NAME = "MARS EXPRESS"
INSTRUMENT_ID = HRSC
INSTRUMENT_NAME = "HIGH RESOLUTION STEREO CAMERA"
MISSION_NAME = "MARS EXPRESS"
MISSION_PHASE_NAME = MR_Phase_6
PROCESSING_LEVEL_ID = 3
PRODUCT_CREATION_TIME = 2016-03-09T06:48:11.000Z
PRODUCT_ID = "H1607_0009_S23.JP2"
RELEASE_ID = 0021
REVISION_ID = 0000
/* QUALITY DATA ELEMENTS */
DATA_QUALITY_ID = 1
DATA_QUALITY_DESC = "Data calculated based on original SPICE kernels"
/* TIME DATA ELEMENTS */
SPACECRAFT_CLOCK_START_COUNT = "1/0061840640.57957"
SPACECRAFT_CLOCK_STOP_COUNT = "1/0061841884.19863"
START_TIME = 2005-04-17T17:57:28.368Z
STOP_TIME = 2005-04-17T18:07:43.902Z
/* ORBITAL DATA ELEMENTS */
ASCENDING_NODE_LONGITUDE = 194.78
MAXIMUM_RESOLUTION = 50.5
FOOTPRINT_POINT_LATITUDE = (63.7944,63.8971,63.9581,63.6211,62.642 ,61.6399,60.334,59.2756,58.7371,58.1908 ,57.6396,57.0806,56.5146,55.9409, 55.3167,54.7263,54.1292,53.5234,52.9109 ,52.2874,51.657,51.0172,50.3678,49.71, 49.0424,48.3635,47.6754,46.9775,46.2681 ,45.5477,44.8177,44.0754,43.321,42.5557 ,41.7771,40.9863,40.1802,39.3627, 38.5318,37.6858,36.8269,35.9512,35.0599 ,34.154,33.229,31.8113,30.8504,29.8569, 29.2875,29.3111,29.3273,29.3392,29.3382 ,29.3324,29.3064,30.3011,31.2567, 32.2044,33.5991,34.9499,35.8264,37.1272 ,37.9726,38.8067,39.6256,40.43,41.2215, 42.0022,42.7706,43.526,44.2703,45.0017, 45.7228,46.4341,47.1336,47.8236,48.5041 ,49.1734,49.8329,50.4837,51.1248, 51.7571,52.3815,52.9964,53.6033,54.2031 ,54.7932,55.3766,55.9944,56.5619, 57.1218,57.6744,58.2217,58.76,59.2928, 60.3388,61.1266,62.1282,63.1082, 63.7944)
FOOTPRINT_POINT_LONGITUDE = (67.581,69.385,70.8008,71.8625,72.0518, 72.2296,72.4403,72.5956,72.6695,72.742, 72.8108,72.8782,72.9435,73.0069,73.0726 ,73.1322,73.1893,73.245,73.2984,73.3507 ,73.4007,73.4492,73.4961,73.5413, 73.5846,73.6268,73.667,73.7056,73.7427, 73.7783,73.8119,73.8443,73.875,73.9039, 73.9316,73.9572,73.9823,74.0052,74.0262 ,74.0456,74.0632,74.0798,74.0947, 74.1074,74.1195,74.1335,74.1387,74.1465 ,73.6771,72.9431,72.1069,71.2717, 70.6448,69.7052,68.7437,68.8067,68.8578 ,68.9069,68.9732,69.0268,69.0557, 69.0957,69.1163,69.1336,69.1468,69.1561 ,69.1617,69.1643,69.1637,69.1592, 69.1517,69.1406,69.1262,69.1089,69.0883 ,69.0647,69.038,69.0079,68.9749,68.9387 ,68.8994,68.8569,68.8115,68.7628, 68.7111,68.6562,68.598,68.5367,68.467, 68.3986,68.3268,68.2515,68.1732,68.0908 ,68.005,67.8223,67.6709,67.4604,67.2324 ,67.581)
ORBIT_NUMBER = 1607
ORBITAL_ECCENTRICITY = 0.566
ORBITAL_INCLINATION = 86.61
ORBITAL_SEMIMAJOR_AXIS = 8535.02
PERIAPSIS_ALTITUDE = 326.33
PERIAPSIS_ARGUMENT_ANGLE = 77.29
PERIAPSIS_TIME = 2005-04-17T17:48:08.000Z
SPACECRAFT_ORIENTATION = (0.0,1.0,0.0)
^MEX_ORIENTATION_DESC = "MEX_ORIENTATION_DESC.TXT"
SPACECRAFT_POINTING_MODE = NADIR
^MEX_POINTING_DESC = "MEX_POINTING_DESC.TXT"
RIGHT_ASCENSION = -1e+32
DECLINATION = -1e+32
OFFSET_ANGLE = -1e+32
SPACECRAFT_SOLAR_DISTANCE = 2.14782e+08
TARGET_NAME = MARS
/* CAMERA DATA ELEMENTS */
DETECTOR_TEMPERATURE = 19.39
FOCAL_PLANE_TEMPERATURE = 10.0106
INST_CMPRS_NAME = "DISCRETE COSINE TRANSFORMATION (DCT)"
INST_CMPRS_RATIO = 10.8859
INST_CMPRS_QUALITY = 0
INST_CMPRS_QUANTZ_TBL_ID = 0
INSTRUMENT_TEMPERATURE = 13.6808
LENS_TEMPERATURE = 10.0106
MACROPIXEL_SIZE = 2
MISSING_FRAMES = 9
PIXEL_SUBSAMPLING_FLAG = N
SIGNAL_CHAIN_ID = 1
/* RADIOMETRIC DATA ELEMENTS */
BANDWIDTH = 178.0
CENTER_FILTER_WAVELENGTH = 679.0
RADIANCE_OFFSET = 2.69115
RADIANCE_SCALING_FACTOR = 0.0278117
REFLECTANCE_SCALING_FACTOR = 0.000679434
MEX:REFLECTANCE_OFFSET = 0.0657444
/* IMAGE OBJECT DEFINITIONS */
OBJECT = IMAGE
  INTERCHANGE_FORMAT = BINARY
  LINES = 41072
  LINE_SAMPLES = 6745
  SAMPLE_TYPE = UNSIGNED_INTEGER
  SAMPLE_BITS = 8
  BANDS = 1
  BAND_STORAGE_TYPE = BAND_SEQUENTIAL
  MAXIMUM = 317
  MEAN = 162.796
  MINIMUM = 82
  STANDARD_DEVIATION = 42.2576
END_OBJECT = IMAGE
/* MAP OBJECT DEFINITIONS */
OBJECT = IMAGE_MAP_PROJECTION
  ^DATA_SET_MAP_PROJECTION_CATALOG= "DSMAP.CAT"
  A_AXIS_RADIUS = 3396.0
  B_AXIS_RADIUS = 3396.0
  C_AXIS_RADIUS = 3396.0
  CENTER_LATITUDE = 0.0
  CENTER_LONGITUDE = 71.0
  COORDINATE_SYSTEM_NAME = PLANETOGRAPHIC
  COORDINATE_SYSTEM_TYPE = "BODY-FIXED ROTATING"
  EASTERNMOST_LONGITUDE = 74.1465
  FIRST_STANDARD_PARALLEL = "N/A"
  LINE_FIRST_PIXEL = 1
  LINE_LAST_PIXEL = 41072
  LINE_PROJECTION_OFFSET = 75711.25
  MAP_PROJECTION_ROTATION = 0.0
  MAP_PROJECTION_TYPE = SINUSOIDAL
  MAP_RESOLUTION = 1185.42760773333
  MAP_SCALE = 0.05
  MAXIMUM_LATITUDE = 63.9581
  MINIMUM_LATITUDE = 29.2875
  POSITIVE_LONGITUDE_DIRECTION = EAST
  REFERENCE_LATITUDE = "N/A"
  REFERENCE_LONGITUDE = "N/A"
  SAMPLE_FIRST_PIXEL = 1
  SAMPLE_LAST_PIXEL = 6745
  SAMPLE_PROJECTION_OFFSET = 3042.75
  SECOND_STANDARD_PARALLEL = "N/A"
  WESTERNMOST_LONGITUDE = 67.2324
END_OBJECT = IMAGE_MAP_PROJECTION
/* The JPEG2000 image data file associated with this label. */
OBJECT = COMPRESSED_FILE
  FILE_NAME = "H1607_0009_S23.JP2"
  RECORD_TYPE = UNDEFINED
  FILE_RECORDS = UNK
  ENCODING_TYPE = "JP2"
  INTERCHANGE_FORMAT = BINARY
  UNCOMPRESSED_FILE_NAME = "H1607_0009_S23.IMG"
  REQUIRED_STORAGE_BYTES = "277064365"
  ^DESCRIPTION = "JP2INFO.TXT"
END_OBJECT = COMPRESSED_FILE
END
