PDS_VERSION_ID = PDS3
/* FILE DATA ELEMENTS */
RECORD_TYPE = STREAM
/* POINTERS TO DATA OBJECTS */
^COMPRESSED_FILE = "H1608_0000_RE3.JP2"
/* IDENTIFICATION DATA ELEMENTS */
DATA_SET_ID = "MEX-M-HRSC-5-REFDR-MAPPROJECTED-V3.0"
DATA_SET_NAME = "MARS EXPRESS HRSC MAP PROJECTED REFDR V3.0"
DETECTOR_ID = MEX_HRSC_RED
EVENT_TYPE = "MARS-REGIONAL-MAPPING-Pf-Eo-At"
INSTRUMENT_HOST_ID = MEX
INSTRUMENT_HOST_NAME = "MARS EXPRESS"
INSTRUMENT_ID = HRSC
INSTRUMENT_NAME = "HIGH RESOLUTION STEREO CAMERA"
MISSION_NAME = "MARS EXPRESS"
MISSION_PHASE_NAME = MR_Phase_6
PROCESSING_LEVEL_ID = 3
PRODUCT_CREATION_TIME = 2016-03-09T06:48:11.000Z
PRODUCT_ID = "H1608_0000_RE3.JP2"
RELEASE_ID = 0021
REVISION_ID = 0000
/* QUALITY DATA ELEMENTS */
DATA_QUALITY_ID = 1
DATA_QUALITY_DESC = "Data calculated based on original SPICE kernels"
/* TIME DATA ELEMENTS */
SPACECRAFT_CLOCK_START_COUNT = "1/0061864611.56506"
SPACECRAFT_CLOCK_STOP_COUNT = "1/0061865583.28161"
START_TIME = 2005-04-18T00:37:06.038Z
STOP_TIME = 2005-04-18T00:47:34.251Z
/* ORBITAL DATA ELEMENTS */
ASCENDING_NODE_LONGITUDE = 194.76
MAXIMUM_RESOLUTION = 72.1
FOOTPRINT_POINT_LATITUDE = (78.3103,78.1683,77.17,76.4033,75.3553, 74.2785,73.731,73.1733,72.6082,72.0381, 71.4567,70.8676,70.2713,69.6671,69.0526 ,68.4282,67.7951,67.1528,66.5007, 65.8385,65.1659,64.4824,63.788,63.0825, 62.3655,61.6351,60.8929,60.1383,59.37, 58.5881,57.7914,56.9814,56.1548,55.3136 ,54.456,53.5813,52.6893,51.7795,50.8502 ,49.903,48.9355,47.9477,46.9388,45.9056 ,44.8503,43.7717,42.6682,42.1067, 41.5389,41.4333,41.3999,41.3383,41.2558 ,42.3791,43.475,44.5476,45.5973,46.6237 ,47.6286,48.612,49.5751,50.5173,51.4414 ,52.3471,53.2349,54.1053,54.959,55.7964 ,56.6189,57.4248,58.2178,58.9949, 59.7597,60.5098,61.2478,61.974,62.687, 63.3878,64.0775,64.7558,65.4233,66.0803 ,66.7271,67.3638,67.9909,68.6088, 69.2166,69.8144,70.404,70.9858,71.5586, 72.1214,72.6777,73.2256,73.764,74.8198, 75.844,76.8369,77.7968,78.3103)
FOOTPRINT_POINT_LONGITUDE = (319.053,322.607,323.971,324.874, 325.947,326.892,327.321,327.729,328.113 ,328.474,328.818,329.144,329.453, 329.746,330.025,330.291,330.544,330.786 ,331.016,331.235,331.445,331.646, 331.837,332.021,332.196,332.364,332.525 ,332.679,332.827,332.968,333.104, 333.234,333.358,333.477,333.591,333.7, 333.804,333.904,333.999,334.09,334.176, 334.258,334.336,334.411,334.481,334.547 ,334.609,334.638,334.667,333.811, 332.583,331.164,329.767,329.754,329.732 ,329.703,329.667,329.622,329.57,329.511 ,329.444,329.37,329.288,329.199,329.102 ,328.998,328.885,328.765,328.637,328.5, 328.355,328.201,328.038,327.866,327.685 ,327.493,327.29,327.077,326.853,326.616 ,326.367,326.105,325.828,325.538, 325.231,324.907,324.567,324.208,323.83, 323.43,323.007,322.562,322.088,321.587, 321.058,319.896,318.581,317.086,315.374 ,319.053)
ORBIT_NUMBER = 1608
ORBITAL_ECCENTRICITY = 0.566
ORBITAL_INCLINATION = 86.61
ORBITAL_SEMIMAJOR_AXIS = 8535.15
PERIAPSIS_ALTITUDE = 327.2
PERIAPSIS_ARGUMENT_ANGLE = 77.1
PERIAPSIS_TIME = 2005-04-18T00:31:28.000Z
SPACECRAFT_ORIENTATION = (0.0,1.0,0.0)
^MEX_ORIENTATION_DESC = "MEX_ORIENTATION_DESC.TXT"
SPACECRAFT_POINTING_MODE = ACROSSTRACK
^MEX_POINTING_DESC = "MEX_POINTING_DESC.TXT"
RIGHT_ASCENSION = -1e+32
DECLINATION = -1e+32
OFFSET_ANGLE = -0.72
SPACECRAFT_SOLAR_DISTANCE = 2.14736e+08
TARGET_NAME = MARS
/* CAMERA DATA ELEMENTS */
DETECTOR_TEMPERATURE = 18.7783
FOCAL_PLANE_TEMPERATURE = 8.7872
INST_CMPRS_NAME = "DISCRETE COSINE TRANSFORMATION (DCT)"
INST_CMPRS_RATIO = 27.2837
INST_CMPRS_QUALITY = 0
INST_CMPRS_QUANTZ_TBL_ID = 0
INSTRUMENT_TEMPERATURE = 11.234
LENS_TEMPERATURE = 8.9911
MACROPIXEL_SIZE = 4
MISSING_FRAMES = 0
PIXEL_SUBSAMPLING_FLAG = N
SIGNAL_CHAIN_ID = 2
/* RADIOMETRIC DATA ELEMENTS */
BANDWIDTH = 48.0
CENTER_FILTER_WAVELENGTH = 748.0
RADIANCE_OFFSET = 0.0188589
RADIANCE_SCALING_FACTOR = 0.00542347
REFLECTANCE_SCALING_FACTOR = 0.000570706
MEX:REFLECTANCE_OFFSET = 0.0019845
/* IMAGE OBJECT DEFINITIONS */
OBJECT = IMAGE
  INTERCHANGE_FORMAT = BINARY
  LINES = 43967
  LINE_SAMPLES = 8685
  SAMPLE_TYPE = UNSIGNED_INTEGER
  SAMPLE_BITS = 8
  BANDS = 1
  BAND_STORAGE_TYPE = BAND_SEQUENTIAL
  MAXIMUM = 242
  MEAN = 98.0918
  MINIMUM = 3
  STANDARD_DEVIATION = 54.7278
END_OBJECT = IMAGE
/* MAP OBJECT DEFINITIONS */
OBJECT = IMAGE_MAP_PROJECTION
  ^DATA_SET_MAP_PROJECTION_CATALOG= "DSMAP.CAT"
  A_AXIS_RADIUS = 3396.0
  B_AXIS_RADIUS = 3396.0
  C_AXIS_RADIUS = 3396.0
  CENTER_LATITUDE = 0.0
  CENTER_LONGITUDE = 329.0
  COORDINATE_SYSTEM_NAME = PLANETOGRAPHIC
  COORDINATE_SYSTEM_TYPE = "BODY-FIXED ROTATING"
  EASTERNMOST_LONGITUDE = 334.667
  FIRST_STANDARD_PARALLEL = "N/A"
  LINE_FIRST_PIXEL = 1
  LINE_LAST_PIXEL = 43967
  LINE_PROJECTION_OFFSET = 92943.625
  MAP_PROJECTION_ROTATION = 0.0
  MAP_PROJECTION_TYPE = SINUSOIDAL
  MAP_RESOLUTION = 1185.42760773333
  MAP_SCALE = 0.05
  MAXIMUM_LATITUDE = 78.3103
  MINIMUM_LATITUDE = 41.2558
  POSITIVE_LONGITUDE_DIRECTION = EAST
  REFERENCE_LATITUDE = "N/A"
  REFERENCE_LONGITUDE = "N/A"
  SAMPLE_FIRST_PIXEL = 1
  SAMPLE_LAST_PIXEL = 8685
  SAMPLE_PROJECTION_OFFSET = 3382.375
  SECOND_STANDARD_PARALLEL = "N/A"
  WESTERNMOST_LONGITUDE = 315.374
END_OBJECT = IMAGE_MAP_PROJECTION
/* The JPEG2000 image data file associated with this label. */
OBJECT = COMPRESSED_FILE
  FILE_NAME = "H1608_0000_RE3.JP2"
  RECORD_TYPE = UNDEFINED
  FILE_RECORDS = UNK
  ENCODING_TYPE = "JP2"
  INTERCHANGE_FORMAT = BINARY
  UNCOMPRESSED_FILE_NAME = "H1608_0000_RE3.IMG"
  REQUIRED_STORAGE_BYTES = "381888135"
  ^DESCRIPTION = "JP2INFO.TXT"
END_OBJECT = COMPRESSED_FILE
END
