PDS_VERSION_ID = PDS3
/* FILE DATA ELEMENTS */
RECORD_TYPE = STREAM
/* POINTERS TO DATA OBJECTS */
^COMPRESSED_FILE = "H1609_0000_IR3.JP2"
/* IDENTIFICATION DATA ELEMENTS */
DATA_SET_ID = "MEX-M-HRSC-5-REFDR-MAPPROJECTED-V3.0"
DATA_SET_NAME = "MARS EXPRESS HRSC MAP PROJECTED REFDR V3.0"
DETECTOR_ID = MEX_HRSC_IR
EVENT_TYPE = "MARS-REGIONAL-MAPPING-Te-Pf-Eo"
INSTRUMENT_HOST_ID = MEX
INSTRUMENT_HOST_NAME = "MARS EXPRESS"
INSTRUMENT_ID = HRSC
INSTRUMENT_NAME = "HIGH RESOLUTION STEREO CAMERA"
MISSION_NAME = "MARS EXPRESS"
MISSION_PHASE_NAME = MR_Phase_6
PROCESSING_LEVEL_ID = 3
PRODUCT_CREATION_TIME = 2016-03-09T06:48:11.000Z
PRODUCT_ID = "H1609_0000_IR3.JP2"
RELEASE_ID = 0021
REVISION_ID = 0000
/* QUALITY DATA ELEMENTS */
DATA_QUALITY_ID = 1
DATA_QUALITY_DESC = "Data calculated based on original SPICE kernels"
/* TIME DATA ELEMENTS */
SPACECRAFT_CLOCK_START_COUNT = "1/0061888817.57286"
SPACECRAFT_CLOCK_STOP_COUNT = "1/0061889301.49503"
START_TIME = 2005-04-18T07:21:46.904Z
STOP_TIME = 2005-04-18T07:28:07.391Z
/* ORBITAL DATA ELEMENTS */
ASCENDING_NODE_LONGITUDE = 194.74
MAXIMUM_RESOLUTION = 81.2
FOOTPRINT_POINT_LATITUDE = (77.2804,77.4446,77.5879,77.1521, 76.5374,76.2232,75.91,75.4323,75.1128, 74.787,74.2958,73.9645,73.6298,73.294, 72.8006,72.4579,72.1114,71.762,71.2327, 70.6966,70.1535,69.6043,69.0468,68.6724 ,68.2946,67.9125,67.5277,67.1393, 66.7478,66.3531,65.9543,65.5523,65.1465 ,64.7371,64.324,63.9072,63.4871,63.0624 ,62.6346,62.2026,61.7663,61.3259, 60.8812,60.4327,59.98,59.5225,59.0608, 58.6782,58.6517,58.6249,58.5915,58.5497 ,58.4962,58.9552,59.4101,59.8607, 60.3071,60.7492,61.1876,61.6209,62.0505 ,62.476,62.8976,63.316,63.7301,64.1402, 64.5468,64.9497,65.3485,65.7446,66.137, 66.5256,66.9109,67.2918,67.6699,68.0448 ,68.417,68.7844,69.3306,69.69,70.0472, 70.401,70.751,71.0986,71.4424,71.9528, 72.4562,72.7724,73.1002,73.4269,73.749, 74.0702,74.3863,74.7015,75.011,75.3199, 75.6233,76.3719,76.9574,77.2804)
FOOTPRINT_POINT_LONGITUDE = (216.306,218.506,220.693,222.45,223.358 ,223.79,224.199,224.787,225.158,225.519 ,226.034,226.363,226.681,226.985, 227.411,227.691,227.963,228.226,228.605 ,228.967,229.313,229.642,229.958,230.16 ,230.357,230.549,230.735,230.916, 231.092,231.263,231.431,231.593,231.752 ,231.906,232.057,232.203,232.346, 232.486,232.622,232.755,232.885,233.012 ,233.136,233.257,233.375,233.491, 233.604,232.853,231.792,230.936,230.018 ,229.038,227.919,227.811,227.7,227.585, 227.464,227.34,227.211,227.078,226.941, 226.799,226.652,226.499,226.342,226.18, 226.012,225.839,225.661,225.475,225.284 ,225.088,224.883,224.674,224.457, 224.232,224.001,223.762,223.389,223.129 ,222.862,222.584,222.298,222.003, 221.697,221.217,220.713,220.378,220.016 ,219.641,219.252,218.845,218.427, 217.988,217.541,217.074,216.588,215.285 ,214.14,216.306)
ORBIT_NUMBER = 1609
ORBITAL_ECCENTRICITY = 0.566
ORBITAL_INCLINATION = 86.61
ORBITAL_SEMIMAJOR_AXIS = 8537.9
PERIAPSIS_ALTITUDE = 326.51
PERIAPSIS_ARGUMENT_ANGLE = 76.92
PERIAPSIS_TIME = 2005-04-18T07:14:46.000Z
SPACECRAFT_ORIENTATION = (0.0,1.0,0.0)
^MEX_ORIENTATION_DESC = "MEX_ORIENTATION_DESC.TXT"
SPACECRAFT_POINTING_MODE = ACROSSTRACK
^MEX_POINTING_DESC = "MEX_POINTING_DESC.TXT"
RIGHT_ASCENSION = -1e+32
DECLINATION = -1e+32
OFFSET_ANGLE = -1.47
SPACECRAFT_SOLAR_DISTANCE = 2.14691e+08
TARGET_NAME = MARS
/* CAMERA DATA ELEMENTS */
DETECTOR_TEMPERATURE = 17.5549
FOCAL_PLANE_TEMPERATURE = 8.1755
INST_CMPRS_NAME = "DISCRETE COSINE TRANSFORMATION (DCT)"
INST_CMPRS_RATIO = 7.68678
INST_CMPRS_QUALITY = 0
INST_CMPRS_QUANTZ_TBL_ID = 0
INSTRUMENT_TEMPERATURE = 11.234
LENS_TEMPERATURE = 8.3794
MACROPIXEL_SIZE = 4
MISSING_FRAMES = 16
PIXEL_SUBSAMPLING_FLAG = N
SIGNAL_CHAIN_ID = 2
/* RADIOMETRIC DATA ELEMENTS */
BANDWIDTH = 81.0
CENTER_FILTER_WAVELENGTH = 955.5
RADIANCE_OFFSET = 0.0
RADIANCE_SCALING_FACTOR = 0.00351198
REFLECTANCE_SCALING_FACTOR = 0.000349224
MEX:REFLECTANCE_OFFSET = 0.0
/* IMAGE OBJECT DEFINITIONS */
OBJECT = IMAGE
  INTERCHANGE_FORMAT = BINARY
  LINES = 22953
  LINE_SAMPLES = 7278
  SAMPLE_TYPE = UNSIGNED_INTEGER
  SAMPLE_BITS = 8
  BANDS = 1
  BAND_STORAGE_TYPE = BAND_SEQUENTIAL
  MAXIMUM = 238
  MEAN = 88.6724
  MINIMUM = 0
  STANDARD_DEVIATION = 56.5844
END_OBJECT = IMAGE
/* MAP OBJECT DEFINITIONS */
OBJECT = IMAGE_MAP_PROJECTION
  ^DATA_SET_MAP_PROJECTION_CATALOG= "DSMAP.CAT"
  A_AXIS_RADIUS = 3396.0
  B_AXIS_RADIUS = 3396.0
  C_AXIS_RADIUS = 3396.0
  CENTER_LATITUDE = 0.0
  CENTER_LONGITUDE = 227.0
  COORDINATE_SYSTEM_NAME = PLANETOGRAPHIC
  COORDINATE_SYSTEM_TYPE = "BODY-FIXED ROTATING"
  EASTERNMOST_LONGITUDE = 233.604
  FIRST_STANDARD_PARALLEL = "N/A"
  LINE_FIRST_PIXEL = 1
  LINE_LAST_PIXEL = 22953
  LINE_PROJECTION_OFFSET = 92234.875
  MAP_PROJECTION_ROTATION = 0.0
  MAP_PROJECTION_TYPE = SINUSOIDAL
  MAP_RESOLUTION = 1185.42760773333
  MAP_SCALE = 0.05
  MAXIMUM_LATITUDE = 77.5879
  MINIMUM_LATITUDE = 58.4962
  POSITIVE_LONGITUDE_DIRECTION = EAST
  REFERENCE_LATITUDE = "N/A"
  REFERENCE_LONGITUDE = "N/A"
  SAMPLE_FIRST_PIXEL = 1
  SAMPLE_LAST_PIXEL = 7278
  SAMPLE_PROJECTION_OFFSET = 3362.375
  SECOND_STANDARD_PARALLEL = "N/A"
  WESTERNMOST_LONGITUDE = 214.14
END_OBJECT = IMAGE_MAP_PROJECTION
/* The JPEG2000 image data file associated with this label. */
OBJECT = COMPRESSED_FILE
  FILE_NAME = "H1609_0000_IR3.JP2"
  RECORD_TYPE = UNDEFINED
  FILE_RECORDS = UNK
  ENCODING_TYPE = "JP2"
  INTERCHANGE_FORMAT = BINARY
  UNCOMPRESSED_FILE_NAME = "H1609_0000_IR3.IMG"
  REQUIRED_STORAGE_BYTES = "167081046"
  ^DESCRIPTION = "JP2INFO.TXT"
END_OBJECT = COMPRESSED_FILE
END
