PDS_VERSION_ID = PDS3
/* FILE DATA ELEMENTS */
RECORD_TYPE = STREAM
/* POINTERS TO DATA OBJECTS */
^COMPRESSED_FILE = "H1609_0000_RE3.JP2"
/* IDENTIFICATION DATA ELEMENTS */
DATA_SET_ID = "MEX-M-HRSC-5-REFDR-MAPPROJECTED-V3.0"
DATA_SET_NAME = "MARS EXPRESS HRSC MAP PROJECTED REFDR V3.0"
DETECTOR_ID = MEX_HRSC_RED
EVENT_TYPE = "MARS-REGIONAL-MAPPING-Te-Pf-Eo"
INSTRUMENT_HOST_ID = MEX
INSTRUMENT_HOST_NAME = "MARS EXPRESS"
INSTRUMENT_ID = HRSC
INSTRUMENT_NAME = "HIGH RESOLUTION STEREO CAMERA"
MISSION_NAME = "MARS EXPRESS"
MISSION_PHASE_NAME = MR_Phase_6
PROCESSING_LEVEL_ID = 3
PRODUCT_CREATION_TIME = 2016-03-09T06:48:11.000Z
PRODUCT_ID = "H1609_0000_RE3.JP2"
RELEASE_ID = 0021
REVISION_ID = 0000
/* QUALITY DATA ELEMENTS */
DATA_QUALITY_ID = 1
DATA_QUALITY_DESC = "Data calculated based on original SPICE kernels"
/* TIME DATA ELEMENTS */
SPACECRAFT_CLOCK_START_COUNT = "1/0061888817.57286"
SPACECRAFT_CLOCK_STOP_COUNT = "1/0061889301.49503"
START_TIME = 2005-04-18T07:20:32.342Z
STOP_TIME = 2005-04-18T07:25:44.489Z
/* ORBITAL DATA ELEMENTS */
ASCENDING_NODE_LONGITUDE = 194.74
MAXIMUM_RESOLUTION = 73.2
FOOTPRINT_POINT_LATITUDE = (77.3492,77.5706,77.7708,77.9514, 77.3759,76.6121,76.3042,75.9888,75.673, 75.3569,75.0339,74.7101,74.2202,73.8892 ,73.5571,73.2189,72.8801,72.5375, 72.1909,71.8444,71.4912,71.1376,70.5991 ,70.2383,69.8711,69.5032,69.1299, 68.7561,68.3752,67.9939,67.429,67.0375, 66.6434,66.2436,65.8421,65.4353,65.0247 ,64.4017,63.7698,63.3441,62.9126, 62.4766,62.0373,61.594,61.1443,60.6904, 60.2318,59.7685,59.3004,58.8274,58.7712 ,58.7174,58.6588,58.5946,58.5251, 58.3904,58.8598,59.3245,59.7843,60.2391 ,60.6894,61.1354,61.5753,62.011,62.4433 ,62.8712,63.2928,63.9188,64.5356,65.143 ,65.7423,66.1372,66.5271,67.1054, 67.4722,67.8478,68.2233,68.5927,68.961, 69.3231,69.6852,70.0403,70.3958,70.918, 71.2656,71.7749,72.1143,72.4465,72.9437 ,73.2682,73.5925,73.9131,74.2286,74.543 ,74.8539,75.1611,75.621,76.2144,77.086, 77.3492)
FOOTPRINT_POINT_LONGITUDE = (215.214,217.109,219.008,220.911, 221.676,222.839,223.268,223.686,224.085 ,224.466,224.838,225.194,225.702, 226.028,226.34,226.644,226.936,227.218, 227.492,227.755,228.012,228.259,228.616 ,228.844,229.067,229.281,229.491, 229.693,229.89,230.08,230.349,230.528, 230.7,230.869,231.032,231.192,231.347, 231.571,231.787,231.926,232.062,232.194 ,232.322,232.447,232.57,232.689,232.805 ,232.918,233.028,233.136,232.5,231.813, 231.123,230.426,229.725,228.471,228.355 ,228.235,228.112,227.984,227.852, 227.716,227.576,227.432,227.283,227.129 ,226.971,226.725,226.466,226.196, 225.914,225.718,225.517,225.203,224.995 ,224.771,224.539,224.302,224.055, 223.802,223.54,223.271,222.992,222.558, 222.255,221.783,221.454,221.116,220.583 ,220.216,219.833,219.437,219.028,218.6, 218.16,217.705,216.984,215.963,214.273, 215.214)
ORBIT_NUMBER = 1609
ORBITAL_ECCENTRICITY = 0.566
ORBITAL_INCLINATION = 86.61
ORBITAL_SEMIMAJOR_AXIS = 8537.9
PERIAPSIS_ALTITUDE = 326.51
PERIAPSIS_ARGUMENT_ANGLE = 76.92
PERIAPSIS_TIME = 2005-04-18T07:14:46.000Z
SPACECRAFT_ORIENTATION = (0.0,1.0,0.0)
^MEX_ORIENTATION_DESC = "MEX_ORIENTATION_DESC.TXT"
SPACECRAFT_POINTING_MODE = ACROSSTRACK
^MEX_POINTING_DESC = "MEX_POINTING_DESC.TXT"
RIGHT_ASCENSION = -1e+32
DECLINATION = -1e+32
OFFSET_ANGLE = -1.47
SPACECRAFT_SOLAR_DISTANCE = 2.14691e+08
TARGET_NAME = MARS
/* CAMERA DATA ELEMENTS */
DETECTOR_TEMPERATURE = 18.5744
FOCAL_PLANE_TEMPERATURE = 8.1755
INST_CMPRS_NAME = "DISCRETE COSINE TRANSFORMATION (DCT)"
INST_CMPRS_RATIO = 29.0624
INST_CMPRS_QUALITY = 0
INST_CMPRS_QUANTZ_TBL_ID = 0
INSTRUMENT_TEMPERATURE = 11.234
LENS_TEMPERATURE = 8.3794
MACROPIXEL_SIZE = 4
MISSING_FRAMES = 16
PIXEL_SUBSAMPLING_FLAG = N
SIGNAL_CHAIN_ID = 2
/* RADIOMETRIC DATA ELEMENTS */
BANDWIDTH = 48.0
CENTER_FILTER_WAVELENGTH = 748.0
RADIANCE_OFFSET = 0.0338818
RADIANCE_SCALING_FACTOR = 0.00375358
REFLECTANCE_SCALING_FACTOR = 0.000394817
MEX:REFLECTANCE_OFFSET = 0.00356383
/* IMAGE OBJECT DEFINITIONS */
OBJECT = IMAGE
  INTERCHANGE_FORMAT = BINARY
  LINES = 22953
  LINE_SAMPLES = 7278
  SAMPLE_TYPE = UNSIGNED_INTEGER
  SAMPLE_BITS = 8
  BANDS = 1
  BAND_STORAGE_TYPE = BAND_SEQUENTIAL
  MAXIMUM = 236
  MEAN = 98.9715
  MINIMUM = 7
  STANDARD_DEVIATION = 59.2479
END_OBJECT = IMAGE
/* MAP OBJECT DEFINITIONS */
OBJECT = IMAGE_MAP_PROJECTION
  ^DATA_SET_MAP_PROJECTION_CATALOG= "DSMAP.CAT"
  A_AXIS_RADIUS = 3396.0
  B_AXIS_RADIUS = 3396.0
  C_AXIS_RADIUS = 3396.0
  CENTER_LATITUDE = 0.0
  CENTER_LONGITUDE = 227.0
  COORDINATE_SYSTEM_NAME = PLANETOGRAPHIC
  COORDINATE_SYSTEM_TYPE = "BODY-FIXED ROTATING"
  EASTERNMOST_LONGITUDE = 233.136
  FIRST_STANDARD_PARALLEL = "N/A"
  LINE_FIRST_PIXEL = 1
  LINE_LAST_PIXEL = 22953
  LINE_PROJECTION_OFFSET = 92234.875
  MAP_PROJECTION_ROTATION = 0.0
  MAP_PROJECTION_TYPE = SINUSOIDAL
  MAP_RESOLUTION = 1185.42760773333
  MAP_SCALE = 0.05
  MAXIMUM_LATITUDE = 77.95140000000001
  MINIMUM_LATITUDE = 58.3904
  POSITIVE_LONGITUDE_DIRECTION = EAST
  REFERENCE_LATITUDE = "N/A"
  REFERENCE_LONGITUDE = "N/A"
  SAMPLE_FIRST_PIXEL = 1
  SAMPLE_LAST_PIXEL = 7278
  SAMPLE_PROJECTION_OFFSET = 3362.375
  SECOND_STANDARD_PARALLEL = "N/A"
  WESTERNMOST_LONGITUDE = 214.273
END_OBJECT = IMAGE_MAP_PROJECTION
/* The JPEG2000 image data file associated with this label. */
OBJECT = COMPRESSED_FILE
  FILE_NAME = "H1609_0000_RE3.JP2"
  RECORD_TYPE = UNDEFINED
  FILE_RECORDS = UNK
  ENCODING_TYPE = "JP2"
  INTERCHANGE_FORMAT = BINARY
  UNCOMPRESSED_FILE_NAME = "H1609_0000_RE3.IMG"
  REQUIRED_STORAGE_BYTES = "167081046"
  ^DESCRIPTION = "JP2INFO.TXT"
END_OBJECT = COMPRESSED_FILE
END
