PDS_VERSION_ID = PDS3
/* FILE DATA ELEMENTS */
RECORD_TYPE = STREAM
/* POINTERS TO DATA OBJECTS */
^COMPRESSED_FILE = "H1609_0006_SR3.JP2"
/* IDENTIFICATION DATA ELEMENTS */
DATA_SET_ID = "MEX-M-HRSC-5-REFDR-MAPPROJECTED-V3.0"
DATA_SET_NAME = "MARS EXPRESS HRSC MAP PROJECTED REFDR V3.0"
DETECTOR_ID = MEX_HRSC_SRC
EVENT_TYPE = "MARS-REGIONAL-MAPPING-Te-Pf-Eo"
INSTRUMENT_HOST_ID = MEX
INSTRUMENT_HOST_NAME = "MARS EXPRESS"
INSTRUMENT_ID = HRSC
INSTRUMENT_NAME = "HIGH RESOLUTION STEREO CAMERA"
MISSION_NAME = "MARS EXPRESS"
MISSION_PHASE_NAME = MR_Phase_6
PROCESSING_LEVEL_ID = 3
PRODUCT_CREATION_TIME = 2016-03-09T06:48:11.000Z
PRODUCT_ID = "H1609_0006_SR3.JP2"
RELEASE_ID = 0021
REVISION_ID = 0000
/* QUALITY DATA ELEMENTS */
DATA_QUALITY_ID = 1
DATA_QUALITY_DESC = "Data calculated based on original SPICE kernels"
/* TIME DATA ELEMENTS */
SPACECRAFT_CLOCK_START_COUNT = "1/0061888817.57286"
SPACECRAFT_CLOCK_STOP_COUNT = "1/0061889301.49503"
IMAGE_TIME = 2005-04-18T07:23:53.217Z
START_TIME = 2005-04-18T07:23:53.214Z
STOP_TIME = 2005-04-18T07:23:53.221Z
/* ORBITAL DATA ELEMENTS */
ASCENDING_NODE_LONGITUDE = 194.74
MAXIMUM_RESOLUTION = 5.377
FOOTPRINT_POINT_LATITUDE = (68.1767,68.1735,68.1702,68.1674, 68.1629,68.158,68.1548,68.1497,68.1462, 68.1432,68.1388,68.1351,68.132,68.1286, 68.1251,68.1225,68.1193,68.1169,68.1135 ,68.1095,68.106,68.1021,68.0995,68.096, 68.0937,68.0899,68.0877,68.087,68.0862, 68.0855,68.0848,68.084,68.0833,68.0827, 68.082,68.0812,68.0805,68.0797,68.079, 68.0782,68.0775,68.0767,68.076,68.0752, 68.0745,68.0737,68.073,68.0722,68.0715, 68.0707,68.07,68.0725,68.0748,68.0772, 68.0806,68.083,68.0857,68.0901,68.0948, 68.098,68.102,68.1067,68.1113,68.1153, 68.1204,68.124,68.1286,68.132,68.1366, 68.1414,68.1445,68.1486,68.1521,68.1567 ,68.1608,68.1615,68.1623,68.163,68.1638 ,68.1645,68.1653,68.166,68.1668,68.1675 ,68.1683,68.169,68.1697,68.1705,68.1712 ,68.172,68.1727,68.1735,68.1742,68.1749 ,68.1757,68.1764,68.1773,68.1781, 68.1788,68.1767)
FOOTPRINT_POINT_LONGITUDE = (227.46,227.462,227.464,227.466,227.468 ,227.471,227.472,227.475,227.477, 227.479,227.481,227.483,227.485,227.487 ,227.489,227.49,227.492,227.493,227.495 ,227.497,227.499,227.501,227.503, 227.505,227.506,227.508,227.494,227.484 ,227.474,227.464,227.455,227.445, 227.435,227.428,227.418,227.408,227.399 ,227.389,227.379,227.369,227.36,227.35, 227.34,227.33,227.321,227.311,227.301, 227.291,227.282,227.272,227.262,227.26, 227.258,227.257,227.255,227.254,227.252 ,227.25,227.247,227.245,227.243,227.241 ,227.238,227.236,227.233,227.231, 227.228,227.226,227.224,227.221,227.219 ,227.217,227.215,227.213,227.221, 227.231,227.24,227.25,227.26,227.27, 227.28,227.289,227.299,227.309,227.319, 227.329,227.338,227.348,227.358,227.368 ,227.377,227.387,227.397,227.407, 227.417,227.426,227.438,227.448,227.458 ,227.46)
ORBIT_NUMBER = 1609
ORBITAL_ECCENTRICITY = 0.566
ORBITAL_INCLINATION = 86.61
ORBITAL_SEMIMAJOR_AXIS = 8537.9
PERIAPSIS_ALTITUDE = 326.51
PERIAPSIS_ARGUMENT_ANGLE = 76.92
PERIAPSIS_TIME = 2005-04-18T07:14:46.000Z
SPACECRAFT_ORIENTATION = (0.0,1.0,0.0)
^MEX_ORIENTATION_DESC = "MEX_ORIENTATION_DESC.TXT"
SPACECRAFT_POINTING_MODE = ACROSSTRACK
^MEX_POINTING_DESC = "MEX_POINTING_DESC.TXT"
RIGHT_ASCENSION = -1e+32
DECLINATION = -1e+32
OFFSET_ANGLE = -1.47
SPACECRAFT_SOLAR_DISTANCE = 2.14691e+08
TARGET_NAME = MARS
/* CAMERA DATA ELEMENTS */
BUFFER_MODE_ID = BUFFER_8
EXPOSURE_DURATION = 7.056
INST_CMPRS_NAME = NONE
INST_CMPRS_RATIO = 1.0
INST_CMPRS_QUALITY = -2147483648
INST_CMPRS_QUANTZ_TBL_ID = -2147483648
INSTRUMENT_TEMPERATURE = 10.7175
MISSING_FRAMES = 0
START_BIT = 0
/* RADIOMETRIC DATA ELEMENTS */
BANDWIDTH = 250.0
CENTER_FILTER_WAVELENGTH = 600.0
RADIANCE_OFFSET = -9.99e+31
RADIANCE_SCALING_FACTOR = -9.99e+31
REFLECTANCE_SCALING_FACTOR = -9.99e+31
MEX:REFLECTANCE_OFFSET = -9.99e+31
/* IMAGE OBJECT DEFINITIONS */
OBJECT = IMAGE
  INTERCHANGE_FORMAT = BINARY
  LINES = 1373
  LINE_SAMPLES = 1401
  SAMPLE_TYPE = UNSIGNED_INTEGER
  SAMPLE_BITS = 8
  BANDS = 1
  BAND_STORAGE_TYPE = BAND_SEQUENTIAL
  MAXIMUM = 2346
  MEAN = 2074.05
  MINIMUM = 1749
  STANDARD_DEVIATION = 57.1733
END_OBJECT = IMAGE
/* MAP OBJECT DEFINITIONS */
OBJECT = IMAGE_MAP_PROJECTION
  ^DATA_SET_MAP_PROJECTION_CATALOG= "DSMAP.CAT"
  A_AXIS_RADIUS = 3396.19
  B_AXIS_RADIUS = 3396.19
  C_AXIS_RADIUS = 3396.19
  CENTER_LATITUDE = 0.0
  CENTER_LONGITUDE = 227.0
  COORDINATE_SYSTEM_NAME = PLANETOGRAPHIC
  COORDINATE_SYSTEM_TYPE = "BODY-FIXED ROTATING"
  EASTERNMOST_LONGITUDE = 227.508
  FIRST_STANDARD_PARALLEL = "N/A"
  LINE_FIRST_PIXEL = 1
  LINE_LAST_PIXEL = 1373
  LINE_PROJECTION_OFFSET = 806493.0
  MAP_PROJECTION_ROTATION = 0.0
  MAP_PROJECTION_TYPE = SINUSOIDAL
  MAP_RESOLUTION = 11854.9393024378
  MAP_SCALE = 0.005
  MAXIMUM_LATITUDE = 68.1788
  MINIMUM_LATITUDE = 68.06999999999999
  POSITIVE_LONGITUDE_DIRECTION = EAST
  REFERENCE_LATITUDE = "N/A"
  REFERENCE_LONGITUDE = "N/A"
  SAMPLE_FIRST_PIXEL = 1
  SAMPLE_LAST_PIXEL = 1401
  SAMPLE_PROJECTION_OFFSET = -266.0
  SECOND_STANDARD_PARALLEL = "N/A"
  WESTERNMOST_LONGITUDE = 227.213
END_OBJECT = IMAGE_MAP_PROJECTION
/* The JPEG2000 image data file associated with this label. */
OBJECT = COMPRESSED_FILE
  FILE_NAME = "H1609_0006_SR3.JP2"
  RECORD_TYPE = UNDEFINED
  FILE_RECORDS = UNK
  ENCODING_TYPE = "JP2"
  INTERCHANGE_FORMAT = BINARY
  UNCOMPRESSED_FILE_NAME = "H1609_0006_SR3.IMG"
  REQUIRED_STORAGE_BYTES = "1943187"
  ^DESCRIPTION = "JP2INFO.TXT"
END_OBJECT = COMPRESSED_FILE
END
