PDS_VERSION_ID = PDS3
/* FILE DATA ELEMENTS */
RECORD_TYPE = STREAM
/* POINTERS TO DATA OBJECTS */
^COMPRESSED_FILE = "H1612_0006_SR3.JP2"
/* IDENTIFICATION DATA ELEMENTS */
DATA_SET_ID = "MEX-M-HRSC-5-REFDR-MAPPROJECTED-V3.0"
DATA_SET_NAME = "MARS EXPRESS HRSC MAP PROJECTED REFDR V3.0"
DETECTOR_ID = MEX_HRSC_SRC
EVENT_TYPE = "MARS-REGIONAL-MAPPING-Vo-Te-Pf"
INSTRUMENT_HOST_ID = MEX
INSTRUMENT_HOST_NAME = "MARS EXPRESS"
INSTRUMENT_ID = HRSC
INSTRUMENT_NAME = "HIGH RESOLUTION STEREO CAMERA"
MISSION_NAME = "MARS EXPRESS"
MISSION_PHASE_NAME = MR_Phase_6
PROCESSING_LEVEL_ID = 3
PRODUCT_CREATION_TIME = 2016-03-09T06:48:11.000Z
PRODUCT_ID = "H1612_0006_SR3.JP2"
RELEASE_ID = 0021
REVISION_ID = 0000
/* QUALITY DATA ELEMENTS */
DATA_QUALITY_ID = 1
DATA_QUALITY_DESC = "Data calculated based on original SPICE kernels"
/* TIME DATA ELEMENTS */
SPACECRAFT_CLOCK_START_COUNT = "1/0061961545.57328"
SPACECRAFT_CLOCK_STOP_COUNT = "1/0061963445.24320"
IMAGE_TIME = 2005-04-19T03:35:14.347Z
START_TIME = 2005-04-19T03:35:14.343Z
STOP_TIME = 2005-04-19T03:35:14.350Z
/* ORBITAL DATA ELEMENTS */
ASCENDING_NODE_LONGITUDE = 194.68
MAXIMUM_RESOLUTION = 5.94
FOOTPRINT_POINT_LATITUDE = (64.7151,64.7111,64.706,64.7025,64.6993 ,64.6958,64.6915,64.6884,64.685,64.6797 ,64.6751,64.6718,64.6679,64.6635, 64.6598,64.6552,64.6486,64.6443,64.6399 ,64.6367,64.6328,64.6271,64.6228, 64.6183,64.6151,64.6146,64.6142,64.6137 ,64.6132,64.6128,64.6123,64.6118, 64.6113,64.6109,64.6104,64.6099,64.6095 ,64.609,64.6085,64.608,64.6076,64.6071, 64.6066,64.6061,64.6056,64.6052,64.6048 ,64.6043,64.6038,64.6034,64.6071, 64.6112,64.6173,64.6213,64.6251,64.6283 ,64.6314,64.6367,64.6434,64.6481, 64.6514,64.6552,64.6584,64.6622,64.6661 ,64.6693,64.6723,64.6766,64.6812, 64.6842,64.6882,64.6917,64.6945,64.6989 ,64.7041,64.7046,64.7051,64.7056,64.706 ,64.7065,64.707,64.7075,64.708,64.7084, 64.7089,64.7094,64.7099,64.7104,64.7108 ,64.7113,64.7118,64.7122,64.7127, 64.7132,64.7137,64.7141,64.7146,64.7151 ,64.7155,64.7151)
FOOTPRINT_POINT_LONGITUDE = (297.113,297.114,297.115,297.116, 297.117,297.118,297.119,297.12,297.121, 297.122,297.124,297.125,297.126,297.127 ,297.128,297.129,297.131,297.132, 297.133,297.134,297.135,297.137,297.138 ,297.139,297.14,297.13,297.121,297.112, 297.102,297.093,297.084,297.074,297.065 ,297.056,297.046,297.037,297.028, 297.018,297.009,297.0,296.99,296.981, 296.972,296.962,296.953,296.944,296.937 ,296.927,296.918,296.909,296.902,296.9, 296.899,296.898,296.897,296.896,296.895 ,296.893,296.891,296.89,296.889,296.888 ,296.887,296.886,296.885,296.884, 296.883,296.882,296.881,296.88,296.879, 296.878,296.877,296.876,296.879,296.888 ,296.898,296.907,296.917,296.926, 296.935,296.945,296.954,296.964,296.973 ,296.982,296.992,297.001,297.01,297.02, 297.029,297.039,297.048,297.057,297.067 ,297.076,297.085,297.095,297.104, 297.113)
ORBIT_NUMBER = 1612
ORBITAL_ECCENTRICITY = 0.566
ORBITAL_INCLINATION = 86.6
ORBITAL_SEMIMAJOR_AXIS = 8537.58
PERIAPSIS_ALTITUDE = 327.28
PERIAPSIS_ARGUMENT_ANGLE = 76.41
PERIAPSIS_TIME = 2005-04-19T03:24:52.000Z
SPACECRAFT_ORIENTATION = (0.0,1.0,0.0)
^MEX_ORIENTATION_DESC = "MEX_ORIENTATION_DESC.TXT"
SPACECRAFT_POINTING_MODE = ACROSSTRACK
^MEX_POINTING_DESC = "MEX_POINTING_DESC.TXT"
RIGHT_ASCENSION = -1e+32
DECLINATION = -1e+32
OFFSET_ANGLE = -0.23
SPACECRAFT_SOLAR_DISTANCE = 2.14555e+08
TARGET_NAME = MARS
/* CAMERA DATA ELEMENTS */
BUFFER_MODE_ID = BUFFER_8
EXPOSURE_DURATION = 7.056
INST_CMPRS_NAME = NONE
INST_CMPRS_RATIO = 1.0
INST_CMPRS_QUALITY = -2147483648
INST_CMPRS_QUANTZ_TBL_ID = -2147483648
INSTRUMENT_TEMPERATURE = 11.2121
MISSING_FRAMES = 0
START_BIT = 0
/* RADIOMETRIC DATA ELEMENTS */
BANDWIDTH = 250.0
CENTER_FILTER_WAVELENGTH = 600.0
RADIANCE_OFFSET = -9.99e+31
RADIANCE_SCALING_FACTOR = -9.99e+31
REFLECTANCE_SCALING_FACTOR = -9.99e+31
MEX:REFLECTANCE_OFFSET = -9.99e+31
/* IMAGE OBJECT DEFINITIONS */
OBJECT = IMAGE
  INTERCHANGE_FORMAT = BINARY
  LINES = 1413
  LINE_SAMPLES = 1422
  SAMPLE_TYPE = UNSIGNED_INTEGER
  SAMPLE_BITS = 8
  BANDS = 1
  BAND_STORAGE_TYPE = BAND_SEQUENTIAL
  MAXIMUM = 3368
  MEAN = 3066.56
  MINIMUM = 2562
  STANDARD_DEVIATION = 67.3799
END_OBJECT = IMAGE
/* MAP OBJECT DEFINITIONS */
OBJECT = IMAGE_MAP_PROJECTION
  ^DATA_SET_MAP_PROJECTION_CATALOG= "DSMAP.CAT"
  A_AXIS_RADIUS = 3396.19
  B_AXIS_RADIUS = 3396.19
  C_AXIS_RADIUS = 3396.19
  CENTER_LATITUDE = 0.0
  CENTER_LONGITUDE = 297.0
  COORDINATE_SYSTEM_NAME = PLANETOGRAPHIC
  COORDINATE_SYSTEM_TYPE = "BODY-FIXED ROTATING"
  EASTERNMOST_LONGITUDE = 297.14
  FIRST_STANDARD_PARALLEL = "N/A"
  LINE_FIRST_PIXEL = 1
  LINE_LAST_PIXEL = 1413
  LINE_PROJECTION_OFFSET = 765740.0
  MAP_PROJECTION_ROTATION = 0.0
  MAP_PROJECTION_TYPE = SINUSOIDAL
  MAP_RESOLUTION = 11854.9393024378
  MAP_SCALE = 0.005
  MAXIMUM_LATITUDE = 64.71550000000001
  MINIMUM_LATITUDE = 64.60339999999999
  POSITIVE_LONGITUDE_DIRECTION = EAST
  REFERENCE_LATITUDE = "N/A"
  REFERENCE_LONGITUDE = "N/A"
  SAMPLE_FIRST_PIXEL = 1
  SAMPLE_LAST_PIXEL = 1422
  SAMPLE_PROJECTION_OFFSET = 758.0
  SECOND_STANDARD_PARALLEL = "N/A"
  WESTERNMOST_LONGITUDE = 296.876
END_OBJECT = IMAGE_MAP_PROJECTION
/* The JPEG2000 image data file associated with this label. */
OBJECT = COMPRESSED_FILE
  FILE_NAME = "H1612_0006_SR3.JP2"
  RECORD_TYPE = UNDEFINED
  FILE_RECORDS = UNK
  ENCODING_TYPE = "JP2"
  INTERCHANGE_FORMAT = BINARY
  UNCOMPRESSED_FILE_NAME = "H1612_0006_SR3.IMG"
  REQUIRED_STORAGE_BYTES = "2029194"
  ^DESCRIPTION = "JP2INFO.TXT"
END_OBJECT = COMPRESSED_FILE
END
