PDS_VERSION_ID = PDS3
/* FILE DATA ELEMENTS */
RECORD_TYPE = STREAM
/* POINTERS TO DATA OBJECTS */
^COMPRESSED_FILE = "H1616_0000_S13.JP2"
/* IDENTIFICATION DATA ELEMENTS */
DATA_SET_ID = "MEX-M-HRSC-5-REFDR-MAPPROJECTED-V3.0"
DATA_SET_NAME = "MARS EXPRESS HRSC MAP PROJECTED REFDR V3.0"
DETECTOR_ID = MEX_HRSC_S1
EVENT_TYPE = "MARS-REGIONAL-MAPPING-Vo-Te-Pf"
INSTRUMENT_HOST_ID = MEX
INSTRUMENT_HOST_NAME = "MARS EXPRESS"
INSTRUMENT_ID = HRSC
INSTRUMENT_NAME = "HIGH RESOLUTION STEREO CAMERA"
MISSION_NAME = "MARS EXPRESS"
MISSION_PHASE_NAME = MR_Phase_6
PROCESSING_LEVEL_ID = 3
PRODUCT_CREATION_TIME = 2016-03-09T06:48:11.000Z
PRODUCT_ID = "H1616_0000_S13.JP2"
RELEASE_ID = 0021
REVISION_ID = 0000
/* QUALITY DATA ELEMENTS */
DATA_QUALITY_ID = 1
DATA_QUALITY_DESC = "Data calculated based on original SPICE kernels"
/* TIME DATA ELEMENTS */
SPACECRAFT_CLOCK_START_COUNT = "1/0062058375.56186"
SPACECRAFT_CLOCK_STOP_COUNT = "1/0062059710.39121"
START_TIME = 2005-04-20T06:28:24.329Z
STOP_TIME = 2005-04-20T06:48:36.261Z
/* ORBITAL DATA ELEMENTS */
ASCENDING_NODE_LONGITUDE = 194.59
MAXIMUM_RESOLUTION = 54.3
FOOTPRINT_POINT_LATITUDE = (69.492,69.5931,69.6748,68.6607,67.4602 ,66.2276,64.962,63.6605,62.9961,62.3219 ,61.639,60.9461,60.2422,59.5289,58.804, 58.0694,57.3232,56.5669,55.7998,55.0209 ,54.2311,53.4291,52.6163,51.7898,50.952 ,50.0971,49.2346,48.3615,47.4743, 46.5737,45.66,44.7307,43.7877,42.831, 41.3728,39.8751,38.8829,37.9004,36.9475 ,36.0125,35.125,34.2633,33.4273,32.6196 ,31.8345,31.073,30.2983,30.3793,30.4457 ,30.5649,30.687,30.8325,30.9647,31.0472 ,31.7242,32.4273,33.1561,33.9121, 34.6973,35.5102,36.3523,37.2227,38.1274 ,39.062,40.0246,40.9844,41.9347,42.8743 ,43.8023,44.7168,45.6212,46.5133, 47.3963,48.2672,49.1229,49.9688,50.8043 ,51.6286,52.441,53.2424,54.0336,54.8126 ,55.5808,56.3385,57.0849,57.8207, 58.5461,59.262,59.967,60.6623,61.348, 62.0229,62.6887,63.3456,64.6315,65.8816 ,67.0982,68.2815,69.4328,69.492)
FOOTPRINT_POINT_LONGITUDE = (258.534,260.465,262.381,263.413, 263.946,264.434,264.884,265.3,265.497, 265.686,265.869,266.045,266.215,266.38, 266.539,266.693,266.843,266.988,267.129 ,267.266,267.399,267.529,267.656,267.78 ,267.901,268.019,268.135,268.251, 268.364,268.476,268.587,268.696,268.805 ,268.913,269.076,269.237,269.353, 269.463,269.57,269.67,269.776,269.88, 269.982,270.084,270.185,270.285,269.937 ,268.922,268.092,266.616,265.135, 263.362,261.759,260.77,260.855,260.938, 261.018,261.096,261.17,261.242,261.31, 261.374,261.432,261.486,261.532,261.567 ,261.593,261.61,261.62,261.623,261.617, 261.603,261.58,261.549,261.513,261.468, 261.413,261.351,261.28,261.202,261.115, 261.02,260.916,260.804,260.684,260.554, 260.416,260.268,260.112,259.945,259.767 ,259.581,259.385,259.176,258.725, 258.224,257.667,257.048,256.361, 258.534)
ORBIT_NUMBER = 1616
ORBITAL_ECCENTRICITY = 0.566
ORBITAL_INCLINATION = 86.59
ORBITAL_SEMIMAJOR_AXIS = 8539.27
PERIAPSIS_ALTITUDE = 326.59
PERIAPSIS_ARGUMENT_ANGLE = 75.67
PERIAPSIS_TIME = 2005-04-20T06:18:16.000Z
SPACECRAFT_ORIENTATION = (0.0,1.0,0.0)
^MEX_ORIENTATION_DESC = "MEX_ORIENTATION_DESC.TXT"
SPACECRAFT_POINTING_MODE = ACROSSTRACK
^MEX_POINTING_DESC = "MEX_POINTING_DESC.TXT"
RIGHT_ASCENSION = -1e+32
DECLINATION = -1e+32
OFFSET_ANGLE = -1.0
SPACECRAFT_SOLAR_DISTANCE = 2.14375e+08
TARGET_NAME = MARS
/* CAMERA DATA ELEMENTS */
DETECTOR_TEMPERATURE = 17.5549
FOCAL_PLANE_TEMPERATURE = 8.3794
INST_CMPRS_NAME = "DISCRETE COSINE TRANSFORMATION (DCT)"
INST_CMPRS_RATIO = 12.9197
INST_CMPRS_QUALITY = 0
INST_CMPRS_QUANTZ_TBL_ID = 0
INSTRUMENT_TEMPERATURE = 11.234
LENS_TEMPERATURE = 8.7872
MACROPIXEL_SIZE = 2
MISSING_FRAMES = 0
PIXEL_SUBSAMPLING_FLAG = N
SIGNAL_CHAIN_ID = 1
/* RADIOMETRIC DATA ELEMENTS */
BANDWIDTH = 180.0
CENTER_FILTER_WAVELENGTH = 677.0
RADIANCE_OFFSET = 1.14109
RADIANCE_SCALING_FACTOR = 0.0281545
REFLECTANCE_SCALING_FACTOR = 0.00067505
MEX:REFLECTANCE_OFFSET = 0.0273597
/* IMAGE OBJECT DEFINITIONS */
OBJECT = IMAGE
  INTERCHANGE_FORMAT = BINARY
  LINES = 46512
  LINE_SAMPLES = 7653
  SAMPLE_TYPE = UNSIGNED_INTEGER
  SAMPLE_BITS = 8
  BANDS = 1
  BAND_STORAGE_TYPE = BAND_SEQUENTIAL
  MAXIMUM = 368
  MEAN = 194.094
  MINIMUM = 46
  STANDARD_DEVIATION = 90.1473
END_OBJECT = IMAGE
/* MAP OBJECT DEFINITIONS */
OBJECT = IMAGE_MAP_PROJECTION
  ^DATA_SET_MAP_PROJECTION_CATALOG= "DSMAP.CAT"
  A_AXIS_RADIUS = 3396.0
  B_AXIS_RADIUS = 3396.0
  C_AXIS_RADIUS = 3396.0
  CENTER_LATITUDE = 0.0
  CENTER_LONGITUDE = 264.0
  COORDINATE_SYSTEM_NAME = PLANETOGRAPHIC
  COORDINATE_SYSTEM_TYPE = "BODY-FIXED ROTATING"
  EASTERNMOST_LONGITUDE = 270.285
  FIRST_STANDARD_PARALLEL = "N/A"
  LINE_FIRST_PIXEL = 1
  LINE_LAST_PIXEL = 46512
  LINE_PROJECTION_OFFSET = 82843.75
  MAP_PROJECTION_ROTATION = 0.0
  MAP_PROJECTION_TYPE = SINUSOIDAL
  MAP_RESOLUTION = 1185.42760773333
  MAP_SCALE = 0.05
  MAXIMUM_LATITUDE = 69.6748
  MINIMUM_LATITUDE = 30.2983
  POSITIVE_LONGITUDE_DIRECTION = EAST
  REFERENCE_LATITUDE = "N/A"
  REFERENCE_LONGITUDE = "N/A"
  SAMPLE_FIRST_PIXEL = 1
  SAMPLE_LAST_PIXEL = 7653
  SAMPLE_PROJECTION_OFFSET = 3029.75
  SECOND_STANDARD_PARALLEL = "N/A"
  WESTERNMOST_LONGITUDE = 256.361
END_OBJECT = IMAGE_MAP_PROJECTION
/* The JPEG2000 image data file associated with this label. */
OBJECT = COMPRESSED_FILE
  FILE_NAME = "H1616_0000_S13.JP2"
  RECORD_TYPE = UNDEFINED
  FILE_RECORDS = UNK
  ENCODING_TYPE = "JP2"
  INTERCHANGE_FORMAT = BINARY
  UNCOMPRESSED_FILE_NAME = "H1616_0000_S13.IMG"
  REQUIRED_STORAGE_BYTES = "355986948"
  ^DESCRIPTION = "JP2INFO.TXT"
END_OBJECT = COMPRESSED_FILE
END
