PDS_VERSION_ID = PDS3
/* FILE DATA ELEMENTS */
RECORD_TYPE = STREAM
/* POINTERS TO DATA OBJECTS */
^COMPRESSED_FILE = "H1618_0000_BL3.JP2"
/* IDENTIFICATION DATA ELEMENTS */
DATA_SET_ID = "MEX-M-HRSC-5-REFDR-MAPPROJECTED-V3.0"
DATA_SET_NAME = "MARS EXPRESS HRSC MAP PROJECTED REFDR V3.0"
DETECTOR_ID = MEX_HRSC_BLUE
EVENT_TYPE = "MARS-REGIONAL-MAPPING-Te-Pf-Eo"
INSTRUMENT_HOST_ID = MEX
INSTRUMENT_HOST_NAME = "MARS EXPRESS"
INSTRUMENT_ID = HRSC
INSTRUMENT_NAME = "HIGH RESOLUTION STEREO CAMERA"
MISSION_NAME = "MARS EXPRESS"
MISSION_PHASE_NAME = MR_Phase_6
PROCESSING_LEVEL_ID = 3
PRODUCT_CREATION_TIME = 2016-03-09T06:48:11.000Z
PRODUCT_ID = "H1618_0000_BL3.JP2"
RELEASE_ID = 0021
REVISION_ID = 0000
/* QUALITY DATA ELEMENTS */
DATA_QUALITY_ID = 1
DATA_QUALITY_DESC = "Data calculated based on original SPICE kernels"
/* TIME DATA ELEMENTS */
SPACECRAFT_CLOCK_START_COUNT = "1/0062106676.57956"
SPACECRAFT_CLOCK_STOP_COUNT = "1/0062107641.52199"
START_TIME = 2005-04-20T19:52:01.461Z
STOP_TIME = 2005-04-20T20:03:00.876Z
/* ORBITAL DATA ELEMENTS */
ASCENDING_NODE_LONGITUDE = 194.54
MAXIMUM_RESOLUTION = 77.5
FOOTPRINT_POINT_LATITUDE = (76.2199,76.4875,75.5303,74.549,73.5412 ,72.5056,71.9781,71.4444,70.904,70.3547 ,69.798,69.2341,68.6626,68.0833,67.4961 ,66.9007,66.2976,65.6856,65.0646, 64.4342,63.7942,63.1456,62.4873,61.8179 ,61.14,60.4499,59.75,59.0382,58.3157, 57.5818,56.8351,56.0758,55.3042,54.5195 ,53.7211,52.9093,52.0829,51.2418, 50.3854,49.5135,48.6256,47.7207,46.7988 ,45.8597,44.902,43.9255,42.9301,41.7978 ,41.7833,41.7669,41.7412,41.6896,42.157 ,43.152,44.1287,45.0872,46.0268,46.9494 ,47.8551,48.7444,49.6177,50.4751, 51.3176,52.1455,52.959,53.7581,54.5439, 55.3168,56.0768,56.8246,57.5598,58.2831 ,58.995,59.6953,60.386,61.0641,61.7335, 62.3915,63.0398,63.6793,64.3077,64.9273 ,65.5384,66.1406,66.7336,67.3187, 67.8957,68.4639,69.0243,69.5767,70.1214 ,70.6585,71.1887,71.711,72.2251,73.2342 ,74.2129,75.1651,75.8603,76.2199)
FOOTPRINT_POINT_LONGITUDE = (55.9449,59.831,60.9644,61.9717,62.8735 ,63.6849,64.0602,64.4168,64.7561, 65.0805,65.39,65.6853,65.9675,66.2372, 66.4954,66.7426,66.9792,67.2061,67.4239 ,67.6331,67.834,68.0267,68.2119,68.3902 ,68.5612,68.7262,68.8846,69.0371, 69.1839,69.325,69.461,69.5919,69.7177, 69.8389,69.9556,70.0677,70.1756,70.2791 ,70.3788,70.4745,70.5661,70.6542, 70.7385,70.819,70.8962,70.9697,71.0396, 70.5523,69.3137,68.537,67.6515,66.3405, 65.5244,65.5073,65.4841,65.453,65.414, 65.3684,65.3159,65.2564,65.19,65.1163, 65.0363,64.9482,64.8533,64.7509,64.6414 ,64.5246,64.3992,64.2668,64.1262,63.978 ,63.8217,63.6563,63.4814,63.2984, 63.1061,62.9035,62.6906,62.4676,62.233, 61.9875,61.7293,61.459,61.1762,60.8789, 60.5687,60.2408,59.898,59.5371,59.1582, 58.7608,58.3423,57.902,57.4401,56.4359, 55.3215,54.0764,53.0457,55.9449)
ORBIT_NUMBER = 1618
ORBITAL_ECCENTRICITY = 0.566
ORBITAL_INCLINATION = 86.61
ORBITAL_SEMIMAJOR_AXIS = 8536.3
PERIAPSIS_ALTITUDE = 325.72
PERIAPSIS_ARGUMENT_ANGLE = 75.33
PERIAPSIS_TIME = 2005-04-20T19:44:58.000Z
SPACECRAFT_ORIENTATION = (0.0,1.0,0.0)
^MEX_ORIENTATION_DESC = "MEX_ORIENTATION_DESC.TXT"
SPACECRAFT_POINTING_MODE = ACROSSTRACK
^MEX_POINTING_DESC = "MEX_POINTING_DESC.TXT"
RIGHT_ASCENSION = -1e+32
DECLINATION = -1e+32
OFFSET_ANGLE = -1.145
SPACECRAFT_SOLAR_DISTANCE = 2.14286e+08
TARGET_NAME = MARS
/* CAMERA DATA ELEMENTS */
DETECTOR_TEMPERATURE = 18.1666
FOCAL_PLANE_TEMPERATURE = 8.5833
INST_CMPRS_NAME = "DISCRETE COSINE TRANSFORMATION (DCT)"
INST_CMPRS_RATIO = 9.1806
INST_CMPRS_QUALITY = 0
INST_CMPRS_QUANTZ_TBL_ID = 0
INSTRUMENT_TEMPERATURE = 11.234
LENS_TEMPERATURE = 9.195
MACROPIXEL_SIZE = 4
MISSING_FRAMES = 0
PIXEL_SUBSAMPLING_FLAG = N
SIGNAL_CHAIN_ID = 2
/* RADIOMETRIC DATA ELEMENTS */
BANDWIDTH = 76.0
CENTER_FILTER_WAVELENGTH = 444.0
RADIANCE_OFFSET = 0.00563674
RADIANCE_SCALING_FACTOR = 0.00369151
REFLECTANCE_SCALING_FACTOR = 0.000174159
MEX:REFLECTANCE_OFFSET = 0.000265932
/* IMAGE OBJECT DEFINITIONS */
OBJECT = IMAGE
  INTERCHANGE_FORMAT = BINARY
  LINES = 20637
  LINE_SAMPLES = 4148
  SAMPLE_TYPE = UNSIGNED_INTEGER
  SAMPLE_BITS = 8
  BANDS = 1
  BAND_STORAGE_TYPE = BAND_SEQUENTIAL
  MAXIMUM = 338
  MEAN = 139.28
  MINIMUM = 0
  STANDARD_DEVIATION = 103.245
END_OBJECT = IMAGE
/* MAP OBJECT DEFINITIONS */
OBJECT = IMAGE_MAP_PROJECTION
  ^DATA_SET_MAP_PROJECTION_CATALOG= "DSMAP.CAT"
  A_AXIS_RADIUS = 3396.0
  B_AXIS_RADIUS = 3396.0
  C_AXIS_RADIUS = 3396.0
  CENTER_LATITUDE = 0.0
  CENTER_LONGITUDE = 66.0
  COORDINATE_SYSTEM_NAME = PLANETOGRAPHIC
  COORDINATE_SYSTEM_TYPE = "BODY-FIXED ROTATING"
  EASTERNMOST_LONGITUDE = 71.03959999999999
  FIRST_STANDARD_PARALLEL = "N/A"
  LINE_FIRST_PIXEL = 1
  LINE_LAST_PIXEL = 20637
  LINE_PROJECTION_OFFSET = 45333.125
  MAP_PROJECTION_ROTATION = 0.0
  MAP_PROJECTION_TYPE = SINUSOIDAL
  MAP_RESOLUTION = 592.713803866667
  MAP_SCALE = 0.1
  MAXIMUM_LATITUDE = 76.4875
  MINIMUM_LATITUDE = 41.6896
  POSITIVE_LONGITUDE_DIRECTION = EAST
  REFERENCE_LATITUDE = "N/A"
  REFERENCE_LONGITUDE = "N/A"
  SAMPLE_FIRST_PIXEL = 1
  SAMPLE_LAST_PIXEL = 4148
  SAMPLE_PROJECTION_OFFSET = 1841.125
  SECOND_STANDARD_PARALLEL = "N/A"
  WESTERNMOST_LONGITUDE = 53.0457
END_OBJECT = IMAGE_MAP_PROJECTION
/* The JPEG2000 image data file associated with this label. */
OBJECT = COMPRESSED_FILE
  FILE_NAME = "H1618_0000_BL3.JP2"
  RECORD_TYPE = UNDEFINED
  FILE_RECORDS = UNK
  ENCODING_TYPE = "JP2"
  INTERCHANGE_FORMAT = BINARY
  UNCOMPRESSED_FILE_NAME = "H1618_0000_BL3.IMG"
  REQUIRED_STORAGE_BYTES = "85627164"
  ^DESCRIPTION = "JP2INFO.TXT"
END_OBJECT = COMPRESSED_FILE
END
