PDS_VERSION_ID = PDS3
/* FILE DATA ELEMENTS */
RECORD_TYPE = STREAM
/* POINTERS TO DATA OBJECTS */
^COMPRESSED_FILE = "H1618_0000_P13.JP2"
/* IDENTIFICATION DATA ELEMENTS */
DATA_SET_ID = "MEX-M-HRSC-5-REFDR-MAPPROJECTED-V3.0"
DATA_SET_NAME = "MARS EXPRESS HRSC MAP PROJECTED REFDR V3.0"
DETECTOR_ID = MEX_HRSC_P1
EVENT_TYPE = "MARS-REGIONAL-MAPPING-Te-Pf-Eo"
INSTRUMENT_HOST_ID = MEX
INSTRUMENT_HOST_NAME = "MARS EXPRESS"
INSTRUMENT_ID = HRSC
INSTRUMENT_NAME = "HIGH RESOLUTION STEREO CAMERA"
MISSION_NAME = "MARS EXPRESS"
MISSION_PHASE_NAME = MR_Phase_6
PROCESSING_LEVEL_ID = 3
PRODUCT_CREATION_TIME = 2016-03-09T06:48:11.000Z
PRODUCT_ID = "H1618_0000_P13.JP2"
RELEASE_ID = 0021
REVISION_ID = 0000
/* QUALITY DATA ELEMENTS */
DATA_QUALITY_ID = 1
DATA_QUALITY_DESC = "Data calculated based on original SPICE kernels"
/* TIME DATA ELEMENTS */
SPACECRAFT_CLOCK_START_COUNT = "1/0062106676.57956"
SPACECRAFT_CLOCK_STOP_COUNT = "1/0062107641.52199"
START_TIME = 2005-04-20T19:52:43.341Z
STOP_TIME = 2005-04-20T20:05:44.295Z
/* ORBITAL DATA ELEMENTS */
ASCENDING_NODE_LONGITUDE = 194.54
MAXIMUM_RESOLUTION = 42.3
FOOTPRINT_POINT_LATITUDE = (76.0412,76.3281,75.4701,74.4692, 73.4448,72.3935,71.8568,71.3084,70.7583 ,70.2009,69.6365,68.7699,68.1866, 67.5947,66.9951,66.3876,65.7717,65.1468 ,64.513,63.8714,63.2199,62.5591,61.8891 ,61.2094,60.5188,59.8181,59.1073, 58.3866,57.6536,56.9103,56.1546,55.3878 ,54.608,53.8164,53.0121,52.1951,51.3642 ,50.52,49.6617,48.7886,47.9019,46.9995, 46.0824,45.1497,44.2013,43.2359,42.2535 ,41.6908,41.7191,41.7281,41.7311, 41.7273,41.7197,42.6887,43.6409,44.5784 ,45.5018,46.4109,47.3052,48.186,49.0525 ,49.9056,50.7452,51.5711,52.3846, 53.1854,53.9741,54.7504,55.5148,56.2678 ,57.0093,57.7392,58.4583,59.1673, 59.8654,60.5536,61.2316,61.899,62.5565, 63.2057,63.8456,64.4761,65.0983,65.7112 ,66.3154,66.9118,67.4988,68.0777, 68.6498,69.2191,69.775,70.3238,70.865, 71.4033,71.9292,72.9593,73.9605,74.9354 ,75.8792,76.0412)
FOOTPRINT_POINT_LONGITUDE = (55.3782,59.7667,61.3194,62.3337, 63.2382,64.0513,64.4281,64.7896,65.1303 ,65.4553,65.7652,66.2072,66.4838,66.749 ,67.0028,67.246,67.4794,67.7037,67.919, 68.1259,68.325,68.5166,68.7011,68.8789, 69.0504,69.2159,69.3755,69.5296,69.6785 ,69.8225,69.9617,70.0963,70.2267,70.353 ,70.4754,70.5941,70.7092,70.8208, 70.9295,71.0349,71.1375,71.2373,71.3345 ,71.4293,71.5217,71.6118,71.6997, 70.9154,69.2325,68.1911,67.4712,66.0221 ,64.9994,65.0046,65.0033,64.9934,64.975 ,64.9487,64.9155,64.8742,64.8255, 64.7693,64.7053,64.6344,64.5549,64.4682 ,64.3734,64.2708,64.1606,64.0413, 63.9143,63.7791,63.6359,63.4823,63.3204 ,63.149,62.9682,62.7773,62.5767,62.364, 62.1414,61.9055,61.6578,61.3978,61.1249 ,60.8378,60.5366,60.2213,59.887,59.5329 ,59.1634,58.7743,58.3644,57.9307, 57.4766,56.4912,55.3926,54.161,52.7828, 55.3782)
ORBIT_NUMBER = 1618
ORBITAL_ECCENTRICITY = 0.566
ORBITAL_INCLINATION = 86.61
ORBITAL_SEMIMAJOR_AXIS = 8536.3
PERIAPSIS_ALTITUDE = 325.72
PERIAPSIS_ARGUMENT_ANGLE = 75.33
PERIAPSIS_TIME = 2005-04-20T19:44:58.000Z
SPACECRAFT_ORIENTATION = (0.0,1.0,0.0)
^MEX_ORIENTATION_DESC = "MEX_ORIENTATION_DESC.TXT"
SPACECRAFT_POINTING_MODE = ACROSSTRACK
^MEX_POINTING_DESC = "MEX_POINTING_DESC.TXT"
RIGHT_ASCENSION = -1e+32
DECLINATION = -1e+32
OFFSET_ANGLE = -1.145
SPACECRAFT_SOLAR_DISTANCE = 2.14286e+08
TARGET_NAME = MARS
/* CAMERA DATA ELEMENTS */
DETECTOR_TEMPERATURE = 17.5549
FOCAL_PLANE_TEMPERATURE = 8.5833
INST_CMPRS_NAME = "DISCRETE COSINE TRANSFORMATION (DCT)"
INST_CMPRS_RATIO = 15.4158
INST_CMPRS_QUALITY = 0
INST_CMPRS_QUANTZ_TBL_ID = 0
INSTRUMENT_TEMPERATURE = 11.234
LENS_TEMPERATURE = 9.195
MACROPIXEL_SIZE = 2
MISSING_FRAMES = 2
PIXEL_SUBSAMPLING_FLAG = N
SIGNAL_CHAIN_ID = 3
/* RADIOMETRIC DATA ELEMENTS */
BANDWIDTH = 174.0
CENTER_FILTER_WAVELENGTH = 675.0
RADIANCE_OFFSET = 0.0693244
RADIANCE_SCALING_FACTOR = 0.0232441
REFLECTANCE_SCALING_FACTOR = 0.000574095
MEX:REFLECTANCE_OFFSET = 0.00171221
/* IMAGE OBJECT DEFINITIONS */
OBJECT = IMAGE
  INTERCHANGE_FORMAT = BINARY
  LINES = 41273
  LINE_SAMPLES = 8296
  SAMPLE_TYPE = UNSIGNED_INTEGER
  SAMPLE_BITS = 8
  BANDS = 1
  BAND_STORAGE_TYPE = BAND_SEQUENTIAL
  MAXIMUM = 359
  MEAN = 137.338
  MINIMUM = 4
  STANDARD_DEVIATION = 89.2333
END_OBJECT = IMAGE
/* MAP OBJECT DEFINITIONS */
OBJECT = IMAGE_MAP_PROJECTION
  ^DATA_SET_MAP_PROJECTION_CATALOG= "DSMAP.CAT"
  A_AXIS_RADIUS = 3396.0
  B_AXIS_RADIUS = 3396.0
  C_AXIS_RADIUS = 3396.0
  CENTER_LATITUDE = 0.0
  CENTER_LONGITUDE = 66.0
  COORDINATE_SYSTEM_NAME = PLANETOGRAPHIC
  COORDINATE_SYSTEM_TYPE = "BODY-FIXED ROTATING"
  EASTERNMOST_LONGITUDE = 71.69970000000001
  FIRST_STANDARD_PARALLEL = "N/A"
  LINE_FIRST_PIXEL = 1
  LINE_LAST_PIXEL = 41273
  LINE_PROJECTION_OFFSET = 90666.75
  MAP_PROJECTION_ROTATION = 0.0
  MAP_PROJECTION_TYPE = SINUSOIDAL
  MAP_RESOLUTION = 1185.42760773333
  MAP_SCALE = 0.05
  MAXIMUM_LATITUDE = 76.32810000000001
  MINIMUM_LATITUDE = 41.6908
  POSITIVE_LONGITUDE_DIRECTION = EAST
  REFERENCE_LATITUDE = "N/A"
  REFERENCE_LONGITUDE = "N/A"
  SAMPLE_FIRST_PIXEL = 1
  SAMPLE_LAST_PIXEL = 8296
  SAMPLE_PROJECTION_OFFSET = 3682.75
  SECOND_STANDARD_PARALLEL = "N/A"
  WESTERNMOST_LONGITUDE = 52.7828
END_OBJECT = IMAGE_MAP_PROJECTION
/* The JPEG2000 image data file associated with this label. */
OBJECT = COMPRESSED_FILE
  FILE_NAME = "H1618_0000_P13.JP2"
  RECORD_TYPE = UNDEFINED
  FILE_RECORDS = UNK
  ENCODING_TYPE = "JP2"
  INTERCHANGE_FORMAT = BINARY
  UNCOMPRESSED_FILE_NAME = "H1618_0000_P13.IMG"
  REQUIRED_STORAGE_BYTES = "342433992"
  ^DESCRIPTION = "JP2INFO.TXT"
END_OBJECT = COMPRESSED_FILE
END
