PDS_VERSION_ID = PDS3
/* FILE DATA ELEMENTS */
RECORD_TYPE = STREAM
/* POINTERS TO DATA OBJECTS */
^COMPRESSED_FILE = "H1619_0000_ND3.JP2"
/* IDENTIFICATION DATA ELEMENTS */
DATA_SET_ID = "MEX-M-HRSC-5-REFDR-MAPPROJECTED-V3.0"
DATA_SET_NAME = "MARS EXPRESS HRSC MAP PROJECTED REFDR V3.0"
DETECTOR_ID = MEX_HRSC_NADIR
EVENT_TYPE = "MARS-REGIONAL-MAPPING-Fl-Pf-Eo"
INSTRUMENT_HOST_ID = MEX
INSTRUMENT_HOST_NAME = "MARS EXPRESS"
INSTRUMENT_ID = HRSC
INSTRUMENT_NAME = "HIGH RESOLUTION STEREO CAMERA"
MISSION_NAME = "MARS EXPRESS"
MISSION_PHASE_NAME = MR_Phase_6
PROCESSING_LEVEL_ID = 3
PRODUCT_CREATION_TIME = 2016-03-09T06:48:11.000Z
PRODUCT_ID = "H1619_0000_ND3.JP2"
RELEASE_ID = 0021
REVISION_ID = 0000
/* QUALITY DATA ELEMENTS */
DATA_QUALITY_ID = 1
DATA_QUALITY_DESC = "Data calculated based on original SPICE kernels"
/* TIME DATA ELEMENTS */
SPACECRAFT_CLOCK_START_COUNT = "1/0062131352.57963"
SPACECRAFT_CLOCK_STOP_COUNT = "1/0062132360.21437"
START_TIME = 2005-04-21T02:44:12.463Z
STOP_TIME = 2005-04-21T02:55:24.416Z
/* ORBITAL DATA ELEMENTS */
ASCENDING_NODE_LONGITUDE = 194.53
MAXIMUM_RESOLUTION = 41.9
FOOTPRINT_POINT_LATITUDE = (52.2542,52.2579,52.2374,51.9969, 50.8451,49.6653,48.4543,47.2109,45.9329 ,45.2802,44.6182,43.946,43.2639,42.5712 ,41.8672,41.1516,40.4241,39.6848, 38.9323,38.1665,37.3865,36.5921,35.7824 ,34.9569,34.1183,33.278,32.4371,31.5955 ,30.7531,29.9095,29.065,28.2193,27.3721 ,26.523,25.6723,24.8197,23.9654,23.1085 ,22.2501,21.3894,20.5248,19.6576, 18.7867,17.9138,17.0376,16.1563,15.2719 ,14.3821,14.0072,14.0808,14.1313, 14.1704,14.2089,14.2249,14.2241,14.2291 ,15.1125,15.9901,16.8664,17.7373, 18.6054,19.4701,20.3317,21.1909,22.0474 ,22.9013,23.7519,24.6006,25.4467, 26.2915,27.1344,27.9765,28.817,29.6563, 30.4941,31.3311,32.1671,33.0025,33.8372 ,34.6715,35.4991,36.3116,37.1082, 37.8903,38.6582,39.4127,40.1534,40.8822 ,41.599,42.304,42.998,43.6809,44.3534, 45.0164,46.3132,47.5746,48.8007,49.9954 ,51.1607,52.2542)
FOOTPRINT_POINT_LONGITUDE = (326.698,328.607,330.474,331.624, 331.715,331.8,331.879,331.952,332.021, 332.053,332.084,332.114,332.143,332.171 ,332.197,332.223,332.247,332.27,332.293 ,332.314,332.334,332.353,332.372, 332.389,332.405,332.421,332.435,332.448 ,332.46,332.471,332.482,332.492,332.501 ,332.509,332.517,332.525,332.531, 332.538,332.544,332.55,332.555,332.561, 332.566,332.571,332.576,332.582,332.587 ,332.592,331.415,330.229,329.413, 328.517,327.238,326.403,325.711,324.98, 325.059,325.134,325.209,325.279,325.348 ,325.414,325.477,325.538,325.597, 325.653,325.705,325.755,325.802,325.847 ,325.888,325.928,325.966,326.0,326.031, 326.06,326.085,326.108,326.127,326.143, 326.156,326.166,326.172,326.175,326.174 ,326.171,326.164,326.154,326.141, 326.125,326.107,326.085,326.06,326.033, 325.969,325.893,325.807,325.708,325.596 ,326.698)
ORBIT_NUMBER = 1619
ORBITAL_ECCENTRICITY = 0.566
ORBITAL_INCLINATION = 86.61
ORBITAL_SEMIMAJOR_AXIS = 8536.48
PERIAPSIS_ALTITUDE = 326.56
PERIAPSIS_ARGUMENT_ANGLE = 75.14
PERIAPSIS_TIME = 2005-04-21T02:28:17.000Z
SPACECRAFT_ORIENTATION = (0.0,1.0,0.0)
^MEX_ORIENTATION_DESC = "MEX_ORIENTATION_DESC.TXT"
SPACECRAFT_POINTING_MODE = INERT
^MEX_POINTING_DESC = "MEX_POINTING_DESC.TXT"
RIGHT_ASCENSION = 118.698
DECLINATION = -44.223
OFFSET_ANGLE = -1e+32
SPACECRAFT_SOLAR_DISTANCE = 2.14242e+08
TARGET_NAME = MARS
/* CAMERA DATA ELEMENTS */
DETECTOR_TEMPERATURE = 18.1666
FOCAL_PLANE_TEMPERATURE = 8.7872
INST_CMPRS_NAME = "DISCRETE COSINE TRANSFORMATION (DCT)"
INST_CMPRS_RATIO = 6.70649
INST_CMPRS_QUALITY = 0
INST_CMPRS_QUANTZ_TBL_ID = 0
INSTRUMENT_TEMPERATURE = 11.234
LENS_TEMPERATURE = 9.195
MACROPIXEL_SIZE = 1
MISSING_FRAMES = 0
PIXEL_SUBSAMPLING_FLAG = N
SIGNAL_CHAIN_ID = 0
/* RADIOMETRIC DATA ELEMENTS */
BANDWIDTH = 177.0
CENTER_FILTER_WAVELENGTH = 677.5
RADIANCE_OFFSET = 2.59631
RADIANCE_SCALING_FACTOR = 0.0296465
REFLECTANCE_SCALING_FACTOR = 0.000722868
MEX:REFLECTANCE_OFFSET = 0.0633057
/* IMAGE OBJECT DEFINITIONS */
OBJECT = IMAGE
  INTERCHANGE_FORMAT = BINARY
  LINES = 45425
  LINE_SAMPLES = 8773
  SAMPLE_TYPE = UNSIGNED_INTEGER
  SAMPLE_BITS = 8
  BANDS = 1
  BAND_STORAGE_TYPE = BAND_SEQUENTIAL
  MAXIMUM = 271
  MEAN = 127.177
  MINIMUM = 64
  STANDARD_DEVIATION = 40.0575
END_OBJECT = IMAGE
/* MAP OBJECT DEFINITIONS */
OBJECT = IMAGE_MAP_PROJECTION
  ^DATA_SET_MAP_PROJECTION_CATALOG= "DSMAP.CAT"
  A_AXIS_RADIUS = 3396.0
  B_AXIS_RADIUS = 3396.0
  C_AXIS_RADIUS = 3396.0
  CENTER_LATITUDE = 0.0
  CENTER_LONGITUDE = 329.0
  COORDINATE_SYSTEM_NAME = PLANETOGRAPHIC
  COORDINATE_SYSTEM_TYPE = "BODY-FIXED ROTATING"
  EASTERNMOST_LONGITUDE = 332.592
  FIRST_STANDARD_PARALLEL = "N/A"
  LINE_FIRST_PIXEL = 1
  LINE_LAST_PIXEL = 45425
  LINE_PROJECTION_OFFSET = 61949.0
  MAP_PROJECTION_ROTATION = 0.0
  MAP_PROJECTION_TYPE = SINUSOIDAL
  MAP_RESOLUTION = 1185.42760773333
  MAP_SCALE = 0.05
  MAXIMUM_LATITUDE = 52.2579
  MINIMUM_LATITUDE = 14.0072
  POSITIVE_LONGITUDE_DIRECTION = EAST
  REFERENCE_LATITUDE = "N/A"
  REFERENCE_LONGITUDE = "N/A"
  SAMPLE_FIRST_PIXEL = 1
  SAMPLE_LAST_PIXEL = 8773
  SAMPLE_PROJECTION_OFFSET = 4625.0
  SECOND_STANDARD_PARALLEL = "N/A"
  WESTERNMOST_LONGITUDE = 324.98
END_OBJECT = IMAGE_MAP_PROJECTION
/* The JPEG2000 image data file associated with this label. */
OBJECT = COMPRESSED_FILE
  FILE_NAME = "H1619_0000_ND3.JP2"
  RECORD_TYPE = UNDEFINED
  FILE_RECORDS = UNK
  ENCODING_TYPE = "JP2"
  INTERCHANGE_FORMAT = BINARY
  UNCOMPRESSED_FILE_NAME = "H1619_0000_ND3.IMG"
  REQUIRED_STORAGE_BYTES = "398548617"
  ^DESCRIPTION = "JP2INFO.TXT"
END_OBJECT = COMPRESSED_FILE
END
