PDS_VERSION_ID = PDS3
/* FILE DATA ELEMENTS */
RECORD_TYPE = STREAM
/* POINTERS TO DATA OBJECTS */
^COMPRESSED_FILE = "H1619_0000_P23.JP2"
/* IDENTIFICATION DATA ELEMENTS */
DATA_SET_ID = "MEX-M-HRSC-5-REFDR-MAPPROJECTED-V3.0"
DATA_SET_NAME = "MARS EXPRESS HRSC MAP PROJECTED REFDR V3.0"
DETECTOR_ID = MEX_HRSC_P2
EVENT_TYPE = "MARS-REGIONAL-MAPPING-Fl-Pf-Eo"
INSTRUMENT_HOST_ID = MEX
INSTRUMENT_HOST_NAME = "MARS EXPRESS"
INSTRUMENT_ID = HRSC
INSTRUMENT_NAME = "HIGH RESOLUTION STEREO CAMERA"
MISSION_NAME = "MARS EXPRESS"
MISSION_PHASE_NAME = MR_Phase_6
PROCESSING_LEVEL_ID = 3
PRODUCT_CREATION_TIME = 2016-03-09T06:48:11.000Z
PRODUCT_ID = "H1619_0000_P23.JP2"
RELEASE_ID = 0021
REVISION_ID = 0000
/* QUALITY DATA ELEMENTS */
DATA_QUALITY_ID = 1
DATA_QUALITY_DESC = "Data calculated based on original SPICE kernels"
/* TIME DATA ELEMENTS */
SPACECRAFT_CLOCK_START_COUNT = "1/0062131352.57963"
SPACECRAFT_CLOCK_STOP_COUNT = "1/0062132360.21437"
START_TIME = 2005-04-21T02:43:07.667Z
STOP_TIME = 2005-04-21T02:53:05.766Z
/* ORBITAL DATA ELEMENTS */
ASCENDING_NODE_LONGITUDE = 194.53
MAXIMUM_RESOLUTION = 75.6
FOOTPRINT_POINT_LATITUDE = (52.315,52.34,52.3479,51.2817,50.1916, 49.0752,47.9316,46.758,46.1596,45.5532, 44.9382,44.315,43.6826,43.0408,42.3895, 41.7286,41.0573,40.3754,39.6823,38.9784 ,38.2625,37.5345,36.7931,36.0379, 35.2691,34.4866,33.6881,32.8736,32.0425 ,31.1944,30.3281,29.4419,28.5379, 27.6279,26.7117,25.7914,24.8663,23.9365 ,23.001,22.0599,21.1124,20.1575,19.1939 ,18.2238,17.2463,16.2594,15.2649, 14.2577,14.0794,14.1267,14.1665,14.1779 ,14.1692,14.1377,14.588,15.5946,16.582, 18.0531,19.0228,19.9846,20.9394,21.888, 22.8301,23.7634,24.6915,25.6132,26.5308 ,27.4436,28.3529,29.2566,30.1437, 31.0111,31.8599,32.692,33.5063,34.3052, 35.0882,35.8572,36.6117,37.3528,38.0813 ,38.7966,39.5004,40.1926,40.8738, 41.5444,42.2047,42.8556,43.4966,44.1276 ,44.7502,45.364,45.9695,46.5668,47.7376 ,48.879,49.993,51.0795,52.1423,52.315)
FOOTPRINT_POINT_LONGITUDE = (327.863,329.486,331.045,331.14,331.23, 331.313,331.392,331.466,331.501,331.535 ,331.567,331.599,331.629,331.658, 331.687,331.714,331.74,331.765,331.789, 331.812,331.834,331.855,331.875,331.895 ,331.913,331.93,331.947,331.963,331.978 ,331.992,332.005,332.017,332.029, 332.039,332.049,332.058,332.066,332.074 ,332.081,332.087,332.093,332.099, 332.104,332.109,332.113,332.117,332.122 ,332.126,331.444,330.275,329.171, 328.057,327.213,326.287,324.943,325.041 ,325.13,325.261,325.343,325.421,325.496 ,325.568,325.636,325.7,325.76,325.817, 325.87,325.921,325.968,326.012,326.052, 326.088,326.12,326.149,326.174,326.195, 326.214,326.229,326.242,326.251,326.258 ,326.261,326.262,326.259,326.255, 326.247,326.237,326.224,326.209,326.191 ,326.171,326.148,326.123,326.095, 326.032,325.96,325.877,325.782,325.679, 327.863)
ORBIT_NUMBER = 1619
ORBITAL_ECCENTRICITY = 0.566
ORBITAL_INCLINATION = 86.61
ORBITAL_SEMIMAJOR_AXIS = 8536.48
PERIAPSIS_ALTITUDE = 326.56
PERIAPSIS_ARGUMENT_ANGLE = 75.14
PERIAPSIS_TIME = 2005-04-21T02:28:17.000Z
SPACECRAFT_ORIENTATION = (0.0,1.0,0.0)
^MEX_ORIENTATION_DESC = "MEX_ORIENTATION_DESC.TXT"
SPACECRAFT_POINTING_MODE = INERT
^MEX_POINTING_DESC = "MEX_POINTING_DESC.TXT"
RIGHT_ASCENSION = 118.698
DECLINATION = -44.223
OFFSET_ANGLE = -1e+32
SPACECRAFT_SOLAR_DISTANCE = 2.14242e+08
TARGET_NAME = MARS
/* CAMERA DATA ELEMENTS */
DETECTOR_TEMPERATURE = 18.9822
FOCAL_PLANE_TEMPERATURE = 8.7872
INST_CMPRS_NAME = "DISCRETE COSINE TRANSFORMATION (DCT)"
INST_CMPRS_RATIO = 7.59893
INST_CMPRS_QUALITY = 0
INST_CMPRS_QUANTZ_TBL_ID = 0
INSTRUMENT_TEMPERATURE = 11.234
LENS_TEMPERATURE = 9.195
MACROPIXEL_SIZE = 2
MISSING_FRAMES = 0
PIXEL_SUBSAMPLING_FLAG = N
SIGNAL_CHAIN_ID = 3
/* RADIOMETRIC DATA ELEMENTS */
BANDWIDTH = 177.0
CENTER_FILTER_WAVELENGTH = 676.5
RADIANCE_OFFSET = 2.65484
RADIANCE_SCALING_FACTOR = 0.0204714
REFLECTANCE_SCALING_FACTOR = 0.000498202
MEX:REFLECTANCE_OFFSET = 0.0646096
/* IMAGE OBJECT DEFINITIONS */
OBJECT = IMAGE
  INTERCHANGE_FORMAT = BINARY
  LINES = 22713
  LINE_SAMPLES = 4387
  SAMPLE_TYPE = UNSIGNED_INTEGER
  SAMPLE_BITS = 8
  BANDS = 1
  BAND_STORAGE_TYPE = BAND_SEQUENTIAL
  MAXIMUM = 266
  MEAN = 154.931
  MINIMUM = 88
  STANDARD_DEVIATION = 44.2987
END_OBJECT = IMAGE
/* MAP OBJECT DEFINITIONS */
OBJECT = IMAGE_MAP_PROJECTION
  ^DATA_SET_MAP_PROJECTION_CATALOG= "DSMAP.CAT"
  A_AXIS_RADIUS = 3396.0
  B_AXIS_RADIUS = 3396.0
  C_AXIS_RADIUS = 3396.0
  CENTER_LATITUDE = 0.0
  CENTER_LONGITUDE = 329.0
  COORDINATE_SYSTEM_NAME = PLANETOGRAPHIC
  COORDINATE_SYSTEM_TYPE = "BODY-FIXED ROTATING"
  EASTERNMOST_LONGITUDE = 332.126
  FIRST_STANDARD_PARALLEL = "N/A"
  LINE_FIRST_PIXEL = 1
  LINE_LAST_PIXEL = 22713
  LINE_PROJECTION_OFFSET = 30974.25
  MAP_PROJECTION_ROTATION = 0.0
  MAP_PROJECTION_TYPE = SINUSOIDAL
  MAP_RESOLUTION = 592.713803866667
  MAP_SCALE = 0.1
  MAXIMUM_LATITUDE = 52.3479
  MINIMUM_LATITUDE = 14.0794
  POSITIVE_LONGITUDE_DIRECTION = EAST
  REFERENCE_LATITUDE = "N/A"
  REFERENCE_LONGITUDE = "N/A"
  SAMPLE_FIRST_PIXEL = 1
  SAMPLE_LAST_PIXEL = 4387
  SAMPLE_PROJECTION_OFFSET = 2312.25
  SECOND_STANDARD_PARALLEL = "N/A"
  WESTERNMOST_LONGITUDE = 324.943
END_OBJECT = IMAGE_MAP_PROJECTION
/* The JPEG2000 image data file associated with this label. */
OBJECT = COMPRESSED_FILE
  FILE_NAME = "H1619_0000_P23.JP2"
  RECORD_TYPE = UNDEFINED
  FILE_RECORDS = UNK
  ENCODING_TYPE = "JP2"
  INTERCHANGE_FORMAT = BINARY
  UNCOMPRESSED_FILE_NAME = "H1619_0000_P23.IMG"
  REQUIRED_STORAGE_BYTES = "99668253"
  ^DESCRIPTION = "JP2INFO.TXT"
END_OBJECT = COMPRESSED_FILE
END
