PDS_VERSION_ID = PDS3
/* FILE DATA ELEMENTS */
RECORD_TYPE = STREAM
/* POINTERS TO DATA OBJECTS */
^COMPRESSED_FILE = "H1619_0000_S23.JP2"
/* IDENTIFICATION DATA ELEMENTS */
DATA_SET_ID = "MEX-M-HRSC-5-REFDR-MAPPROJECTED-V3.0"
DATA_SET_NAME = "MARS EXPRESS HRSC MAP PROJECTED REFDR V3.0"
DETECTOR_ID = MEX_HRSC_S2
EVENT_TYPE = "MARS-REGIONAL-MAPPING-Fl-Pf-Eo"
INSTRUMENT_HOST_ID = MEX
INSTRUMENT_HOST_NAME = "MARS EXPRESS"
INSTRUMENT_ID = HRSC
INSTRUMENT_NAME = "HIGH RESOLUTION STEREO CAMERA"
MISSION_NAME = "MARS EXPRESS"
MISSION_PHASE_NAME = MR_Phase_6
PROCESSING_LEVEL_ID = 3
PRODUCT_CREATION_TIME = 2016-03-09T06:48:11.000Z
PRODUCT_ID = "H1619_0000_S23.JP2"
RELEASE_ID = 0021
REVISION_ID = 0000
/* QUALITY DATA ELEMENTS */
DATA_QUALITY_ID = 1
DATA_QUALITY_DESC = "Data calculated based on original SPICE kernels"
/* TIME DATA ELEMENTS */
SPACECRAFT_CLOCK_START_COUNT = "1/0062131352.57963"
SPACECRAFT_CLOCK_STOP_COUNT = "1/0062132360.21437"
START_TIME = 2005-04-21T02:42:40.363Z
STOP_TIME = 2005-04-21T02:52:00.970Z
/* ORBITAL DATA ELEMENTS */
ASCENDING_NODE_LONGITUDE = 194.53
MAXIMUM_RESOLUTION = 73.1
FOOTPRINT_POINT_LATITUDE = (52.3246,52.3637,52.3564,51.3173, 50.2545,49.1672,48.0529,46.9111,46.3287 ,45.7386,45.1411,44.5346,43.9204, 43.2966,42.6645,42.0221,41.3707,40.7092 ,40.0363,39.3531,38.6588,37.9528, 37.2346,36.5034,35.7593,35.001,34.2284, 33.4407,32.6368,31.8171,30.9808,30.1254 ,29.2506,28.3556,27.4399,26.5003, 25.5382,24.5637,23.5814,22.5899,21.592, 20.583,19.5631,18.533,17.4885,16.4326, 15.3653,14.1592,14.1993,14.2146,14.2129 ,14.1885,14.15,14.0952,14.0264,15.1283, 16.1943,17.2565,18.3051,19.3408,20.3648 ,21.3802,22.3832,23.3802,24.3605, 25.3352,26.298,27.2388,28.1582,29.0555, 29.9325,30.7902,31.6276,32.4486,33.2531 ,34.0413,34.8145,35.5733,36.3179, 37.0492,37.7678,38.4738,39.1683,39.8515 ,40.5237,41.1852,41.8363,42.478,43.1098 ,43.7326,44.3463,44.9515,45.5487, 46.7192,47.859,48.9713,50.0567,51.1165, 52.1529,52.3246)
FOOTPRINT_POINT_LONGITUDE = (327.827,329.348,330.808,330.904, 330.993,331.078,331.157,331.232,331.267 ,331.301,331.334,331.366,331.397, 331.427,331.456,331.483,331.51,331.535, 331.56,331.584,331.606,331.628,331.648, 331.668,331.687,331.705,331.722,331.738 ,331.753,331.767,331.781,331.794, 331.805,331.816,331.827,331.836,331.845 ,331.853,331.86,331.866,331.872,331.877 ,331.881,331.885,331.889,331.892, 331.895,331.437,329.839,329.171,328.565 ,327.48,326.859,325.889,324.883,324.996 ,325.097,325.196,325.29,325.379,325.464 ,325.546,325.622,325.696,325.762, 325.826,325.885,325.94,325.991,326.037, 326.08,326.118,326.152,326.183,326.211, 326.235,326.256,326.274,326.289,326.301 ,326.31,326.317,326.32,326.321,326.32, 326.315,326.309,326.3,326.288,326.274, 326.257,326.238,326.217,326.167,326.108 ,326.039,325.961,325.872,325.775, 327.827)
ORBIT_NUMBER = 1619
ORBITAL_ECCENTRICITY = 0.566
ORBITAL_INCLINATION = 86.61
ORBITAL_SEMIMAJOR_AXIS = 8536.48
PERIAPSIS_ALTITUDE = 326.56
PERIAPSIS_ARGUMENT_ANGLE = 75.14
PERIAPSIS_TIME = 2005-04-21T02:28:17.000Z
SPACECRAFT_ORIENTATION = (0.0,1.0,0.0)
^MEX_ORIENTATION_DESC = "MEX_ORIENTATION_DESC.TXT"
SPACECRAFT_POINTING_MODE = INERT
^MEX_POINTING_DESC = "MEX_POINTING_DESC.TXT"
RIGHT_ASCENSION = 118.698
DECLINATION = -44.223
OFFSET_ANGLE = -1e+32
SPACECRAFT_SOLAR_DISTANCE = 2.14242e+08
TARGET_NAME = MARS
/* CAMERA DATA ELEMENTS */
DETECTOR_TEMPERATURE = 18.9822
FOCAL_PLANE_TEMPERATURE = 8.7872
INST_CMPRS_NAME = "DISCRETE COSINE TRANSFORMATION (DCT)"
INST_CMPRS_RATIO = 11.077
INST_CMPRS_QUALITY = 0
INST_CMPRS_QUANTZ_TBL_ID = 0
INSTRUMENT_TEMPERATURE = 11.234
LENS_TEMPERATURE = 9.195
MACROPIXEL_SIZE = 2
MISSING_FRAMES = 0
PIXEL_SUBSAMPLING_FLAG = N
SIGNAL_CHAIN_ID = 1
/* RADIOMETRIC DATA ELEMENTS */
BANDWIDTH = 178.0
CENTER_FILTER_WAVELENGTH = 679.0
RADIANCE_OFFSET = 2.69381
RADIANCE_SCALING_FACTOR = 0.0240858
REFLECTANCE_SCALING_FACTOR = 0.000585453
MEX:REFLECTANCE_OFFSET = 0.0654783
/* IMAGE OBJECT DEFINITIONS */
OBJECT = IMAGE
  INTERCHANGE_FORMAT = BINARY
  LINES = 22713
  LINE_SAMPLES = 4387
  SAMPLE_TYPE = UNSIGNED_INTEGER
  SAMPLE_BITS = 8
  BANDS = 1
  BAND_STORAGE_TYPE = BAND_SEQUENTIAL
  MAXIMUM = 250
  MEAN = 134.401
  MINIMUM = 73
  STANDARD_DEVIATION = 38.3329
END_OBJECT = IMAGE
/* MAP OBJECT DEFINITIONS */
OBJECT = IMAGE_MAP_PROJECTION
  ^DATA_SET_MAP_PROJECTION_CATALOG= "DSMAP.CAT"
  A_AXIS_RADIUS = 3396.0
  B_AXIS_RADIUS = 3396.0
  C_AXIS_RADIUS = 3396.0
  CENTER_LATITUDE = 0.0
  CENTER_LONGITUDE = 329.0
  COORDINATE_SYSTEM_NAME = PLANETOGRAPHIC
  COORDINATE_SYSTEM_TYPE = "BODY-FIXED ROTATING"
  EASTERNMOST_LONGITUDE = 331.895
  FIRST_STANDARD_PARALLEL = "N/A"
  LINE_FIRST_PIXEL = 1
  LINE_LAST_PIXEL = 22713
  LINE_PROJECTION_OFFSET = 30974.25
  MAP_PROJECTION_ROTATION = 0.0
  MAP_PROJECTION_TYPE = SINUSOIDAL
  MAP_RESOLUTION = 592.713803866667
  MAP_SCALE = 0.1
  MAXIMUM_LATITUDE = 52.3637
  MINIMUM_LATITUDE = 14.0264
  POSITIVE_LONGITUDE_DIRECTION = EAST
  REFERENCE_LATITUDE = "N/A"
  REFERENCE_LONGITUDE = "N/A"
  SAMPLE_FIRST_PIXEL = 1
  SAMPLE_LAST_PIXEL = 4387
  SAMPLE_PROJECTION_OFFSET = 2312.25
  SECOND_STANDARD_PARALLEL = "N/A"
  WESTERNMOST_LONGITUDE = 324.883
END_OBJECT = IMAGE_MAP_PROJECTION
/* The JPEG2000 image data file associated with this label. */
OBJECT = COMPRESSED_FILE
  FILE_NAME = "H1619_0000_S23.JP2"
  RECORD_TYPE = UNDEFINED
  FILE_RECORDS = UNK
  ENCODING_TYPE = "JP2"
  INTERCHANGE_FORMAT = BINARY
  UNCOMPRESSED_FILE_NAME = "H1619_0000_S23.IMG"
  REQUIRED_STORAGE_BYTES = "99668253"
  ^DESCRIPTION = "JP2INFO.TXT"
END_OBJECT = COMPRESSED_FILE
END
