PDS_VERSION_ID = PDS3
/* FILE DATA ELEMENTS */
RECORD_TYPE = STREAM
/* POINTERS TO DATA OBJECTS */
^COMPRESSED_FILE = "H1620_0002_SR3.JP2"
/* IDENTIFICATION DATA ELEMENTS */
DATA_SET_ID = "MEX-M-HRSC-5-REFDR-MAPPROJECTED-V3.0"
DATA_SET_NAME = "MARS EXPRESS HRSC MAP PROJECTED REFDR V3.0"
DETECTOR_ID = MEX_HRSC_SRC
EVENT_TYPE = "MARS-REGIONAL-MAPPING-Vo-Te-Fl"
INSTRUMENT_HOST_ID = MEX
INSTRUMENT_HOST_NAME = "MARS EXPRESS"
INSTRUMENT_ID = HRSC
INSTRUMENT_NAME = "HIGH RESOLUTION STEREO CAMERA"
MISSION_NAME = "MARS EXPRESS"
MISSION_PHASE_NAME = MR_Phase_6
PROCESSING_LEVEL_ID = 3
PRODUCT_CREATION_TIME = 2016-03-09T06:48:11.000Z
PRODUCT_ID = "H1620_0002_SR3.JP2"
RELEASE_ID = 0021
REVISION_ID = 0000
/* QUALITY DATA ELEMENTS */
DATA_QUALITY_ID = 1
DATA_QUALITY_DESC = "Data calculated based on original SPICE kernels"
/* TIME DATA ELEMENTS */
SPACECRAFT_CLOCK_START_COUNT = "1/0062155341.57263"
SPACECRAFT_CLOCK_STOP_COUNT = "1/0062156147.34334"
IMAGE_TIME = 2005-04-21T09:25:06.522Z
START_TIME = 2005-04-21T09:25:06.518Z
STOP_TIME = 2005-04-21T09:25:06.525Z
/* ORBITAL DATA ELEMENTS */
ASCENDING_NODE_LONGITUDE = 194.51
MAXIMUM_RESOLUTION = 7.752
FOOTPRINT_POINT_LATITUDE = (56.1308,56.1266,56.1203,56.1139, 56.1101,56.1055,56.0983,56.0949,56.0895 ,56.0837,56.078,56.0742,56.0679,56.0639 ,56.06,56.0557,56.0494,56.044,56.0398, 56.034,56.0273,56.0221,56.0186,56.0141, 56.0096,56.0058,56.0012,56.0009,56.0006 ,56.0004,55.9999,55.9997,55.9994, 55.9991,55.9988,55.9985,55.9982,55.998, 55.9977,55.9974,55.9971,55.9968,55.9965 ,55.9963,55.996,55.9957,55.9954,55.9951 ,55.9948,55.9945,55.9942,56.0011, 56.0053,56.0114,56.0168,56.0231,56.0289 ,56.0373,56.0428,56.0467,56.053,56.0564 ,56.0598,56.0665,56.075,56.0813,56.0863 ,56.0931,56.0971,56.1019,56.1055, 56.1105,56.1146,56.1185,56.1262,56.1265 ,56.1268,56.1271,56.1274,56.1277,56.128 ,56.1282,56.1285,56.1288,56.1291, 56.1294,56.1297,56.13,56.1303,56.1305, 56.1308,56.1311,56.1314,56.1317,56.132, 56.1322,56.1325,56.1329,56.1331, 56.1308)
FOOTPRINT_POINT_LONGITUDE = (233.189,233.19,233.19,233.191,233.191, 233.192,233.192,233.193,233.193,233.194 ,233.194,233.195,233.195,233.196, 233.196,233.196,233.197,233.197,233.198 ,233.198,233.199,233.2,233.2,233.2, 233.201,233.201,233.197,233.187,233.178 ,233.168,233.154,233.145,233.136, 233.126,233.117,233.107,233.098,233.089 ,233.079,233.07,233.06,233.051,233.042, 233.032,233.023,233.014,233.004,232.995 ,232.985,232.976,232.967,232.962, 232.962,232.961,232.961,232.96,232.959, 232.959,232.958,232.958,232.957,232.957 ,232.956,232.956,232.955,232.954, 232.954,232.953,232.952,232.952,232.952 ,232.951,232.951,232.95,232.95,232.959, 232.969,232.978,232.987,232.997,233.006 ,233.016,233.025,233.035,233.044, 233.053,233.063,233.072,233.082,233.091 ,233.1,233.11,233.119,233.129,233.138, 233.148,233.157,233.169,233.178, 233.189)
ORBIT_NUMBER = 1620
ORBITAL_ECCENTRICITY = 0.566
ORBITAL_INCLINATION = 86.61
ORBITAL_SEMIMAJOR_AXIS = 8539.45
PERIAPSIS_ALTITUDE = 325.64
PERIAPSIS_ARGUMENT_ANGLE = 74.96
PERIAPSIS_TIME = 2005-04-21T09:11:34.000Z
SPACECRAFT_ORIENTATION = (0.0,1.0,0.0)
^MEX_ORIENTATION_DESC = "MEX_ORIENTATION_DESC.TXT"
SPACECRAFT_POINTING_MODE = ACROSSTRACK
^MEX_POINTING_DESC = "MEX_POINTING_DESC.TXT"
RIGHT_ASCENSION = -1e+32
DECLINATION = -1e+32
OFFSET_ANGLE = 0.3
SPACECRAFT_SOLAR_DISTANCE = 2.14197e+08
TARGET_NAME = MARS
/* CAMERA DATA ELEMENTS */
BUFFER_MODE_ID = BUFFER_8
EXPOSURE_DURATION = 7.056
INST_CMPRS_NAME = NONE
INST_CMPRS_RATIO = 1.0
INST_CMPRS_QUALITY = -2147483648
INST_CMPRS_QUANTZ_TBL_ID = -2147483648
INSTRUMENT_TEMPERATURE = 11.2121
MISSING_FRAMES = 0
START_BIT = 0
/* RADIOMETRIC DATA ELEMENTS */
BANDWIDTH = 250.0
CENTER_FILTER_WAVELENGTH = 600.0
RADIANCE_OFFSET = -9.99e+31
RADIANCE_SCALING_FACTOR = -9.99e+31
REFLECTANCE_SCALING_FACTOR = -9.99e+31
MEX:REFLECTANCE_OFFSET = -9.99e+31
/* IMAGE OBJECT DEFINITIONS */
OBJECT = IMAGE
  INTERCHANGE_FORMAT = BINARY
  LINES = 881
  LINE_SAMPLES = 889
  SAMPLE_TYPE = UNSIGNED_INTEGER
  SAMPLE_BITS = 8
  BANDS = 1
  BAND_STORAGE_TYPE = BAND_SEQUENTIAL
  MAXIMUM = 4689
  MEAN = 4359.21
  MINIMUM = 3630
  STANDARD_DEVIATION = 74.536
END_OBJECT = IMAGE
/* MAP OBJECT DEFINITIONS */
OBJECT = IMAGE_MAP_PROJECTION
  ^DATA_SET_MAP_PROJECTION_CATALOG= "DSMAP.CAT"
  A_AXIS_RADIUS = 3396.19
  B_AXIS_RADIUS = 3396.19
  C_AXIS_RADIUS = 3396.19
  CENTER_LATITUDE = 0.0
  CENTER_LONGITUDE = 233.0
  COORDINATE_SYSTEM_NAME = PLANETOGRAPHIC
  COORDINATE_SYSTEM_TYPE = "BODY-FIXED ROTATING"
  EASTERNMOST_LONGITUDE = 233.201
  FIRST_STANDARD_PARALLEL = "N/A"
  LINE_FIRST_PIXEL = 1
  LINE_LAST_PIXEL = 881
  LINE_PROJECTION_OFFSET = 332238.0
  MAP_PROJECTION_ROTATION = 0.0
  MAP_PROJECTION_TYPE = SINUSOIDAL
  MAP_RESOLUTION = 5927.46965121889
  MAP_SCALE = 0.01
  MAXIMUM_LATITUDE = 56.1331
  MINIMUM_LATITUDE = 55.9942
  POSITIVE_LONGITUDE_DIRECTION = EAST
  REFERENCE_LATITUDE = "N/A"
  REFERENCE_LONGITUDE = "N/A"
  SAMPLE_FIRST_PIXEL = 1
  SAMPLE_LAST_PIXEL = 889
  SAMPLE_PROJECTION_OFFSET = 158.0
  SECOND_STANDARD_PARALLEL = "N/A"
  WESTERNMOST_LONGITUDE = 232.95
END_OBJECT = IMAGE_MAP_PROJECTION
/* The JPEG2000 image data file associated with this label. */
OBJECT = COMPRESSED_FILE
  FILE_NAME = "H1620_0002_SR3.JP2"
  RECORD_TYPE = UNDEFINED
  FILE_RECORDS = UNK
  ENCODING_TYPE = "JP2"
  INTERCHANGE_FORMAT = BINARY
  UNCOMPRESSED_FILE_NAME = "H1620_0002_SR3.IMG"
  REQUIRED_STORAGE_BYTES = "801878"
  ^DESCRIPTION = "JP2INFO.TXT"
END_OBJECT = COMPRESSED_FILE
END
