PDS_VERSION_ID = PDS3
/* FILE DATA ELEMENTS */
RECORD_TYPE = STREAM
/* POINTERS TO DATA OBJECTS */
^COMPRESSED_FILE = "H1622_0000_S13.JP2"
/* IDENTIFICATION DATA ELEMENTS */
DATA_SET_ID = "MEX-M-HRSC-5-REFDR-MAPPROJECTED-V3.0"
DATA_SET_NAME = "MARS EXPRESS HRSC MAP PROJECTED REFDR V3.0"
DETECTOR_ID = MEX_HRSC_S1
EVENT_TYPE = "MARS-REGIONAL-MAPPING-Te-Gl-Eo"
INSTRUMENT_HOST_ID = MEX
INSTRUMENT_HOST_NAME = "MARS EXPRESS"
INSTRUMENT_ID = HRSC
INSTRUMENT_NAME = "HIGH RESOLUTION STEREO CAMERA"
MISSION_NAME = "MARS EXPRESS"
MISSION_PHASE_NAME = MR_Phase_6
PROCESSING_LEVEL_ID = 3
PRODUCT_CREATION_TIME = 2016-03-09T06:48:11.000Z
PRODUCT_ID = "H1622_0000_S13.JP2"
RELEASE_ID = 0021
REVISION_ID = 0000
/* QUALITY DATA ELEMENTS */
DATA_QUALITY_ID = 1
DATA_QUALITY_DESC = "Data calculated based on original SPICE kernels"
/* TIME DATA ELEMENTS */
SPACECRAFT_CLOCK_START_COUNT = "1/0062203673.57275"
SPACECRAFT_CLOCK_STOP_COUNT = "1/0062204424.30509"
START_TIME = 2005-04-21T22:50:31.625Z
STOP_TIME = 2005-04-21T23:00:30.095Z
/* ORBITAL DATA ELEMENTS */
ASCENDING_NODE_LONGITUDE = 194.46
MAXIMUM_RESOLUTION = 65.9
FOOTPRINT_POINT_LATITUDE = (64.348,64.3989,64.4451,64.4865,64.5231 ,64.5549,64.5818,63.9945,63.2562, 62.5068,61.746,60.9737,60.1895,59.3926, 58.9897,58.5832,58.1738,57.7606,57.3449 ,56.9254,56.5031,56.0769,55.6478, 55.2144,54.7785,54.3386,53.8944,53.4483 ,52.9978,52.5434,52.0854,51.6238,51.159 ,50.6896,50.2167,49.739,49.2584,48.7752 ,48.2867,47.7942,47.2961,46.5382, 45.7832,45.2707,44.7547,43.9786,43.4507 ,42.9123,42.614,42.6472,42.6623,42.6803 ,42.6893,42.6953,42.6997,42.7225, 42.7238,42.9831,43.4974,44.0082,44.5142 ,45.0193,45.5201,46.0176,46.7551, 47.2438,47.7322,48.2145,48.6921,49.1679 ,49.6394,50.1067,50.5713,51.0321, 51.4897,51.9437,52.3952,52.8437,53.2875 ,53.7281,54.1669,54.6005,55.0306,55.458 ,55.8827,56.3035,56.721,57.1354,57.5473 ,57.9557,58.3607,58.7621,59.161,59.9506 ,60.7266,61.4922,62.2456,62.9878, 63.7194,64.348)
FOOTPRINT_POINT_LONGITUDE = (32.9012,33.8366,34.7779,35.726,36.6796 ,37.6403,38.6089,39.3163,39.4367, 39.5524,39.6636,39.7714,39.8751,39.9754 ,40.0245,40.0728,40.1204,40.167,40.2134 ,40.2589,40.3041,40.3485,40.3925, 40.4357,40.4789,40.5214,40.5628,40.6051 ,40.6466,40.6874,40.728,40.7687,40.8094 ,40.849,40.8889,40.9281,40.9676,41.0081 ,41.0476,41.0871,41.1256,41.181,41.2446 ,41.2846,41.3251,41.3897,41.4298, 41.4662,40.8228,39.6417,38.9055,37.9522 ,37.2925,36.6333,36.0481,35.0945, 34.3616,33.9093,33.9362,33.961,33.9843, 34.0045,34.0231,34.0396,34.0615,34.073, 34.0814,34.0888,34.0947,34.0979,34.0994 ,34.0994,34.0971,34.093,34.0869,34.079, 34.0687,34.0563,34.0425,34.0268,34.0084 ,33.989,33.9677,33.9442,33.9183,33.8911 ,33.8617,33.8303,33.7966,33.7611, 33.7236,33.6844,33.6428,33.5526,33.4546 ,33.3471,33.2306,33.1047,32.9686, 32.9012)
ORBIT_NUMBER = 1622
ORBITAL_ECCENTRICITY = 0.566
ORBITAL_INCLINATION = 86.59
ORBITAL_SEMIMAJOR_AXIS = 8537.34
PERIAPSIS_ALTITUDE = 326.01
PERIAPSIS_ARGUMENT_ANGLE = 74.61
PERIAPSIS_TIME = 2005-04-21T22:38:12.000Z
SPACECRAFT_ORIENTATION = (0.0,1.0,0.0)
^MEX_ORIENTATION_DESC = "MEX_ORIENTATION_DESC.TXT"
SPACECRAFT_POINTING_MODE = ACROSSTRACK
^MEX_POINTING_DESC = "MEX_POINTING_DESC.TXT"
RIGHT_ASCENSION = -1e+32
DECLINATION = -1e+32
OFFSET_ANGLE = 0.61
SPACECRAFT_SOLAR_DISTANCE = 2.14109e+08
TARGET_NAME = MARS
/* CAMERA DATA ELEMENTS */
DETECTOR_TEMPERATURE = 17.7588
FOCAL_PLANE_TEMPERATURE = 8.3794
INST_CMPRS_NAME = "DISCRETE COSINE TRANSFORMATION (DCT)"
INST_CMPRS_RATIO = 12.0672
INST_CMPRS_QUALITY = 0
INST_CMPRS_QUANTZ_TBL_ID = 0
INSTRUMENT_TEMPERATURE = 11.234
LENS_TEMPERATURE = 8.9911
MACROPIXEL_SIZE = 2
MISSING_FRAMES = 1
PIXEL_SUBSAMPLING_FLAG = N
SIGNAL_CHAIN_ID = 1
/* RADIOMETRIC DATA ELEMENTS */
BANDWIDTH = 180.0
CENTER_FILTER_WAVELENGTH = 677.0
RADIANCE_OFFSET = 2.12908
RADIANCE_SCALING_FACTOR = 0.0197999
REFLECTANCE_SCALING_FACTOR = 0.000473553
MEX:REFLECTANCE_OFFSET = 0.0509212
/* IMAGE OBJECT DEFINITIONS */
OBJECT = IMAGE
  INTERCHANGE_FORMAT = BINARY
  LINES = 26144
  LINE_SAMPLES = 5092
  SAMPLE_TYPE = UNSIGNED_INTEGER
  SAMPLE_BITS = 8
  BANDS = 1
  BAND_STORAGE_TYPE = BAND_SEQUENTIAL
  MAXIMUM = 363
  MEAN = 190.263
  MINIMUM = 102
  STANDARD_DEVIATION = 76.4543
END_OBJECT = IMAGE
/* MAP OBJECT DEFINITIONS */
OBJECT = IMAGE_MAP_PROJECTION
  ^DATA_SET_MAP_PROJECTION_CATALOG= "DSMAP.CAT"
  A_AXIS_RADIUS = 3396.0
  B_AXIS_RADIUS = 3396.0
  C_AXIS_RADIUS = 3396.0
  CENTER_LATITUDE = 0.0
  CENTER_LONGITUDE = 37.0
  COORDINATE_SYSTEM_NAME = PLANETOGRAPHIC
  COORDINATE_SYSTEM_TYPE = "BODY-FIXED ROTATING"
  EASTERNMOST_LONGITUDE = 41.4662
  FIRST_STANDARD_PARALLEL = "N/A"
  LINE_FIRST_PIXEL = 1
  LINE_LAST_PIXEL = 26144
  LINE_PROJECTION_OFFSET = 76706.25
  MAP_PROJECTION_ROTATION = 0.0
  MAP_PROJECTION_TYPE = SINUSOIDAL
  MAP_RESOLUTION = 1185.42760773333
  MAP_SCALE = 0.05
  MAXIMUM_LATITUDE = 64.5818
  MINIMUM_LATITUDE = 42.614
  POSITIVE_LONGITUDE_DIRECTION = EAST
  REFERENCE_LATITUDE = "N/A"
  REFERENCE_LONGITUDE = "N/A"
  SAMPLE_FIRST_PIXEL = 1
  SAMPLE_LAST_PIXEL = 5092
  SAMPLE_PROJECTION_OFFSET = 2113.75
  SECOND_STANDARD_PARALLEL = "N/A"
  WESTERNMOST_LONGITUDE = 32.9012
END_OBJECT = IMAGE_MAP_PROJECTION
/* The JPEG2000 image data file associated with this label. */
OBJECT = COMPRESSED_FILE
  FILE_NAME = "H1622_0000_S13.JP2"
  RECORD_TYPE = UNDEFINED
  FILE_RECORDS = UNK
  ENCODING_TYPE = "JP2"
  INTERCHANGE_FORMAT = BINARY
  UNCOMPRESSED_FILE_NAME = "H1622_0000_S13.IMG"
  REQUIRED_STORAGE_BYTES = "133150708"
  ^DESCRIPTION = "JP2INFO.TXT"
END_OBJECT = COMPRESSED_FILE
END
