PDS_VERSION_ID = PDS3
/* FILE DATA ELEMENTS */
RECORD_TYPE = STREAM
/* POINTERS TO DATA OBJECTS */
^COMPRESSED_FILE = "H1624_0000_IR3.JP2"
/* IDENTIFICATION DATA ELEMENTS */
DATA_SET_ID = "MEX-M-HRSC-5-REFDR-MAPPROJECTED-V3.0"
DATA_SET_NAME = "MARS EXPRESS HRSC MAP PROJECTED REFDR V3.0"
DETECTOR_ID = MEX_HRSC_IR
EVENT_TYPE = "MARS-REGIONAL-MAPPING-Vo-Im-Pf"
INSTRUMENT_HOST_ID = MEX
INSTRUMENT_HOST_NAME = "MARS EXPRESS"
INSTRUMENT_ID = HRSC
INSTRUMENT_NAME = "HIGH RESOLUTION STEREO CAMERA"
MISSION_NAME = "MARS EXPRESS"
MISSION_PHASE_NAME = MR_Phase_6
PROCESSING_LEVEL_ID = 3
PRODUCT_CREATION_TIME = 2016-03-09T06:48:11.000Z
PRODUCT_ID = "H1624_0000_IR3.JP2"
RELEASE_ID = 0021
REVISION_ID = 0000
/* QUALITY DATA ELEMENTS */
DATA_QUALITY_ID = 1
DATA_QUALITY_DESC = "Data calculated based on original SPICE kernels"
/* TIME DATA ELEMENTS */
SPACECRAFT_CLOCK_START_COUNT = "1/0062252009.57318"
SPACECRAFT_CLOCK_STOP_COUNT = "1/0062253186.27237"
START_TIME = 2005-04-22T12:15:32.144Z
STOP_TIME = 2005-04-22T12:31:34.022Z
/* ORBITAL DATA ELEMENTS */
ASCENDING_NODE_LONGITUDE = 194.42
MAXIMUM_RESOLUTION = 111.6
FOOTPRINT_POINT_LATITUDE = (68.7997,68.9052,68.8992,67.8714, 66.8196,65.7438,64.6424,64.0819,63.5152 ,62.941,62.36,61.7714,61.1762,60.5734, 59.9636,59.3455,58.7195,58.0857,57.4437 ,56.7923,56.1341,55.4669,54.7915, 54.1061,53.4119,52.7088,51.9963,51.2736 ,50.5415,49.7998,49.0476,48.2859, 47.5134,46.7305,45.9372,45.133,44.3179, 43.4927,42.6555,41.8072,40.948,40.0773, 39.1955,38.3016,37.3974,36.019,35.1028, 34.2106,34.1818,34.2484,34.2837,34.3398 ,34.3955,34.4502,34.4977,34.9392, 35.8012,36.6856,38.0046,38.8727,39.7319 ,40.5813,41.4213,42.2515,43.0729, 43.8842,44.6858,45.4779,46.2605,47.033, 47.7967,48.5506,49.295,50.0299,50.7554, 51.4721,52.1798,52.8785,53.5678,54.2486 ,54.9212,55.5848,56.24,56.887,57.5269, 58.1579,58.7814,59.397,60.0049,60.6052, 61.1983,61.7848,62.3636,62.9356,64.0583 ,65.1555,66.227,67.2729,68.2959, 68.7997)
FOOTPRINT_POINT_LONGITUDE = (194.339,196.303,199.769,200.099, 200.404,200.689,200.954,201.08,201.202, 201.32,201.434,201.545,201.652,201.756, 201.858,201.956,202.052,202.144,202.235 ,202.322,202.408,202.492,202.574, 202.654,202.732,202.808,202.883,202.957 ,203.028,203.099,203.169,203.237, 203.305,203.372,203.438,203.503,203.568 ,203.633,203.698,203.762,203.827, 203.892,203.958,204.024,204.092,204.195 ,204.265,204.333,203.402,202.148, 201.444,200.272,199.02,197.686,196.425, 195.965,196.046,196.122,196.225,196.286 ,196.341,196.389,196.432,196.469, 196.499,196.525,196.545,196.559,196.568 ,196.572,196.571,196.564,196.553, 196.536,196.514,196.488,196.456,196.419 ,196.377,196.33,196.278,196.221,196.159 ,196.091,196.018,195.939,195.855, 195.766,195.67,195.569,195.462,195.349, 195.229,195.102,194.83,194.528,194.195, 193.828,193.425,194.339)
ORBIT_NUMBER = 1624
ORBITAL_ECCENTRICITY = 0.566
ORBITAL_INCLINATION = 86.6
ORBITAL_SEMIMAJOR_AXIS = 8540.23
PERIAPSIS_ALTITUDE = 325.63
PERIAPSIS_ARGUMENT_ANGLE = 74.26
PERIAPSIS_TIME = 2005-04-22T12:04:54.000Z
SPACECRAFT_ORIENTATION = (0.0,1.0,0.0)
^MEX_ORIENTATION_DESC = "MEX_ORIENTATION_DESC.TXT"
SPACECRAFT_POINTING_MODE = NADIR
^MEX_POINTING_DESC = "MEX_POINTING_DESC.TXT"
RIGHT_ASCENSION = -1e+32
DECLINATION = -1e+32
OFFSET_ANGLE = -1e+32
SPACECRAFT_SOLAR_DISTANCE = 2.14021e+08
TARGET_NAME = MARS
/* CAMERA DATA ELEMENTS */
DETECTOR_TEMPERATURE = 17.351
FOCAL_PLANE_TEMPERATURE = 8.3794
INST_CMPRS_NAME = "DISCRETE COSINE TRANSFORMATION (DCT)"
INST_CMPRS_RATIO = 18.111
INST_CMPRS_QUALITY = 0
INST_CMPRS_QUANTZ_TBL_ID = 0
INSTRUMENT_TEMPERATURE = 11.234
LENS_TEMPERATURE = 8.9911
MACROPIXEL_SIZE = 4
MISSING_FRAMES = 0
PIXEL_SUBSAMPLING_FLAG = N
SIGNAL_CHAIN_ID = 2
/* RADIOMETRIC DATA ELEMENTS */
BANDWIDTH = 81.0
CENTER_FILTER_WAVELENGTH = 955.5
RADIANCE_OFFSET = 0.226053
RADIANCE_SCALING_FACTOR = 0.00642101
REFLECTANCE_SCALING_FACTOR = 0.000634511
MEX:REFLECTANCE_OFFSET = 0.0223381
/* IMAGE OBJECT DEFINITIONS */
OBJECT = IMAGE
  INTERCHANGE_FORMAT = BINARY
  LINES = 20694
  LINE_SAMPLES = 3238
  SAMPLE_TYPE = UNSIGNED_INTEGER
  SAMPLE_BITS = 8
  BANDS = 1
  BAND_STORAGE_TYPE = BAND_SEQUENTIAL
  MAXIMUM = 308
  MEAN = 142.341
  MINIMUM = 35
  STANDARD_DEVIATION = 76.7867
END_OBJECT = IMAGE
/* MAP OBJECT DEFINITIONS */
OBJECT = IMAGE_MAP_PROJECTION
  ^DATA_SET_MAP_PROJECTION_CATALOG= "DSMAP.CAT"
  A_AXIS_RADIUS = 3396.0
  B_AXIS_RADIUS = 3396.0
  C_AXIS_RADIUS = 3396.0
  CENTER_LATITUDE = 0.0
  CENTER_LONGITUDE = 199.0
  COORDINATE_SYSTEM_NAME = PLANETOGRAPHIC
  COORDINATE_SYSTEM_TYPE = "BODY-FIXED ROTATING"
  EASTERNMOST_LONGITUDE = 204.333
  FIRST_STANDARD_PARALLEL = "N/A"
  LINE_FIRST_PIXEL = 1
  LINE_LAST_PIXEL = 20694
  LINE_PROJECTION_OFFSET = 40975.875
  MAP_PROJECTION_ROTATION = 0.0
  MAP_PROJECTION_TYPE = SINUSOIDAL
  MAP_RESOLUTION = 592.713803866667
  MAP_SCALE = 0.1
  MAXIMUM_LATITUDE = 68.90519999999999
  MINIMUM_LATITUDE = 34.1818
  POSITIVE_LONGITUDE_DIRECTION = EAST
  REFERENCE_LATITUDE = "N/A"
  REFERENCE_LONGITUDE = "N/A"
  SAMPLE_FIRST_PIXEL = 1
  SAMPLE_LAST_PIXEL = 3238
  SAMPLE_PROJECTION_OFFSET = 1173.375
  SECOND_STANDARD_PARALLEL = "N/A"
  WESTERNMOST_LONGITUDE = 193.425
END_OBJECT = IMAGE_MAP_PROJECTION
/* The JPEG2000 image data file associated with this label. */
OBJECT = COMPRESSED_FILE
  FILE_NAME = "H1624_0000_IR3.JP2"
  RECORD_TYPE = UNDEFINED
  FILE_RECORDS = UNK
  ENCODING_TYPE = "JP2"
  INTERCHANGE_FORMAT = BINARY
  UNCOMPRESSED_FILE_NAME = "H1624_0000_IR3.IMG"
  REQUIRED_STORAGE_BYTES = "67029838"
  ^DESCRIPTION = "JP2INFO.TXT"
END_OBJECT = COMPRESSED_FILE
END
