PDS_VERSION_ID = PDS3
/* FILE DATA ELEMENTS */
RECORD_TYPE = STREAM
/* POINTERS TO DATA OBJECTS */
^COMPRESSED_FILE = "H1624_0002_SR3.JP2"
/* IDENTIFICATION DATA ELEMENTS */
DATA_SET_ID = "MEX-M-HRSC-5-REFDR-MAPPROJECTED-V3.0"
DATA_SET_NAME = "MARS EXPRESS HRSC MAP PROJECTED REFDR V3.0"
DETECTOR_ID = MEX_HRSC_SRC
EVENT_TYPE = "MARS-REGIONAL-MAPPING-Vo-Im-Pf"
INSTRUMENT_HOST_ID = MEX
INSTRUMENT_HOST_NAME = "MARS EXPRESS"
INSTRUMENT_ID = HRSC
INSTRUMENT_NAME = "HIGH RESOLUTION STEREO CAMERA"
MISSION_NAME = "MARS EXPRESS"
MISSION_PHASE_NAME = MR_Phase_6
PROCESSING_LEVEL_ID = 3
PRODUCT_CREATION_TIME = 2016-03-09T06:48:11.000Z
PRODUCT_ID = "H1624_0002_SR3.JP2"
RELEASE_ID = 0021
REVISION_ID = 0000
/* QUALITY DATA ELEMENTS */
DATA_QUALITY_ID = 1
DATA_QUALITY_DESC = "Data calculated based on original SPICE kernels"
/* TIME DATA ELEMENTS */
SPACECRAFT_CLOCK_START_COUNT = "1/0062252009.57318"
SPACECRAFT_CLOCK_STOP_COUNT = "1/0062253186.27237"
IMAGE_TIME = 2005-04-22T12:15:41.815Z
START_TIME = 2005-04-22T12:15:41.812Z
STOP_TIME = 2005-04-22T12:15:41.819Z
/* ORBITAL DATA ELEMENTS */
ASCENDING_NODE_LONGITUDE = 194.42
MAXIMUM_RESOLUTION = 6.163
FOOTPRINT_POINT_LATITUDE = (65.3851,65.3818,65.3769,65.3709, 65.3652,65.3592,65.3552,65.3513,65.3484 ,65.3433,65.3389,65.3331,65.3284,65.325 ,65.3214,65.3161,65.3124,65.3096, 65.3066,65.3021,65.2979,65.2946,65.2919 ,65.2876,65.2845,65.2841,65.2836, 65.2831,65.2828,65.2824,65.2819,65.2814 ,65.2809,65.2805,65.28,65.2795,65.279, 65.2786,65.2781,65.2777,65.2773,65.2768 ,65.2763,65.2758,65.2754,65.2749, 65.2744,65.2739,65.2735,65.2754,65.2817 ,65.285,65.2894,65.2936,65.2963,65.3001 ,65.3048,65.3112,65.3147,65.3187, 65.3227,65.3284,65.3338,65.3372,65.3401 ,65.3435,65.3484,65.3537,65.3583, 65.3644,65.3681,65.3709,65.3744,65.3777 ,65.3781,65.3786,65.3791,65.3796, 65.3799,65.3804,65.3808,65.3814,65.3819 ,65.3822,65.3828,65.3833,65.3838, 65.3842,65.3847,65.3853,65.3859,65.3863 ,65.3868,65.3872,65.3875,65.388,65.3885 ,65.3889,65.3896,65.3851)
FOOTPRINT_POINT_LONGITUDE = (197.699,197.7,197.702,197.703,197.705, 197.706,197.707,197.708,197.709,197.71, 197.712,197.713,197.714,197.715,197.716 ,197.718,197.719,197.719,197.72,197.722 ,197.723,197.724,197.724,197.725, 197.716,197.706,197.696,197.686,197.679 ,197.671,197.659,197.649,197.639, 197.629,197.619,197.609,197.599,197.589 ,197.579,197.572,197.562,197.552, 197.542,197.532,197.522,197.512,197.502 ,197.492,197.482,197.473,197.471,197.47 ,197.469,197.468,197.467,197.466, 197.465,197.463,197.462,197.461,197.46, 197.458,197.457,197.456,197.455,197.454 ,197.452,197.451,197.45,197.448,197.447 ,197.446,197.445,197.445,197.455, 197.465,197.475,197.484,197.492,197.502 ,197.509,197.522,197.532,197.539, 197.552,197.562,197.572,197.582,197.592 ,197.604,197.617,197.627,197.637, 197.644,197.652,197.662,197.672,197.682 ,197.697,197.699)
ORBIT_NUMBER = 1624
ORBITAL_ECCENTRICITY = 0.566
ORBITAL_INCLINATION = 86.6
ORBITAL_SEMIMAJOR_AXIS = 8540.23
PERIAPSIS_ALTITUDE = 325.63
PERIAPSIS_ARGUMENT_ANGLE = 74.26
PERIAPSIS_TIME = 2005-04-22T12:04:54.000Z
SPACECRAFT_ORIENTATION = (0.0,1.0,0.0)
^MEX_ORIENTATION_DESC = "MEX_ORIENTATION_DESC.TXT"
SPACECRAFT_POINTING_MODE = NADIR
^MEX_POINTING_DESC = "MEX_POINTING_DESC.TXT"
RIGHT_ASCENSION = -1e+32
DECLINATION = -1e+32
OFFSET_ANGLE = -1e+32
SPACECRAFT_SOLAR_DISTANCE = 2.14021e+08
TARGET_NAME = MARS
/* CAMERA DATA ELEMENTS */
BUFFER_MODE_ID = BUFFER_8
EXPOSURE_DURATION = 7.056
INST_CMPRS_NAME = NONE
INST_CMPRS_RATIO = 1.0
INST_CMPRS_QUALITY = -2147483648
INST_CMPRS_QUANTZ_TBL_ID = -2147483648
INSTRUMENT_TEMPERATURE = 8.18182
MISSING_FRAMES = 0
START_BIT = 0
/* RADIOMETRIC DATA ELEMENTS */
BANDWIDTH = 250.0
CENTER_FILTER_WAVELENGTH = 600.0
RADIANCE_OFFSET = -9.99e+31
RADIANCE_SCALING_FACTOR = -9.99e+31
REFLECTANCE_SCALING_FACTOR = -9.99e+31
MEX:REFLECTANCE_OFFSET = -9.99e+31
/* IMAGE OBJECT DEFINITIONS */
OBJECT = IMAGE
  INTERCHANGE_FORMAT = BINARY
  LINES = 1458
  LINE_SAMPLES = 1461
  SAMPLE_TYPE = UNSIGNED_INTEGER
  SAMPLE_BITS = 8
  BANDS = 1
  BAND_STORAGE_TYPE = BAND_SEQUENTIAL
  MAXIMUM = 2873
  MEAN = 2579.34
  MINIMUM = 2166
  STANDARD_DEVIATION = 61.9445
END_OBJECT = IMAGE
/* MAP OBJECT DEFINITIONS */
OBJECT = IMAGE_MAP_PROJECTION
  ^DATA_SET_MAP_PROJECTION_CATALOG= "DSMAP.CAT"
  A_AXIS_RADIUS = 3396.19
  B_AXIS_RADIUS = 3396.19
  C_AXIS_RADIUS = 3396.19
  CENTER_LATITUDE = 0.0
  CENTER_LONGITUDE = 198.0
  COORDINATE_SYSTEM_NAME = PLANETOGRAPHIC
  COORDINATE_SYSTEM_TYPE = "BODY-FIXED ROTATING"
  EASTERNMOST_LONGITUDE = 197.725
  FIRST_STANDARD_PARALLEL = "N/A"
  LINE_FIRST_PIXEL = 1
  LINE_LAST_PIXEL = 1458
  LINE_PROJECTION_OFFSET = 773690.0
  MAP_PROJECTION_ROTATION = 0.0
  MAP_PROJECTION_TYPE = SINUSOIDAL
  MAP_RESOLUTION = 11854.9393024378
  MAP_SCALE = 0.005
  MAXIMUM_LATITUDE = 65.3896
  MINIMUM_LATITUDE = 65.2735
  POSITIVE_LONGITUDE_DIRECTION = EAST
  REFERENCE_LATITUDE = "N/A"
  REFERENCE_LONGITUDE = "N/A"
  SAMPLE_FIRST_PIXEL = 1
  SAMPLE_LAST_PIXEL = 1461
  SAMPLE_PROJECTION_OFFSET = 2771.0
  SECOND_STANDARD_PARALLEL = "N/A"
  WESTERNMOST_LONGITUDE = 197.445
END_OBJECT = IMAGE_MAP_PROJECTION
/* The JPEG2000 image data file associated with this label. */
OBJECT = COMPRESSED_FILE
  FILE_NAME = "H1624_0002_SR3.JP2"
  RECORD_TYPE = UNDEFINED
  FILE_RECORDS = UNK
  ENCODING_TYPE = "JP2"
  INTERCHANGE_FORMAT = BINARY
  UNCOMPRESSED_FILE_NAME = "H1624_0002_SR3.IMG"
  REQUIRED_STORAGE_BYTES = "2150592"
  ^DESCRIPTION = "JP2INFO.TXT"
END_OBJECT = COMPRESSED_FILE
END
